BEGIN:VCALENDAR
VERSION:2.0
PRODID:-//LBC Worship - ECPv6.15.20//NONSGML v1.0//EN
CALSCALE:GREGORIAN
METHOD:PUBLISH
X-WR-CALNAME:LBC Worship
X-ORIGINAL-URL:https://lbcworship.org
X-WR-CALDESC:Events for LBC Worship
REFRESH-INTERVAL;VALUE=DURATION:PT1H
X-Robots-Tag:noindex
X-PUBLISHED-TTL:PT1H
BEGIN:VTIMEZONE
TZID:America/New_York
BEGIN:DAYLIGHT
TZOFFSETFROM:-0500
TZOFFSETTO:-0400
TZNAME:EDT
DTSTART:20230312T070000
END:DAYLIGHT
BEGIN:STANDARD
TZOFFSETFROM:-0400
TZOFFSETTO:-0500
TZNAME:EST
DTSTART:20231105T060000
END:STANDARD
BEGIN:DAYLIGHT
TZOFFSETFROM:-0500
TZOFFSETTO:-0400
TZNAME:EDT
DTSTART:20240310T070000
END:DAYLIGHT
BEGIN:STANDARD
TZOFFSETFROM:-0400
TZOFFSETTO:-0500
TZNAME:EST
DTSTART:20241103T060000
END:STANDARD
BEGIN:DAYLIGHT
TZOFFSETFROM:-0500
TZOFFSETTO:-0400
TZNAME:EDT
DTSTART:20250309T070000
END:DAYLIGHT
BEGIN:STANDARD
TZOFFSETFROM:-0400
TZOFFSETTO:-0500
TZNAME:EST
DTSTART:20251102T060000
END:STANDARD
END:VTIMEZONE
BEGIN:VEVENT
DTSTART;TZID=America/New_York:20240505T093000
DTEND;TZID=America/New_York:20240505T095000
DTSTAMP:20260424T231154
CREATED:20240118T180655Z
LAST-MODIFIED:20240118T180655Z
UID:10001422-1714901400-1714902600@lbcworship.org
SUMMARY:Sunday Morning Prayer Meeting
DESCRIPTION:Gather in the conference room at 9:30am each Sunday for a few moments of prayer together before service begins.
URL:https://lbcworship.org/event/sunday-morning-prayer-meeting/2024-05-05/
LOCATION:Lighthouse Baptist Church (Youth Building)\, 1140 BH Parrish Rd.\, Benson\, NC\, 27504\, United States
ATTACH;FMTTYPE=image/png:https://lbcworship.org/wp-content/uploads/2023/09/Sunday-Morning-Prayer-Meeting-.png
GEO:35.5384515;-78.5626116
X-APPLE-STRUCTURED-LOCATION;VALUE=URI;X-ADDRESS=Lighthouse Baptist Church (Youth Building) 1140 BH Parrish Rd. Benson NC 27504 United States;X-APPLE-RADIUS=500;X-TITLE=1140 BH Parrish Rd.:geo:-78.5626116,35.5384515
END:VEVENT
BEGIN:VEVENT
DTSTART;TZID=America/New_York:20240505T100000
DTEND;TZID=America/New_York:20240505T133000
DTSTAMP:20260424T231154
CREATED:20240321T172811Z
LAST-MODIFIED:20240321T172811Z
UID:10001542-1714903200-1714915800@lbcworship.org
SUMMARY:Missions Sunday: The Williams Family
DESCRIPTION:Join us for Missions Sunday as we highlight one of LBC’s supported missionary teams: The Williams Family. Matt will share a special message from the Word of God and about the family’s upcoming mission in Brazil. Join us after service for a time of fellowship\, a meal\, and a chance to speak with Matt & Joy more about Brazil. Please sign-up at the link below or in the cafe if you plan to attend the lunch so that we know how many to prepare food for. \n>>Online Registration<<
URL:https://lbcworship.org/event/missions-sunday-the-williams-family/
LOCATION:Lighthouse Baptist Church\, 1140 BH Parrish Rd\, Benson\, NC\, 27504\, United States
ATTACH;FMTTYPE=image/png:https://lbcworship.org/wp-content/uploads/2024/03/Mission-Sunday-with-the-Williams-Family-1.png
GEO:35.5384515;-78.5626116
X-APPLE-STRUCTURED-LOCATION;VALUE=URI;X-ADDRESS=Lighthouse Baptist Church 1140 BH Parrish Rd Benson NC 27504 United States;X-APPLE-RADIUS=500;X-TITLE=1140 BH Parrish Rd:geo:-78.5626116,35.5384515
END:VEVENT
END:VCALENDAR