BEGIN:VCALENDAR
VERSION:2.0
PRODID:-//LBC Worship - ECPv6.15.20//NONSGML v1.0//EN
CALSCALE:GREGORIAN
METHOD:PUBLISH
X-WR-CALNAME:LBC Worship
X-ORIGINAL-URL:https://lbcworship.org
X-WR-CALDESC:Events for LBC Worship
REFRESH-INTERVAL;VALUE=DURATION:PT1H
X-Robots-Tag:noindex
X-PUBLISHED-TTL:PT1H
BEGIN:VTIMEZONE
TZID:America/New_York
BEGIN:DAYLIGHT
TZOFFSETFROM:-0500
TZOFFSETTO:-0400
TZNAME:EDT
DTSTART:20230312T070000
END:DAYLIGHT
BEGIN:STANDARD
TZOFFSETFROM:-0400
TZOFFSETTO:-0500
TZNAME:EST
DTSTART:20231105T060000
END:STANDARD
BEGIN:DAYLIGHT
TZOFFSETFROM:-0500
TZOFFSETTO:-0400
TZNAME:EDT
DTSTART:20240310T070000
END:DAYLIGHT
BEGIN:STANDARD
TZOFFSETFROM:-0400
TZOFFSETTO:-0500
TZNAME:EST
DTSTART:20241103T060000
END:STANDARD
BEGIN:DAYLIGHT
TZOFFSETFROM:-0500
TZOFFSETTO:-0400
TZNAME:EDT
DTSTART:20250309T070000
END:DAYLIGHT
BEGIN:STANDARD
TZOFFSETFROM:-0400
TZOFFSETTO:-0500
TZNAME:EST
DTSTART:20251102T060000
END:STANDARD
END:VTIMEZONE
BEGIN:VEVENT
DTSTART;TZID=America/New_York:20240929T093000
DTEND;TZID=America/New_York:20240929T095000
DTSTAMP:20260424T170900
CREATED:20240118T180655Z
LAST-MODIFIED:20240118T180655Z
UID:10001443-1727602200-1727603400@lbcworship.org
SUMMARY:Sunday Morning Prayer Meeting
DESCRIPTION:Gather in the conference room at 9:30am each Sunday for a few moments of prayer together before service begins.
URL:https://lbcworship.org/event/sunday-morning-prayer-meeting/2024-09-29/
LOCATION:Lighthouse Baptist Church (Youth Building)\, 1140 BH Parrish Rd.\, Benson\, NC\, 27504\, United States
ATTACH;FMTTYPE=image/png:https://lbcworship.org/wp-content/uploads/2023/09/Sunday-Morning-Prayer-Meeting-.png
GEO:35.5384515;-78.5626116
X-APPLE-STRUCTURED-LOCATION;VALUE=URI;X-ADDRESS=Lighthouse Baptist Church (Youth Building) 1140 BH Parrish Rd. Benson NC 27504 United States;X-APPLE-RADIUS=500;X-TITLE=1140 BH Parrish Rd.:geo:-78.5626116,35.5384515
END:VEVENT
BEGIN:VEVENT
DTSTART;TZID=America/New_York:20240929T113000
DTEND;TZID=America/New_York:20240929T130000
DTSTAMP:20260424T170900
CREATED:20240831T175356Z
LAST-MODIFIED:20240831T175356Z
UID:10001664-1727609400-1727614800@lbcworship.org
SUMMARY:New Families' Lunch with the Leaders
DESCRIPTION:We invite all our new families who would like more information about LBC and membership at LBC to join our leadership team for lunch immediately following service on Sunday\, September 29. Please sign-up using the form at the link below or in the café by 9/22 if you plan to attend. \n>>Online Registration<<
URL:https://lbcworship.org/event/new-families-lunch-with-the-leaders/
LOCATION:Lighthouse Baptist Church (Youth Building)\, 1140 BH Parrish Rd.\, Benson\, NC\, 27504\, United States
ATTACH;FMTTYPE=image/png:https://lbcworship.org/wp-content/uploads/2024/08/Lunch-with-the-Leaders.png
GEO:35.5384515;-78.5626116
X-APPLE-STRUCTURED-LOCATION;VALUE=URI;X-ADDRESS=Lighthouse Baptist Church (Youth Building) 1140 BH Parrish Rd. Benson NC 27504 United States;X-APPLE-RADIUS=500;X-TITLE=1140 BH Parrish Rd.:geo:-78.5626116,35.5384515
END:VEVENT
END:VCALENDAR