BEGIN:VCALENDAR
VERSION:2.0
PRODID:-//LBC Worship - ECPv6.15.20//NONSGML v1.0//EN
CALSCALE:GREGORIAN
METHOD:PUBLISH
X-ORIGINAL-URL:https://lbcworship.org
X-WR-CALDESC:Events for LBC Worship
REFRESH-INTERVAL;VALUE=DURATION:PT1H
X-Robots-Tag:noindex
X-PUBLISHED-TTL:PT1H
BEGIN:VTIMEZONE
TZID:America/New_York
BEGIN:DAYLIGHT
TZOFFSETFROM:-0500
TZOFFSETTO:-0400
TZNAME:EDT
DTSTART:20230312T070000
END:DAYLIGHT
BEGIN:STANDARD
TZOFFSETFROM:-0400
TZOFFSETTO:-0500
TZNAME:EST
DTSTART:20231105T060000
END:STANDARD
BEGIN:DAYLIGHT
TZOFFSETFROM:-0500
TZOFFSETTO:-0400
TZNAME:EDT
DTSTART:20240310T070000
END:DAYLIGHT
BEGIN:STANDARD
TZOFFSETFROM:-0400
TZOFFSETTO:-0500
TZNAME:EST
DTSTART:20241103T060000
END:STANDARD
BEGIN:DAYLIGHT
TZOFFSETFROM:-0500
TZOFFSETTO:-0400
TZNAME:EDT
DTSTART:20250309T070000
END:DAYLIGHT
BEGIN:STANDARD
TZOFFSETFROM:-0400
TZOFFSETTO:-0500
TZNAME:EST
DTSTART:20251102T060000
END:STANDARD
END:VTIMEZONE
BEGIN:VEVENT
DTSTART;TZID=America/New_York:20241201T093000
DTEND;TZID=America/New_York:20241201T095000
DTSTAMP:20260424T122456
CREATED:20240118T180655Z
LAST-MODIFIED:20240118T180655Z
UID:10001452-1733045400-1733046600@lbcworship.org
SUMMARY:Sunday Morning Prayer Meeting
DESCRIPTION:Gather in the conference room at 9:30am each Sunday for a few moments of prayer together before service begins.
URL:https://lbcworship.org/event/sunday-morning-prayer-meeting/2024-12-01/
LOCATION:Lighthouse Baptist Church (Youth Building)\, 1140 BH Parrish Rd.\, Benson\, NC\, 27504\, United States
ATTACH;FMTTYPE=image/png:https://lbcworship.org/wp-content/uploads/2023/09/Sunday-Morning-Prayer-Meeting-.png
GEO:35.5384515;-78.5626116
X-APPLE-STRUCTURED-LOCATION;VALUE=URI;X-ADDRESS=Lighthouse Baptist Church (Youth Building) 1140 BH Parrish Rd. Benson NC 27504 United States;X-APPLE-RADIUS=500;X-TITLE=1140 BH Parrish Rd.:geo:-78.5626116,35.5384515
END:VEVENT
BEGIN:VEVENT
DTSTART;TZID=America/New_York:20241201T100000
DTEND;TZID=America/New_York:20241201T143000
DTSTAMP:20260424T122456
CREATED:20240711T192222Z
LAST-MODIFIED:20241019T181247Z
UID:10001624-1733047200-1733063400@lbcworship.org
SUMMARY:LBC's Annual CHRISTmas Chest Service & Celebration
DESCRIPTION:Join us on December 1 as we kick off the CHRISTmas season! \nThe morning will start with our CHRISTmas Chest Service & Offering at 10am.\nThis is our yearly sacrificial offering. We are asking our families to pray about how they can sacrificially give to God’s Work above our regular offering. This year’s offering will go to Hurricane Helene Relief Efforts in WNC. \nImmediately following service\, we will have a meal catered by Flash BBQ.\nMeals are $5/person and will include a plate with brisket\, BBQ chicken\, baked beans\, boiled potatoes\, slaw\, and your choice of tea\, lemonade\, or water.\nPlease pay at the time of registration.\nYou can register in the cafe now through November 17 if you plan to attend. \nAfter we eat\, we will have our Annual Church Business Meeting.
URL:https://lbcworship.org/event/lbcs-annual-christmas-chest-service-celebration/
LOCATION:Lighthouse Baptist Church\, 1140 BH Parrish Rd\, Benson\, NC\, 27504\, United States
ATTACH;FMTTYPE=image/png:https://lbcworship.org/wp-content/uploads/2024/07/CHRISTmas-Chest-Celebration.png
GEO:35.5384515;-78.5626116
X-APPLE-STRUCTURED-LOCATION;VALUE=URI;X-ADDRESS=Lighthouse Baptist Church 1140 BH Parrish Rd Benson NC 27504 United States;X-APPLE-RADIUS=500;X-TITLE=1140 BH Parrish Rd:geo:-78.5626116,35.5384515
END:VEVENT
END:VCALENDAR