BEGIN:VCALENDAR
VERSION:2.0
PRODID:-//LBC Worship - ECPv6.15.20//NONSGML v1.0//EN
CALSCALE:GREGORIAN
METHOD:PUBLISH
X-WR-CALNAME:LBC Worship
X-ORIGINAL-URL:https://lbcworship.org
X-WR-CALDESC:Events for LBC Worship
REFRESH-INTERVAL;VALUE=DURATION:PT1H
X-Robots-Tag:noindex
X-PUBLISHED-TTL:PT1H
BEGIN:VTIMEZONE
TZID:America/New_York
BEGIN:DAYLIGHT
TZOFFSETFROM:-0500
TZOFFSETTO:-0400
TZNAME:EDT
DTSTART:20230312T070000
END:DAYLIGHT
BEGIN:STANDARD
TZOFFSETFROM:-0400
TZOFFSETTO:-0500
TZNAME:EST
DTSTART:20231105T060000
END:STANDARD
BEGIN:DAYLIGHT
TZOFFSETFROM:-0500
TZOFFSETTO:-0400
TZNAME:EDT
DTSTART:20240310T070000
END:DAYLIGHT
BEGIN:STANDARD
TZOFFSETFROM:-0400
TZOFFSETTO:-0500
TZNAME:EST
DTSTART:20241103T060000
END:STANDARD
BEGIN:DAYLIGHT
TZOFFSETFROM:-0500
TZOFFSETTO:-0400
TZNAME:EDT
DTSTART:20250309T070000
END:DAYLIGHT
BEGIN:STANDARD
TZOFFSETFROM:-0400
TZOFFSETTO:-0500
TZNAME:EST
DTSTART:20251102T060000
END:STANDARD
END:VTIMEZONE
BEGIN:VEVENT
DTSTART;TZID=America/New_York:20241218T183000
DTEND;TZID=America/New_York:20241218T200000
DTSTAMP:20260424T122430
CREATED:20241127T142856Z
LAST-MODIFIED:20241127T142929Z
UID:10002156-1734546600-1734552000@lbcworship.org
SUMMARY:Youth Group: Annual Christmas Party
DESCRIPTION:Youth in grades 6-12: Come dressed in your favorite holiday outfit and join us for our Annual Christmas Party at 6:30pm in the Youth Room! We will have a Bible lesson\, snacks\, Christmas games\, and a White Elephant Gift Exchange! \nBring a wrapped gift with you for the White Elephant\, gift can be something you have around the house that is gently used/ready for a re-gift\, or you can purchase something new.\nIf you buy new\, please do not spend more than $15.  \n—————————— \nAll youth in grades 6 through 12\, come join us upstairs in the Youth Building every Wednesday evening at 6:30pm for Music\, Friends\, Discipleship\, Worship & Games! \nNew to Youth Group? Fill out an online registration form >>here<<!
URL:https://lbcworship.org/event/youth-group-annual-christmas-party/
LOCATION:Lighthouse Baptist Church (Youth Building)\, 1140 BH Parrish Rd.\, Benson\, NC\, 27504\, United States
CATEGORIES:Youth Group (6th-12th Grade)
ATTACH;FMTTYPE=image/png:https://lbcworship.org/wp-content/uploads/2024/11/Youth-Group-Christmas-Party-1200-x-600-px.png
GEO:35.5384515;-78.5626116
X-APPLE-STRUCTURED-LOCATION;VALUE=URI;X-ADDRESS=Lighthouse Baptist Church (Youth Building) 1140 BH Parrish Rd. Benson NC 27504 United States;X-APPLE-RADIUS=500;X-TITLE=1140 BH Parrish Rd.:geo:-78.5626116,35.5384515
END:VEVENT
BEGIN:VEVENT
DTSTART;TZID=America/New_York:20241218T184500
DTEND;TZID=America/New_York:20241218T200000
DTSTAMP:20260424T122430
CREATED:20241127T143251Z
LAST-MODIFIED:20241127T143251Z
UID:10002157-1734547500-1734552000@lbcworship.org
SUMMARY:Kudzu Kidz
DESCRIPTION:It’s Theme Night! Come dressed in your favorite Christmas outfit for our Christmas Spirit night!!\nJoin us every Wednesday evening from 6:45pm-8pm as we cover our world with the Gospel at Kudzu Kidz! Doors open for drop off at 6:30pm. \nKids learn about the Gospel of Jesus Christ every week in a fun and exciting environment with skits\, Bible lessons\, games\, and music! Plus fun monthly theme nights and quarterly Bible challenges! \nNew to attending? Register your child at https://bit.ly/LBCKidsWedNightReg \nKudzu Kidz will follow the Johnston County School System for holidays and closures. \nList of Monthly Theme Nights:\n10/30: Costume Party – Wear your Halloween costume or other pumpkin attire for seasonal fun.\n11/20: Turkey Shoot & Pizza Party – Dress like a turkey or hunter for this fall themed night and enjoy a “Friendsgiving” Pizza Party with all Kudzu Kidz!\n12/18: Christmas Spirit – Show off your Christmas spirit by dressing in your favorite Christmas outfits. Ugly sweater\, Christmas trees\, angels\, pink bunny pajamas\, Wise Men\, camels\, have fun!\n1/15: Decade Deck-Out – Dress in your favorite outfits from yester-years.\n2/12: Show Your Love – Wear your favorite Valentine’s colors or hearts to show your love for others.\n3/12: March Madness – Dress in your favorite basketball clothing or just have fun and mix up your outfit so that everyone thinks you are “mad” for wearing that out of the house!\n4/9: Easter Eggs – Let’s see who can look the most like an East egg by wearing all of the spring colors.\n5/28: Beach Party – Let’s end the year with a Luau! Wear your best beach party ensemble as we get ready to break for the summer.
URL:https://lbcworship.org/event/kudzu-kidz-4/
LOCATION:Lighthouse Baptist Church (Youth Building)\, 1140 BH Parrish Rd.\, Benson\, NC\, 27504\, United States
CATEGORIES:LBC Kids (PreK & Elementary)
ATTACH;FMTTYPE=image/png:https://lbcworship.org/wp-content/uploads/2024/11/Kudzu-Dec-Theme.png
GEO:35.5384515;-78.5626116
X-APPLE-STRUCTURED-LOCATION;VALUE=URI;X-ADDRESS=Lighthouse Baptist Church (Youth Building) 1140 BH Parrish Rd. Benson NC 27504 United States;X-APPLE-RADIUS=500;X-TITLE=1140 BH Parrish Rd.:geo:-78.5626116,35.5384515
END:VEVENT
BEGIN:VEVENT
DTSTART;TZID=America/New_York:20241218T190000
DTEND;TZID=America/New_York:20241218T200000
DTSTAMP:20260424T122430
CREATED:20240313T150923Z
LAST-MODIFIED:20241127T141551Z
UID:10001484-1734548400-1734552000@lbcworship.org
SUMMARY:Wednesday Night Adult Bible Study
DESCRIPTION:Join us each week as we take a closer look at the scriptures from the Sunday service during our Wednesday Night Adult Bible Study. \nThis group meets every Wednesday from 7:00pm until 8:00pm in the sanctuary. \nStudy sheets for the week can be picked up in the café on Sunday mornings.
URL:https://lbcworship.org/event/wednesday-night-adult-bible-study-8-2-2-4-2/2024-12-18/
LOCATION:Lighthouse Baptist Church\, 1140 BH Parrish Rd\, Benson\, NC\, 27504\, United States
CATEGORIES:Bible Study
ATTACH;FMTTYPE=image/png:https://lbcworship.org/wp-content/uploads/2023/08/Wed-Bible-Study-Oct-2023.png
GEO:35.5384515;-78.5626116
X-APPLE-STRUCTURED-LOCATION;VALUE=URI;X-ADDRESS=Lighthouse Baptist Church 1140 BH Parrish Rd Benson NC 27504 United States;X-APPLE-RADIUS=500;X-TITLE=1140 BH Parrish Rd:geo:-78.5626116,35.5384515
END:VEVENT
END:VCALENDAR