BEGIN:VCALENDAR
VERSION:2.0
PRODID:-//LBC Worship - ECPv6.15.20//NONSGML v1.0//EN
CALSCALE:GREGORIAN
METHOD:PUBLISH
X-ORIGINAL-URL:https://lbcworship.org
X-WR-CALDESC:Events for LBC Worship
REFRESH-INTERVAL;VALUE=DURATION:PT1H
X-Robots-Tag:noindex
X-PUBLISHED-TTL:PT1H
BEGIN:VTIMEZONE
TZID:America/New_York
BEGIN:DAYLIGHT
TZOFFSETFROM:-0500
TZOFFSETTO:-0400
TZNAME:EDT
DTSTART:20240310T070000
END:DAYLIGHT
BEGIN:STANDARD
TZOFFSETFROM:-0400
TZOFFSETTO:-0500
TZNAME:EST
DTSTART:20241103T060000
END:STANDARD
BEGIN:DAYLIGHT
TZOFFSETFROM:-0500
TZOFFSETTO:-0400
TZNAME:EDT
DTSTART:20250309T070000
END:DAYLIGHT
BEGIN:STANDARD
TZOFFSETFROM:-0400
TZOFFSETTO:-0500
TZNAME:EST
DTSTART:20251102T060000
END:STANDARD
BEGIN:DAYLIGHT
TZOFFSETFROM:-0500
TZOFFSETTO:-0400
TZNAME:EDT
DTSTART:20260308T070000
END:DAYLIGHT
BEGIN:STANDARD
TZOFFSETFROM:-0400
TZOFFSETTO:-0500
TZNAME:EST
DTSTART:20261101T060000
END:STANDARD
END:VTIMEZONE
BEGIN:VEVENT
DTSTART;TZID=America/New_York:20250119T093000
DTEND;TZID=America/New_York:20250119T095000
DTSTAMP:20260424T105441
CREATED:20250109T172558Z
LAST-MODIFIED:20250109T172603Z
UID:10001459-1737279000-1737280200@lbcworship.org
SUMMARY:Sunday Morning Prayer Meeting
DESCRIPTION:Gather in the conference room at 9:30am each Sunday for a time of prayer together before service begins.
URL:https://lbcworship.org/event/sunday-morning-prayer-meeting-2/2025-01-19/
LOCATION:Lighthouse Baptist Church (Youth Building)\, 1140 BH Parrish Rd.\, Benson\, NC\, 27504\, United States
ATTACH;FMTTYPE=image/png:https://lbcworship.org/wp-content/uploads/2024/01/Sunday-Morning-Prayer-Meeting-1.png
GEO:35.5384515;-78.5626116
X-APPLE-STRUCTURED-LOCATION;VALUE=URI;X-ADDRESS=Lighthouse Baptist Church (Youth Building) 1140 BH Parrish Rd. Benson NC 27504 United States;X-APPLE-RADIUS=500;X-TITLE=1140 BH Parrish Rd.:geo:-78.5626116,35.5384515
END:VEVENT
BEGIN:VEVENT
DTSTART;TZID=America/New_York:20250119T100000
DTEND;TZID=America/New_York:20250119T113000
DTSTAMP:20260424T105441
CREATED:20241219T165230Z
LAST-MODIFIED:20241219T170532Z
UID:10002159-1737280800-1737286200@lbcworship.org
SUMMARY:Baptism Sunday
DESCRIPTION:We are excited for our next Baptism Sunday\, taking place on Sunday\, January 19\, 2025 during morning Worship. \nIf you have recently accepted Christ as your Savior\, or have never received a Believer’s Baptism\, and would like to be baptized on January 19\, please speak with Pastor Tim or Pastor Turner by Sunday\, January 12. \nFill out our online form for one of our pastors to reach out to you about being baptized by clicking here.
URL:https://lbcworship.org/event/baptism-sunday/
LOCATION:Lighthouse Baptist Church\, 1140 BH Parrish Rd\, Benson\, NC\, 27504\, United States
ATTACH;FMTTYPE=image/png:https://lbcworship.org/wp-content/uploads/2024/12/Baptism-Sunday.png
GEO:35.5384515;-78.5626116
X-APPLE-STRUCTURED-LOCATION;VALUE=URI;X-ADDRESS=Lighthouse Baptist Church 1140 BH Parrish Rd Benson NC 27504 United States;X-APPLE-RADIUS=500;X-TITLE=1140 BH Parrish Rd:geo:-78.5626116,35.5384515
END:VEVENT
END:VCALENDAR