BEGIN:VCALENDAR
VERSION:2.0
PRODID:-//LBC Worship - ECPv6.15.20//NONSGML v1.0//EN
CALSCALE:GREGORIAN
METHOD:PUBLISH
X-WR-CALNAME:LBC Worship
X-ORIGINAL-URL:https://lbcworship.org
X-WR-CALDESC:Events for LBC Worship
REFRESH-INTERVAL;VALUE=DURATION:PT1H
X-Robots-Tag:noindex
X-PUBLISHED-TTL:PT1H
BEGIN:VTIMEZONE
TZID:America/New_York
BEGIN:DAYLIGHT
TZOFFSETFROM:-0500
TZOFFSETTO:-0400
TZNAME:EDT
DTSTART:20240310T070000
END:DAYLIGHT
BEGIN:STANDARD
TZOFFSETFROM:-0400
TZOFFSETTO:-0500
TZNAME:EST
DTSTART:20241103T060000
END:STANDARD
BEGIN:DAYLIGHT
TZOFFSETFROM:-0500
TZOFFSETTO:-0400
TZNAME:EDT
DTSTART:20250309T070000
END:DAYLIGHT
BEGIN:STANDARD
TZOFFSETFROM:-0400
TZOFFSETTO:-0500
TZNAME:EST
DTSTART:20251102T060000
END:STANDARD
BEGIN:DAYLIGHT
TZOFFSETFROM:-0500
TZOFFSETTO:-0400
TZNAME:EDT
DTSTART:20260308T070000
END:DAYLIGHT
BEGIN:STANDARD
TZOFFSETFROM:-0400
TZOFFSETTO:-0500
TZNAME:EST
DTSTART:20261101T060000
END:STANDARD
END:VTIMEZONE
BEGIN:VEVENT
DTSTART;TZID=America/New_York:20250329T160000
DTEND;TZID=America/New_York:20250329T193000
DTSTAMP:20260424T074336
CREATED:20250215T165117Z
LAST-MODIFIED:20250301T174948Z
UID:10002292-1743264000-1743276600@lbcworship.org
SUMMARY:LBC's Outdoor Bonanza
DESCRIPTION:Our Annual Outdoor Bonanza and Wild Game Supper is back! \nInvite your friends & neighbors and join us starting at 4pm on Saturday\, March 29 for our kids’ activities including a BB Gun Shoot and Fish Casting! \nThen get ready to eat at our Wild Game Covered Dish meal at 5:15pm. \nThere will be door prizes and giveaways\, a devotional message\, and lots of fellowship! \nPlease sign up in the café or online by Sunday\, March 23 if you plan to attend and let us know if you will bring a wild game dish\, or a side/dessert to share.\n<<Click Here for Online Registration>> \nWe are also collecting donations for door prizes; we would like to be able to make sure every child that attends goes home with something special. The collection box for door prize donations is at the back of the sanctuary. \nSee David Webb with any questions or to offer your help!
URL:https://lbcworship.org/event/lbcs-outdoor-bonanza/
LOCATION:Lighthouse Baptist Church\, 1140 BH Parrish Rd\, Benson\, NC\, 27504\, United States
CATEGORIES:Family Events
ATTACH;FMTTYPE=image/png:https://lbcworship.org/wp-content/uploads/2025/03/Outdoor-Bonanza-2025-Updated.png
GEO:35.5384515;-78.5626116
X-APPLE-STRUCTURED-LOCATION;VALUE=URI;X-ADDRESS=Lighthouse Baptist Church 1140 BH Parrish Rd Benson NC 27504 United States;X-APPLE-RADIUS=500;X-TITLE=1140 BH Parrish Rd:geo:-78.5626116,35.5384515
END:VEVENT
END:VCALENDAR