BEGIN:VCALENDAR
VERSION:2.0
PRODID:-//LBC Worship - ECPv6.15.20//NONSGML v1.0//EN
CALSCALE:GREGORIAN
METHOD:PUBLISH
X-ORIGINAL-URL:https://lbcworship.org
X-WR-CALDESC:Events for LBC Worship
REFRESH-INTERVAL;VALUE=DURATION:PT1H
X-Robots-Tag:noindex
X-PUBLISHED-TTL:PT1H
BEGIN:VTIMEZONE
TZID:America/New_York
BEGIN:DAYLIGHT
TZOFFSETFROM:-0500
TZOFFSETTO:-0400
TZNAME:EDT
DTSTART:20240310T070000
END:DAYLIGHT
BEGIN:STANDARD
TZOFFSETFROM:-0400
TZOFFSETTO:-0500
TZNAME:EST
DTSTART:20241103T060000
END:STANDARD
BEGIN:DAYLIGHT
TZOFFSETFROM:-0500
TZOFFSETTO:-0400
TZNAME:EDT
DTSTART:20250309T070000
END:DAYLIGHT
BEGIN:STANDARD
TZOFFSETFROM:-0400
TZOFFSETTO:-0500
TZNAME:EST
DTSTART:20251102T060000
END:STANDARD
BEGIN:DAYLIGHT
TZOFFSETFROM:-0500
TZOFFSETTO:-0400
TZNAME:EDT
DTSTART:20260308T070000
END:DAYLIGHT
BEGIN:STANDARD
TZOFFSETFROM:-0400
TZOFFSETTO:-0500
TZNAME:EST
DTSTART:20261101T060000
END:STANDARD
END:VTIMEZONE
BEGIN:VEVENT
DTSTART;TZID=America/New_York:20250514T183000
DTEND;TZID=America/New_York:20250514T200000
DTSTAMP:20260424T043341
CREATED:20250109T172712Z
LAST-MODIFIED:20250928T010407Z
UID:10002053-1747247400-1747252800@lbcworship.org
SUMMARY:Youth Group
DESCRIPTION:Youth in 6th grade through 12th grade meet in the Youth Room\, located upstairs in the Youth Building\, Wednesdays from 6:30pm-8pm. Join us each week for a time of music\, fellowship\, Bible study and games. \nOur Youth Group is currently working through the study “Experiencing God for Teens” by Henry & Richard Blackaby. \nNew to Youth Group? Fill out an online registration form >>here<<!
URL:https://lbcworship.org/event/youth-group-2-2-2-2-2/2025-05-14/
LOCATION:Lighthouse Baptist Church (Youth Building)\, 1140 BH Parrish Rd.\, Benson\, NC\, 27504\, United States
ATTACH;FMTTYPE=image/png:https://lbcworship.org/wp-content/uploads/2024/09/LBC-Youth-Group-2023.png
GEO:35.5384515;-78.5626116
X-APPLE-STRUCTURED-LOCATION;VALUE=URI;X-ADDRESS=Lighthouse Baptist Church (Youth Building) 1140 BH Parrish Rd. Benson NC 27504 United States;X-APPLE-RADIUS=500;X-TITLE=1140 BH Parrish Rd.:geo:-78.5626116,35.5384515
END:VEVENT
BEGIN:VEVENT
DTSTART;TZID=America/New_York:20250514T184500
DTEND;TZID=America/New_York:20250514T200000
DTSTAMP:20260424T043341
CREATED:20250109T160947Z
LAST-MODIFIED:20250219T173745Z
UID:10002177-1747248300-1747252800@lbcworship.org
SUMMARY:Experiencing God Bible Study
DESCRIPTION:Join Pastor Tim & Dena in the sanctuary from 6:45pm-8pm each Wednesday as they work through the Bible study\, “Experiencing God” by Henry & Richard Blackaby and Claude King. \nThe study is designed to be a 13-week study\, however\, we ask that you plan to commit to 18-20 weeks so that we can go through each lesson thoroughly. \nThis study began January 8\, but we welcome anyone who would like to join at any time.
URL:https://lbcworship.org/event/experiencing-god-bible-study-2/2025-05-14/
LOCATION:Lighthouse Baptist Church (Youth Building)\, 1140 BH Parrish Rd.\, Benson\, NC\, 27504\, United States
CATEGORIES:Bible Study
ATTACH;FMTTYPE=image/png:https://lbcworship.org/wp-content/uploads/2024/12/Bible-Study-Jan-25.png
GEO:35.5384515;-78.5626116
X-APPLE-STRUCTURED-LOCATION;VALUE=URI;X-ADDRESS=Lighthouse Baptist Church (Youth Building) 1140 BH Parrish Rd. Benson NC 27504 United States;X-APPLE-RADIUS=500;X-TITLE=1140 BH Parrish Rd.:geo:-78.5626116,35.5384515
END:VEVENT
BEGIN:VEVENT
DTSTART;TZID=America/New_York:20250514T184500
DTEND;TZID=America/New_York:20250514T200000
DTSTAMP:20260424T043341
CREATED:20250313T153014Z
LAST-MODIFIED:20250410T194326Z
UID:10001661-1747248300-1747252800@lbcworship.org
SUMMARY:Kudzu Kidz
DESCRIPTION:Join us every Wednesday evening from 6:45pm-8pm as we cover our world with the Gospel at Kudzu Kidz! Doors open for drop off at 6:30pm. \nKids learn about the Gospel of Jesus Christ every week in a fun and exciting environment with skits\, Bible lessons\, games\, and music! Plus fun monthly theme nights and quarterly Bible challenges! \nNew to attending? Register your child at https://bit.ly/LBCKidsWedNightReg \nKudzu Kidz will follow the Johnston County School System for holidays and closures. \nList of Monthly Theme Nights:\n10/30: Costume Party – Wear your Halloween costume or other pumpkin attire for seasonal fun.\n11/20: Turkey Shoot & Pizza Party – Dress like a turkey or hunter for this fall themed night and enjoy a “Friendsgiving” Pizza Party with all Kudzu Kidz!\n12/18: Christmas Spirit – Show off your Christmas spirit by dressing in your favorite Christmas outfits. Ugly sweater\, Christmas trees\, angels\, pink bunny pajamas\, Wise Men\, camels\, have fun!\n1/15: Decade Deck-Out – Dress in your favorite outfits from yester-years.\n2/12: Show Your Love – Wear your favorite Valentine’s colors or hearts to show your love for others.\n3/12: March Madness – Dress in your favorite basketball clothing or just have fun and mix up your outfit so that everyone thinks you are “mad” for wearing that out of the house!\n4/9: Easter Eggs – Let’s see who can look the most like an Easter egg by wearing all of the spring colors.\n5/21: Beach Party – Let’s end the year with a Luau! Wear your best beach party ensemble as we get ready to break for the summer.
URL:https://lbcworship.org/event/kudzu-kidz-3-2-2-2-2-2/2025-05-14/
LOCATION:Lighthouse Baptist Church (Youth Building)\, 1140 BH Parrish Rd.\, Benson\, NC\, 27504\, United States
CATEGORIES:LBC Kids (PreK & Elementary)
ATTACH;FMTTYPE=image/png:https://lbcworship.org/wp-content/uploads/2024/08/Kudzu-Kidz-2425-1-1.png
GEO:35.5384515;-78.5626116
X-APPLE-STRUCTURED-LOCATION;VALUE=URI;X-ADDRESS=Lighthouse Baptist Church (Youth Building) 1140 BH Parrish Rd. Benson NC 27504 United States;X-APPLE-RADIUS=500;X-TITLE=1140 BH Parrish Rd.:geo:-78.5626116,35.5384515
END:VEVENT
END:VCALENDAR