BEGIN:VCALENDAR
VERSION:2.0
PRODID:-//LBC Worship - ECPv6.15.20//NONSGML v1.0//EN
CALSCALE:GREGORIAN
METHOD:PUBLISH
X-WR-CALNAME:LBC Worship
X-ORIGINAL-URL:https://lbcworship.org
X-WR-CALDESC:Events for LBC Worship
REFRESH-INTERVAL;VALUE=DURATION:PT1H
X-Robots-Tag:noindex
X-PUBLISHED-TTL:PT1H
BEGIN:VTIMEZONE
TZID:America/New_York
BEGIN:DAYLIGHT
TZOFFSETFROM:-0500
TZOFFSETTO:-0400
TZNAME:EDT
DTSTART:20240310T070000
END:DAYLIGHT
BEGIN:STANDARD
TZOFFSETFROM:-0400
TZOFFSETTO:-0500
TZNAME:EST
DTSTART:20241103T060000
END:STANDARD
BEGIN:DAYLIGHT
TZOFFSETFROM:-0500
TZOFFSETTO:-0400
TZNAME:EDT
DTSTART:20250309T070000
END:DAYLIGHT
BEGIN:STANDARD
TZOFFSETFROM:-0400
TZOFFSETTO:-0500
TZNAME:EST
DTSTART:20251102T060000
END:STANDARD
BEGIN:DAYLIGHT
TZOFFSETFROM:-0500
TZOFFSETTO:-0400
TZNAME:EDT
DTSTART:20260308T070000
END:DAYLIGHT
BEGIN:STANDARD
TZOFFSETFROM:-0400
TZOFFSETTO:-0500
TZNAME:EST
DTSTART:20261101T060000
END:STANDARD
END:VTIMEZONE
BEGIN:VEVENT
DTSTART;TZID=America/New_York:20250822T160000
DTEND;TZID=America/New_York:20250822T180000
DTSTAMP:20260424T001650
CREATED:20250821T190550Z
LAST-MODIFIED:20250821T190550Z
UID:10002388-1755878400-1755885600@lbcworship.org
SUMMARY:McGee's Crossroads Annual Back to School Prayer Walks
DESCRIPTION:Help us in joining with our local community for prayer walks around the school campuses Friday 8/22 and Sunday 8/24! \nCan’t make the prayer walk?\nTake a few moments from wherever you are at each of the times listed below to pray over the students and staff for the upcoming school year. \nPrayer Walk Details:\n🙏Friday 8/22 at 4:15pm – McGee’s Elementary School: Meet at the flagpole\n🙏Friday 8/22 at 5:00pm – McGee’s Middle School: Meet in the cafeteria\n🙏Sunday 8/24 at 4:00pm – Dixon Elementary: Meet in the front lobby of the school
URL:https://lbcworship.org/event/mcgees-crossroads-annual-back-to-school-prayer-walks/2025-08-22/
LOCATION:NC
ATTACH;FMTTYPE=image/png:https://lbcworship.org/wp-content/uploads/2025/08/Prayer-Walk-2025.png
END:VEVENT
END:VCALENDAR