BEGIN:VCALENDAR
VERSION:2.0
PRODID:-//LBC Worship - ECPv6.15.20//NONSGML v1.0//EN
CALSCALE:GREGORIAN
METHOD:PUBLISH
X-WR-CALNAME:LBC Worship
X-ORIGINAL-URL:https://lbcworship.org
X-WR-CALDESC:Events for LBC Worship
REFRESH-INTERVAL;VALUE=DURATION:PT1H
X-Robots-Tag:noindex
X-PUBLISHED-TTL:PT1H
BEGIN:VTIMEZONE
TZID:America/New_York
BEGIN:DAYLIGHT
TZOFFSETFROM:-0500
TZOFFSETTO:-0400
TZNAME:EDT
DTSTART:20240310T070000
END:DAYLIGHT
BEGIN:STANDARD
TZOFFSETFROM:-0400
TZOFFSETTO:-0500
TZNAME:EST
DTSTART:20241103T060000
END:STANDARD
BEGIN:DAYLIGHT
TZOFFSETFROM:-0500
TZOFFSETTO:-0400
TZNAME:EDT
DTSTART:20250309T070000
END:DAYLIGHT
BEGIN:STANDARD
TZOFFSETFROM:-0400
TZOFFSETTO:-0500
TZNAME:EST
DTSTART:20251102T060000
END:STANDARD
BEGIN:DAYLIGHT
TZOFFSETFROM:-0500
TZOFFSETTO:-0400
TZNAME:EDT
DTSTART:20260308T070000
END:DAYLIGHT
BEGIN:STANDARD
TZOFFSETFROM:-0400
TZOFFSETTO:-0500
TZNAME:EST
DTSTART:20261101T060000
END:STANDARD
END:VTIMEZONE
BEGIN:VEVENT
DTSTART;TZID=America/New_York:20251207T000000
DTEND;TZID=America/New_York:20251207T100000
DTSTAMP:20260423T184803
CREATED:20250116T160952Z
LAST-MODIFIED:20251113T154611Z
UID:10002285-1765065600-1765101600@lbcworship.org
SUMMARY:CHRISTmas Chest Service
DESCRIPTION:Come celebrate with us on Sunday\, December 7 as we kick off the CHRISTmas season here at LBC! \nAt 10am\, join us for our annual CHRISTmas Chest Service where we will collect a special\, sacrificial\, offering: presenting our first gifts of the season to God. \nWe ask that our families pray about how they can sacrificially give to God’s Work\, above our regular offering. \nThis year’s offering will go to help offset the costs of repairs and updates made to our facilities and equipment in 2025. > \nThen come back that evening at 6pm for our annual CHRISTmas Celebration Meal & Annual Business Meeting! (See Celebration page for full details)
URL:https://lbcworship.org/event/christmas-chest-service-celebration/
LOCATION:Lighthouse Baptist Church\, 1140 BH Parrish Rd\, Benson\, NC\, 27504\, United States
CATEGORIES:Special Service
ATTACH;FMTTYPE=image/png:https://lbcworship.org/wp-content/uploads/2025/01/Christmas-Chest-2025.png
GEO:35.5384515;-78.5626116
X-APPLE-STRUCTURED-LOCATION;VALUE=URI;X-ADDRESS=Lighthouse Baptist Church 1140 BH Parrish Rd Benson NC 27504 United States;X-APPLE-RADIUS=500;X-TITLE=1140 BH Parrish Rd:geo:-78.5626116,35.5384515
END:VEVENT
BEGIN:VEVENT
DTSTART;TZID=America/New_York:20251207T093000
DTEND;TZID=America/New_York:20251207T095000
DTSTAMP:20260423T184803
CREATED:20250109T172558Z
LAST-MODIFIED:20250109T172603Z
UID:10002275-1765099800-1765101000@lbcworship.org
SUMMARY:Sunday Morning Prayer Meeting
DESCRIPTION:Gather in the conference room at 9:30am each Sunday for a time of prayer together before service begins.
URL:https://lbcworship.org/event/sunday-morning-prayer-meeting-2/2025-12-07/
LOCATION:Lighthouse Baptist Church (Youth Building)\, 1140 BH Parrish Rd.\, Benson\, NC\, 27504\, United States
ATTACH;FMTTYPE=image/png:https://lbcworship.org/wp-content/uploads/2024/01/Sunday-Morning-Prayer-Meeting-1.png
GEO:35.5384515;-78.5626116
X-APPLE-STRUCTURED-LOCATION;VALUE=URI;X-ADDRESS=Lighthouse Baptist Church (Youth Building) 1140 BH Parrish Rd. Benson NC 27504 United States;X-APPLE-RADIUS=500;X-TITLE=1140 BH Parrish Rd.:geo:-78.5626116,35.5384515
END:VEVENT
BEGIN:VEVENT
DTSTART;TZID=America/New_York:20251207T100000
DTEND;TZID=America/New_York:20251207T113000
DTSTAMP:20260423T184803
CREATED:20250821T191414Z
LAST-MODIFIED:20260130T230623Z
UID:10002480-1765101600-1765107000@lbcworship.org
SUMMARY:LBC's Little Bitty Lights
DESCRIPTION:LBC’s Little Bitty Lights is our nursery for Children ages birth – 3 years. \nChildren are welcome to join us each Sunday in our nursery for a time of song and worship\, a brief Bible lesson\, and play time. \nIf you would like more information about our LBC Little Bitty Lights program\, or are interested in volunteering\, please contact Jenny Parrish.
URL:https://lbcworship.org/event/lbcs-little-bitty-lights/2025-12-07/
LOCATION:Lighthouse Baptist Church\, 1140 BH Parrish Rd\, Benson\, NC\, 27504\, United States
ATTACH;FMTTYPE=image/jpeg:https://lbcworship.org/wp-content/uploads/2021/07/LBC-LBL_Nursery-Header-scaled-e1714659643900.jpg
GEO:35.5384515;-78.5626116
X-APPLE-STRUCTURED-LOCATION;VALUE=URI;X-ADDRESS=Lighthouse Baptist Church 1140 BH Parrish Rd Benson NC 27504 United States;X-APPLE-RADIUS=500;X-TITLE=1140 BH Parrish Rd:geo:-78.5626116,35.5384515
END:VEVENT
BEGIN:VEVENT
DTSTART;TZID=America/New_York:20251207T180000
DTEND;TZID=America/New_York:20251207T203000
DTSTAMP:20260423T184803
CREATED:20251113T160006Z
LAST-MODIFIED:20251113T160006Z
UID:10002528-1765130400-1765139400@lbcworship.org
SUMMARY:Annual CHRISTmas Celebration & Business Meeting
DESCRIPTION:Join us at 6pm on December 7 for our Annual CHRISTmas Celebration & Business Meeting! \nFellowship around the table with a meal catered by Flash BBQ: Brisket\, BBQ Chicken\, Baked Beans\, BBQ Potatoes\, Slaw\, Rolls\, Tea\, and Lemonade \nThere is no cost for this year’s dinner\, however we ask that you please sign-up in the cafe or using the form below by Sunday\, November 23 so that we will be able to let the caterer know how many we are expecting. \nWe are also doing a dessert pot-luck. If you would like to make and bring a dessert to share\, please let us know that you plan to bring something! \nThe Business Meeting portion of the evening will include a short summary of what we did in 2025\, what is to come in 2026\, and a quick “yay” or “nay” vote on the 2026 budget*. \n*The Proposed 2026 Budget is now in the cafe for review. Please take time between now December 7 to review it. Any questions/suggestions should be brought to Pastor Turner or one of our deacons and discussed before December 7. \n>>Online Registration<<
URL:https://lbcworship.org/event/annual-christmas-celebration-business-meeting/
LOCATION:Lighthouse Baptist Church (Youth Building)\, 1140 BH Parrish Rd.\, Benson\, NC\, 27504\, United States
CATEGORIES:Family Events
ATTACH;FMTTYPE=image/png:https://lbcworship.org/wp-content/uploads/2025/11/CHRISTmas-Celebration-2025.png
GEO:35.5384515;-78.5626116
X-APPLE-STRUCTURED-LOCATION;VALUE=URI;X-ADDRESS=Lighthouse Baptist Church (Youth Building) 1140 BH Parrish Rd. Benson NC 27504 United States;X-APPLE-RADIUS=500;X-TITLE=1140 BH Parrish Rd.:geo:-78.5626116,35.5384515
END:VEVENT
END:VCALENDAR