BEGIN:VCALENDAR
VERSION:2.0
PRODID:-//LBC Worship - ECPv6.15.20//NONSGML v1.0//EN
CALSCALE:GREGORIAN
METHOD:PUBLISH
X-WR-CALNAME:LBC Worship
X-ORIGINAL-URL:https://lbcworship.org
X-WR-CALDESC:Events for LBC Worship
REFRESH-INTERVAL;VALUE=DURATION:PT1H
X-Robots-Tag:noindex
X-PUBLISHED-TTL:PT1H
BEGIN:VTIMEZONE
TZID:America/New_York
BEGIN:DAYLIGHT
TZOFFSETFROM:-0500
TZOFFSETTO:-0400
TZNAME:EDT
DTSTART:20250309T070000
END:DAYLIGHT
BEGIN:STANDARD
TZOFFSETFROM:-0400
TZOFFSETTO:-0500
TZNAME:EST
DTSTART:20251102T060000
END:STANDARD
BEGIN:DAYLIGHT
TZOFFSETFROM:-0500
TZOFFSETTO:-0400
TZNAME:EDT
DTSTART:20260308T070000
END:DAYLIGHT
BEGIN:STANDARD
TZOFFSETFROM:-0400
TZOFFSETTO:-0500
TZNAME:EST
DTSTART:20261101T060000
END:STANDARD
BEGIN:DAYLIGHT
TZOFFSETFROM:-0500
TZOFFSETTO:-0400
TZNAME:EDT
DTSTART:20270314T070000
END:DAYLIGHT
BEGIN:STANDARD
TZOFFSETFROM:-0400
TZOFFSETTO:-0500
TZNAME:EST
DTSTART:20271107T060000
END:STANDARD
END:VTIMEZONE
BEGIN:VEVENT
DTSTART;TZID=America/New_York:20260214T180000
DTEND;TZID=America/New_York:20260214T200000
DTSTAMP:20260423T161558
CREATED:20260102T193727Z
LAST-MODIFIED:20260108T230130Z
UID:10002595-1771092000-1771099200@lbcworship.org
SUMMARY:Valentine's Banquet
DESCRIPTION:Grab your favorite Valentine and join us for a special seated dinner\, prepared and served by the LBC Youth Group. \nDinner options are steak ($30) or chicken ($25) and will come with bread\, a side salad\, mashed potatoes\, dessert\, and tea. \nPlease sign-up in the cafe by Sunday\, February 8. Payment is due at the time of registration. Thank you. \nThis event is for all adults: couples & singles alike! \nAll proceeds from this event will go to help our teens with costs for summer camp in June 2026.\nThose that attended camp last year had so much fun\, that we have 12 of our youth members that are planning to attend this year!
URL:https://lbcworship.org/event/valentines-banquet-2/
LOCATION:Lighthouse Baptist Church\, 1140 BH Parrish Rd\, Benson\, NC\, 27504\, United States
ATTACH;FMTTYPE=image/png:https://lbcworship.org/wp-content/uploads/2026/01/Valentines-Banquet-2026.png
GEO:35.5384515;-78.5626116
X-APPLE-STRUCTURED-LOCATION;VALUE=URI;X-ADDRESS=Lighthouse Baptist Church 1140 BH Parrish Rd Benson NC 27504 United States;X-APPLE-RADIUS=500;X-TITLE=1140 BH Parrish Rd:geo:-78.5626116,35.5384515
END:VEVENT
END:VCALENDAR