BEGIN:VCALENDAR
VERSION:2.0
PRODID:-//LBC Worship - ECPv6.15.20//NONSGML v1.0//EN
CALSCALE:GREGORIAN
METHOD:PUBLISH
X-ORIGINAL-URL:https://lbcworship.org
X-WR-CALDESC:Events for LBC Worship
REFRESH-INTERVAL;VALUE=DURATION:PT1H
X-Robots-Tag:noindex
X-PUBLISHED-TTL:PT1H
BEGIN:VTIMEZONE
TZID:America/New_York
BEGIN:DAYLIGHT
TZOFFSETFROM:-0500
TZOFFSETTO:-0400
TZNAME:EDT
DTSTART:20250309T070000
END:DAYLIGHT
BEGIN:STANDARD
TZOFFSETFROM:-0400
TZOFFSETTO:-0500
TZNAME:EST
DTSTART:20251102T060000
END:STANDARD
BEGIN:DAYLIGHT
TZOFFSETFROM:-0500
TZOFFSETTO:-0400
TZNAME:EDT
DTSTART:20260308T070000
END:DAYLIGHT
BEGIN:STANDARD
TZOFFSETFROM:-0400
TZOFFSETTO:-0500
TZNAME:EST
DTSTART:20261101T060000
END:STANDARD
BEGIN:DAYLIGHT
TZOFFSETFROM:-0500
TZOFFSETTO:-0400
TZNAME:EDT
DTSTART:20270314T070000
END:DAYLIGHT
BEGIN:STANDARD
TZOFFSETFROM:-0400
TZOFFSETTO:-0500
TZNAME:EST
DTSTART:20271107T060000
END:STANDARD
END:VTIMEZONE
BEGIN:VEVENT
DTSTART;TZID=America/New_York:20260225T183000
DTEND;TZID=America/New_York:20260225T200000
DTSTAMP:20260423T145330
CREATED:20250816T205508Z
LAST-MODIFIED:20260312T200002Z
UID:10002374-1772044200-1772049600@lbcworship.org
SUMMARY:Youth Group
DESCRIPTION:Youth in 6th grade through 12th grade meet in the Youth Room\, located upstairs in the Youth Building\, Wednesdays from 6:30pm-8pm. Join us each week for a time of music\, fellowship\, Bible study and games. \nOur Youth Group is currently working on the study\, “Experiencing God\,” the teen version\, by Daniel Blackaby and Mike Blackaby. \nNew to Youth Group? Register at https://bit.ly/LBCYGReg
URL:https://lbcworship.org/event/youth-group-2/2026-02-25/
LOCATION:Lighthouse Baptist Church (Youth Building)\, 1140 BH Parrish Rd.\, Benson\, NC\, 27504\, United States
CATEGORIES:Youth Group (6th-12th Grade)
ATTACH;FMTTYPE=image/png:https://lbcworship.org/wp-content/uploads/2024/09/LBC-Youth-Group-2023.png
GEO:35.5384515;-78.5626116
X-APPLE-STRUCTURED-LOCATION;VALUE=URI;X-ADDRESS=Lighthouse Baptist Church (Youth Building) 1140 BH Parrish Rd. Benson NC 27504 United States;X-APPLE-RADIUS=500;X-TITLE=1140 BH Parrish Rd.:geo:-78.5626116,35.5384515
END:VEVENT
BEGIN:VEVENT
DTSTART;TZID=America/New_York:20260225T184000
DTEND;TZID=America/New_York:20260225T200000
DTSTAMP:20260423T145330
CREATED:20250816T204312Z
LAST-MODIFIED:20260305T180029Z
UID:10002335-1772044800-1772049600@lbcworship.org
SUMMARY:Kudzu Kidz
DESCRIPTION:Join us every Wednesday evening from 6:40pm-8pm as we cover our world with the Gospel at Kudzu Kidz! Doors open for drop off at 6:30pm. \nKids learn about the Gospel of Jesus Christ every week in a fun and exciting environment with skits\, Bible lessons\, games\, and music! \nNew to attending? Register your child at https://bit.ly/LBCKudzuKidzReg \nKudzu Kidz will follow the Johnston County School System for holidays and closures.\nKudzu Kidz operates from September – May\, following the Johnston County School Calendar.
URL:https://lbcworship.org/event/kudzu-kidz-5/2026-02-25/
LOCATION:Lighthouse Baptist Church (Youth Building)\, 1140 BH Parrish Rd.\, Benson\, NC\, 27504\, United States
CATEGORIES:LBC Kids (PreK & Elementary)
ATTACH;FMTTYPE=image/png:https://lbcworship.org/wp-content/uploads/2025/08/Kudzu-Kidz-2526-1.png
GEO:35.5384515;-78.5626116
X-APPLE-STRUCTURED-LOCATION;VALUE=URI;X-ADDRESS=Lighthouse Baptist Church (Youth Building) 1140 BH Parrish Rd. Benson NC 27504 United States;X-APPLE-RADIUS=500;X-TITLE=1140 BH Parrish Rd.:geo:-78.5626116,35.5384515
END:VEVENT
BEGIN:VEVENT
DTSTART;TZID=America/New_York:20260225T190000
DTEND;TZID=America/New_York:20260225T200000
DTSTAMP:20260423T145330
CREATED:20260108T231614Z
LAST-MODIFIED:20260203T223611Z
UID:10002602-1772046000-1772049600@lbcworship.org
SUMMARY:Wednesday Evening Adult Bible Study
DESCRIPTION:Join us each week for a walk through the scriptures in our Wednesday Night Adult Bible Study. \nThis group meets every Wednesday from 7:00pm until 8:00pm in the sanctuary. \nThe group is currently studying the book of Colossians. \nSee Steve Southers with any questions.
URL:https://lbcworship.org/event/wednesday-evening-adult-bible-study/2026-02-25/
LOCATION:Lighthouse Baptist Church\, 1140 BH Parrish Rd\, Benson\, NC\, 27504\, United States
CATEGORIES:Bible Study
ATTACH;FMTTYPE=image/png:https://lbcworship.org/wp-content/uploads/2026/01/Wed-Night-Bible-Study-2026.png
GEO:35.5384515;-78.5626116
X-APPLE-STRUCTURED-LOCATION;VALUE=URI;X-ADDRESS=Lighthouse Baptist Church 1140 BH Parrish Rd Benson NC 27504 United States;X-APPLE-RADIUS=500;X-TITLE=1140 BH Parrish Rd:geo:-78.5626116,35.5384515
END:VEVENT
END:VCALENDAR