BEGIN:VCALENDAR
VERSION:2.0
PRODID:-//LBC Worship - ECPv6.15.20//NONSGML v1.0//EN
CALSCALE:GREGORIAN
METHOD:PUBLISH
X-ORIGINAL-URL:https://lbcworship.org
X-WR-CALDESC:Events for LBC Worship
REFRESH-INTERVAL;VALUE=DURATION:PT1H
X-Robots-Tag:noindex
X-PUBLISHED-TTL:PT1H
BEGIN:VTIMEZONE
TZID:America/New_York
BEGIN:DAYLIGHT
TZOFFSETFROM:-0500
TZOFFSETTO:-0400
TZNAME:EDT
DTSTART:20230312T070000
END:DAYLIGHT
BEGIN:STANDARD
TZOFFSETFROM:-0400
TZOFFSETTO:-0500
TZNAME:EST
DTSTART:20231105T060000
END:STANDARD
BEGIN:DAYLIGHT
TZOFFSETFROM:-0500
TZOFFSETTO:-0400
TZNAME:EDT
DTSTART:20240310T070000
END:DAYLIGHT
BEGIN:STANDARD
TZOFFSETFROM:-0400
TZOFFSETTO:-0500
TZNAME:EST
DTSTART:20241103T060000
END:STANDARD
BEGIN:DAYLIGHT
TZOFFSETFROM:-0500
TZOFFSETTO:-0400
TZNAME:EDT
DTSTART:20250309T070000
END:DAYLIGHT
BEGIN:STANDARD
TZOFFSETFROM:-0400
TZOFFSETTO:-0500
TZNAME:EST
DTSTART:20251102T060000
END:STANDARD
END:VTIMEZONE
BEGIN:VEVENT
DTSTART;TZID=America/New_York:20240807T190000
DTEND;TZID=America/New_York:20240807T200000
DTSTAMP:20260424T174750
CREATED:20240313T150923Z
LAST-MODIFIED:20241127T141551Z
UID:10001192-1723057200-1723060800@lbcworship.org
SUMMARY:Wednesday Night Adult Bible Study
DESCRIPTION:Join us each week as we take a closer look at the scriptures from the Sunday service during our Wednesday Night Adult Bible Study. \nThis group meets every Wednesday from 7:00pm until 8:00pm in the sanctuary. \nStudy sheets for the week can be picked up in the café on Sunday mornings.
URL:https://lbcworship.org/event/wednesday-night-adult-bible-study-8-2-2-4-2/2024-08-07/
LOCATION:Lighthouse Baptist Church\, 1140 BH Parrish Rd\, Benson\, NC\, 27504\, United States
CATEGORIES:Bible Study
ATTACH;FMTTYPE=image/png:https://lbcworship.org/wp-content/uploads/2023/08/Wed-Bible-Study-Oct-2023.png
GEO:35.5384515;-78.5626116
X-APPLE-STRUCTURED-LOCATION;VALUE=URI;X-ADDRESS=Lighthouse Baptist Church 1140 BH Parrish Rd Benson NC 27504 United States;X-APPLE-RADIUS=500;X-TITLE=1140 BH Parrish Rd:geo:-78.5626116,35.5384515
END:VEVENT
BEGIN:VEVENT
DTSTART;TZID=America/New_York:20240814T190000
DTEND;TZID=America/New_York:20240814T200000
DTSTAMP:20260424T174750
CREATED:20240313T150923Z
LAST-MODIFIED:20241127T141551Z
UID:10001193-1723662000-1723665600@lbcworship.org
SUMMARY:Wednesday Night Adult Bible Study
DESCRIPTION:Join us each week as we take a closer look at the scriptures from the Sunday service during our Wednesday Night Adult Bible Study. \nThis group meets every Wednesday from 7:00pm until 8:00pm in the sanctuary. \nStudy sheets for the week can be picked up in the café on Sunday mornings.
URL:https://lbcworship.org/event/wednesday-night-adult-bible-study-8-2-2-4-2/2024-08-14/
LOCATION:Lighthouse Baptist Church\, 1140 BH Parrish Rd\, Benson\, NC\, 27504\, United States
CATEGORIES:Bible Study
ATTACH;FMTTYPE=image/png:https://lbcworship.org/wp-content/uploads/2023/08/Wed-Bible-Study-Oct-2023.png
GEO:35.5384515;-78.5626116
X-APPLE-STRUCTURED-LOCATION;VALUE=URI;X-ADDRESS=Lighthouse Baptist Church 1140 BH Parrish Rd Benson NC 27504 United States;X-APPLE-RADIUS=500;X-TITLE=1140 BH Parrish Rd:geo:-78.5626116,35.5384515
END:VEVENT
BEGIN:VEVENT
DTSTART;TZID=America/New_York:20240821T190000
DTEND;TZID=America/New_York:20240821T200000
DTSTAMP:20260424T174750
CREATED:20240313T150923Z
LAST-MODIFIED:20241127T141551Z
UID:10001194-1724266800-1724270400@lbcworship.org
SUMMARY:Wednesday Night Adult Bible Study
DESCRIPTION:Join us each week as we take a closer look at the scriptures from the Sunday service during our Wednesday Night Adult Bible Study. \nThis group meets every Wednesday from 7:00pm until 8:00pm in the sanctuary. \nStudy sheets for the week can be picked up in the café on Sunday mornings.
URL:https://lbcworship.org/event/wednesday-night-adult-bible-study-8-2-2-4-2/2024-08-21/
LOCATION:Lighthouse Baptist Church\, 1140 BH Parrish Rd\, Benson\, NC\, 27504\, United States
CATEGORIES:Bible Study
ATTACH;FMTTYPE=image/png:https://lbcworship.org/wp-content/uploads/2023/08/Wed-Bible-Study-Oct-2023.png
GEO:35.5384515;-78.5626116
X-APPLE-STRUCTURED-LOCATION;VALUE=URI;X-ADDRESS=Lighthouse Baptist Church 1140 BH Parrish Rd Benson NC 27504 United States;X-APPLE-RADIUS=500;X-TITLE=1140 BH Parrish Rd:geo:-78.5626116,35.5384515
END:VEVENT
BEGIN:VEVENT
DTSTART;TZID=America/New_York:20240828T190000
DTEND;TZID=America/New_York:20240828T200000
DTSTAMP:20260424T174750
CREATED:20240313T150923Z
LAST-MODIFIED:20241127T141551Z
UID:10001195-1724871600-1724875200@lbcworship.org
SUMMARY:Wednesday Night Adult Bible Study
DESCRIPTION:Join us each week as we take a closer look at the scriptures from the Sunday service during our Wednesday Night Adult Bible Study. \nThis group meets every Wednesday from 7:00pm until 8:00pm in the sanctuary. \nStudy sheets for the week can be picked up in the café on Sunday mornings.
URL:https://lbcworship.org/event/wednesday-night-adult-bible-study-8-2-2-4-2/2024-08-28/
LOCATION:Lighthouse Baptist Church\, 1140 BH Parrish Rd\, Benson\, NC\, 27504\, United States
CATEGORIES:Bible Study
ATTACH;FMTTYPE=image/png:https://lbcworship.org/wp-content/uploads/2023/08/Wed-Bible-Study-Oct-2023.png
GEO:35.5384515;-78.5626116
X-APPLE-STRUCTURED-LOCATION;VALUE=URI;X-ADDRESS=Lighthouse Baptist Church 1140 BH Parrish Rd Benson NC 27504 United States;X-APPLE-RADIUS=500;X-TITLE=1140 BH Parrish Rd:geo:-78.5626116,35.5384515
END:VEVENT
BEGIN:VEVENT
DTSTART;TZID=America/New_York:20240828T190000
DTEND;TZID=America/New_York:20240828T200000
DTSTAMP:20260424T174750
CREATED:20240725T160606Z
LAST-MODIFIED:20240725T160606Z
UID:10001627-1724871600-1724875200@lbcworship.org
SUMMARY:Prayer & Praise Night
DESCRIPTION:Join us for our next Prayer & Praise Night on Wednesday\, August 28 at 7pm! \nCome together in worship\, share your testimony\, or listen to testimony from others\, and join together in a time of prayer. \nThere will be no regular Wednesday evening programs on this night\, we encourage our families to join together in the sanctuary for this time of praise\, worship\, testimony\, and prayer!
URL:https://lbcworship.org/event/prayer-praise-night-2/
LOCATION:Lighthouse Baptist Church\, 1140 BH Parrish Rd\, Benson\, NC\, 27504\, United States
CATEGORIES:Bible Study,Family Events
ATTACH;FMTTYPE=image/png:https://lbcworship.org/wp-content/uploads/2024/07/Prayer-Praise-Night.png
GEO:35.5384515;-78.5626116
X-APPLE-STRUCTURED-LOCATION;VALUE=URI;X-ADDRESS=Lighthouse Baptist Church 1140 BH Parrish Rd Benson NC 27504 United States;X-APPLE-RADIUS=500;X-TITLE=1140 BH Parrish Rd:geo:-78.5626116,35.5384515
END:VEVENT
END:VCALENDAR