BEGIN:VCALENDAR
VERSION:2.0
PRODID:-//LBC Worship - ECPv6.15.20//NONSGML v1.0//EN
CALSCALE:GREGORIAN
METHOD:PUBLISH
X-ORIGINAL-URL:https://lbcworship.org
X-WR-CALDESC:Events for LBC Worship
REFRESH-INTERVAL;VALUE=DURATION:PT1H
X-Robots-Tag:noindex
X-PUBLISHED-TTL:PT1H
BEGIN:VTIMEZONE
TZID:America/New_York
BEGIN:DAYLIGHT
TZOFFSETFROM:-0500
TZOFFSETTO:-0400
TZNAME:EDT
DTSTART:20240310T070000
END:DAYLIGHT
BEGIN:STANDARD
TZOFFSETFROM:-0400
TZOFFSETTO:-0500
TZNAME:EST
DTSTART:20241103T060000
END:STANDARD
BEGIN:DAYLIGHT
TZOFFSETFROM:-0500
TZOFFSETTO:-0400
TZNAME:EDT
DTSTART:20250309T070000
END:DAYLIGHT
BEGIN:STANDARD
TZOFFSETFROM:-0400
TZOFFSETTO:-0500
TZNAME:EST
DTSTART:20251102T060000
END:STANDARD
BEGIN:DAYLIGHT
TZOFFSETFROM:-0500
TZOFFSETTO:-0400
TZNAME:EDT
DTSTART:20260308T070000
END:DAYLIGHT
BEGIN:STANDARD
TZOFFSETFROM:-0400
TZOFFSETTO:-0500
TZNAME:EST
DTSTART:20261101T060000
END:STANDARD
END:VTIMEZONE
BEGIN:VEVENT
DTSTART;TZID=America/New_York:20250108T184500
DTEND;TZID=America/New_York:20250108T200000
DTSTAMP:20260424T113219
CREATED:20241219T190210Z
LAST-MODIFIED:20241219T190246Z
UID:10002160-1736361900-1736366400@lbcworship.org
SUMMARY:Experiencing God Bible Study
DESCRIPTION:Join us for a new Bible study starting this January! \nWe will be going through “Experiencing God” by Henry & Richard Blackaby and Claude King. \nThe study is designed to be a 13-week study\, however\, we ask that you plan to commit to 18-20 weeks so that we can go through each lesson thoroughly. \nWe will begin on Wednesday\, January 8 and we will meet each Wednesday evening from 6:45pm-8pm. \nPlease sign-up online or in the café if you plan to attend. \nSee Dena Bass for a copy of the book; books are available at no cost while supplies last. \n>>Click Here for Online Registration<<
URL:https://lbcworship.org/event/experiencing-god-bible-study/
LOCATION:Lighthouse Baptist Church (Youth Building)\, 1140 BH Parrish Rd.\, Benson\, NC\, 27504\, United States
CATEGORIES:Bible Study
ATTACH;FMTTYPE=image/png:https://lbcworship.org/wp-content/uploads/2024/12/Bible-Study-Jan-25-1.png
GEO:35.5384515;-78.5626116
X-APPLE-STRUCTURED-LOCATION;VALUE=URI;X-ADDRESS=Lighthouse Baptist Church (Youth Building) 1140 BH Parrish Rd. Benson NC 27504 United States;X-APPLE-RADIUS=500;X-TITLE=1140 BH Parrish Rd.:geo:-78.5626116,35.5384515
END:VEVENT
BEGIN:VEVENT
DTSTART;TZID=America/New_York:20250108T190000
DTEND;TZID=America/New_York:20250108T200000
DTSTAMP:20260424T113219
CREATED:20240313T150923Z
LAST-MODIFIED:20241127T141551Z
UID:10002066-1736362800-1736366400@lbcworship.org
SUMMARY:Wednesday Night Adult Bible Study
DESCRIPTION:Join us each week as we take a closer look at the scriptures from the Sunday service during our Wednesday Night Adult Bible Study. \nThis group meets every Wednesday from 7:00pm until 8:00pm in the sanctuary. \nStudy sheets for the week can be picked up in the café on Sunday mornings.
URL:https://lbcworship.org/event/wednesday-night-adult-bible-study-8-2-2-4-2/2025-01-08/
LOCATION:Lighthouse Baptist Church\, 1140 BH Parrish Rd\, Benson\, NC\, 27504\, United States
CATEGORIES:Bible Study
ATTACH;FMTTYPE=image/png:https://lbcworship.org/wp-content/uploads/2023/08/Wed-Bible-Study-Oct-2023.png
GEO:35.5384515;-78.5626116
X-APPLE-STRUCTURED-LOCATION;VALUE=URI;X-ADDRESS=Lighthouse Baptist Church 1140 BH Parrish Rd Benson NC 27504 United States;X-APPLE-RADIUS=500;X-TITLE=1140 BH Parrish Rd:geo:-78.5626116,35.5384515
END:VEVENT
BEGIN:VEVENT
DTSTART;TZID=America/New_York:20250108T190000
DTEND;TZID=America/New_York:20250108T200000
DTSTAMP:20260424T113219
CREATED:20250109T172355Z
LAST-MODIFIED:20250109T172359Z
UID:10002067-1736362800-1736366400@lbcworship.org
SUMMARY:Wednesday Night Adult Bible Study
DESCRIPTION:Join us each week as we take a closer look at the scriptures from the Sunday service during our Wednesday Night Adult Bible Study. \nThis group meets every Wednesday from 7:00pm until 8:00pm in the sanctuary. \nStudy sheets for the week can be picked up in the café on Sunday mornings.
URL:https://lbcworship.org/event/wednesday-night-adult-bible-study-8-2-2-4-2-2/2025-01-08/
LOCATION:Lighthouse Baptist Church\, 1140 BH Parrish Rd\, Benson\, NC\, 27504\, United States
CATEGORIES:Bible Study
ATTACH;FMTTYPE=image/png:https://lbcworship.org/wp-content/uploads/2023/08/Wed-Bible-Study-Oct-2023.png
GEO:35.5384515;-78.5626116
X-APPLE-STRUCTURED-LOCATION;VALUE=URI;X-ADDRESS=Lighthouse Baptist Church 1140 BH Parrish Rd Benson NC 27504 United States;X-APPLE-RADIUS=500;X-TITLE=1140 BH Parrish Rd:geo:-78.5626116,35.5384515
END:VEVENT
END:VCALENDAR