BEGIN:VCALENDAR
VERSION:2.0
PRODID:-//LBC Worship - ECPv6.15.20//NONSGML v1.0//EN
CALSCALE:GREGORIAN
METHOD:PUBLISH
X-ORIGINAL-URL:https://lbcworship.org
X-WR-CALDESC:Events for LBC Worship
REFRESH-INTERVAL;VALUE=DURATION:PT1H
X-Robots-Tag:noindex
X-PUBLISHED-TTL:PT1H
BEGIN:VTIMEZONE
TZID:America/New_York
BEGIN:DAYLIGHT
TZOFFSETFROM:-0500
TZOFFSETTO:-0400
TZNAME:EDT
DTSTART:20230312T070000
END:DAYLIGHT
BEGIN:STANDARD
TZOFFSETFROM:-0400
TZOFFSETTO:-0500
TZNAME:EST
DTSTART:20231105T060000
END:STANDARD
BEGIN:DAYLIGHT
TZOFFSETFROM:-0500
TZOFFSETTO:-0400
TZNAME:EDT
DTSTART:20240310T070000
END:DAYLIGHT
BEGIN:STANDARD
TZOFFSETFROM:-0400
TZOFFSETTO:-0500
TZNAME:EST
DTSTART:20241103T060000
END:STANDARD
BEGIN:DAYLIGHT
TZOFFSETFROM:-0500
TZOFFSETTO:-0400
TZNAME:EDT
DTSTART:20250309T070000
END:DAYLIGHT
BEGIN:STANDARD
TZOFFSETFROM:-0400
TZOFFSETTO:-0500
TZNAME:EST
DTSTART:20251102T060000
END:STANDARD
END:VTIMEZONE
BEGIN:VEVENT
DTSTART;TZID=America/New_York:20240814T190000
DTEND;TZID=America/New_York:20240814T200000
DTSTAMP:20260423T214327
CREATED:20240313T150923Z
LAST-MODIFIED:20241127T141551Z
UID:10001193-1723662000-1723665600@lbcworship.org
SUMMARY:Wednesday Night Adult Bible Study
DESCRIPTION:Join us each week as we take a closer look at the scriptures from the Sunday service during our Wednesday Night Adult Bible Study. \nThis group meets every Wednesday from 7:00pm until 8:00pm in the sanctuary. \nStudy sheets for the week can be picked up in the café on Sunday mornings.
URL:https://lbcworship.org/event/wednesday-night-adult-bible-study-8-2-2-4-2/2024-08-14/
LOCATION:Lighthouse Baptist Church\, 1140 BH Parrish Rd\, Benson\, NC\, 27504\, United States
CATEGORIES:Bible Study
ATTACH;FMTTYPE=image/png:https://lbcworship.org/wp-content/uploads/2023/08/Wed-Bible-Study-Oct-2023.png
GEO:35.5384515;-78.5626116
X-APPLE-STRUCTURED-LOCATION;VALUE=URI;X-ADDRESS=Lighthouse Baptist Church 1140 BH Parrish Rd Benson NC 27504 United States;X-APPLE-RADIUS=500;X-TITLE=1140 BH Parrish Rd:geo:-78.5626116,35.5384515
END:VEVENT
BEGIN:VEVENT
DTSTART;TZID=America/New_York:20240807T190000
DTEND;TZID=America/New_York:20240807T200000
DTSTAMP:20260423T214327
CREATED:20240313T150923Z
LAST-MODIFIED:20241127T141551Z
UID:10001192-1723057200-1723060800@lbcworship.org
SUMMARY:Wednesday Night Adult Bible Study
DESCRIPTION:Join us each week as we take a closer look at the scriptures from the Sunday service during our Wednesday Night Adult Bible Study. \nThis group meets every Wednesday from 7:00pm until 8:00pm in the sanctuary. \nStudy sheets for the week can be picked up in the café on Sunday mornings.
URL:https://lbcworship.org/event/wednesday-night-adult-bible-study-8-2-2-4-2/2024-08-07/
LOCATION:Lighthouse Baptist Church\, 1140 BH Parrish Rd\, Benson\, NC\, 27504\, United States
CATEGORIES:Bible Study
ATTACH;FMTTYPE=image/png:https://lbcworship.org/wp-content/uploads/2023/08/Wed-Bible-Study-Oct-2023.png
GEO:35.5384515;-78.5626116
X-APPLE-STRUCTURED-LOCATION;VALUE=URI;X-ADDRESS=Lighthouse Baptist Church 1140 BH Parrish Rd Benson NC 27504 United States;X-APPLE-RADIUS=500;X-TITLE=1140 BH Parrish Rd:geo:-78.5626116,35.5384515
END:VEVENT
BEGIN:VEVENT
DTSTART;TZID=America/New_York:20240731T190000
DTEND;TZID=America/New_York:20240731T200000
DTSTAMP:20260423T214327
CREATED:20240313T150923Z
LAST-MODIFIED:20241127T141551Z
UID:10001191-1722452400-1722456000@lbcworship.org
SUMMARY:Wednesday Night Adult Bible Study
DESCRIPTION:Join us each week as we take a closer look at the scriptures from the Sunday service during our Wednesday Night Adult Bible Study. \nThis group meets every Wednesday from 7:00pm until 8:00pm in the sanctuary. \nStudy sheets for the week can be picked up in the café on Sunday mornings.
URL:https://lbcworship.org/event/wednesday-night-adult-bible-study-8-2-2-4-2/2024-07-31/
LOCATION:Lighthouse Baptist Church\, 1140 BH Parrish Rd\, Benson\, NC\, 27504\, United States
CATEGORIES:Bible Study
ATTACH;FMTTYPE=image/png:https://lbcworship.org/wp-content/uploads/2023/08/Wed-Bible-Study-Oct-2023.png
GEO:35.5384515;-78.5626116
X-APPLE-STRUCTURED-LOCATION;VALUE=URI;X-ADDRESS=Lighthouse Baptist Church 1140 BH Parrish Rd Benson NC 27504 United States;X-APPLE-RADIUS=500;X-TITLE=1140 BH Parrish Rd:geo:-78.5626116,35.5384515
END:VEVENT
BEGIN:VEVENT
DTSTART;TZID=America/New_York:20240724T190000
DTEND;TZID=America/New_York:20240724T200000
DTSTAMP:20260423T214327
CREATED:20240313T150923Z
LAST-MODIFIED:20241127T141551Z
UID:10001190-1721847600-1721851200@lbcworship.org
SUMMARY:Wednesday Night Adult Bible Study
DESCRIPTION:Join us each week as we take a closer look at the scriptures from the Sunday service during our Wednesday Night Adult Bible Study. \nThis group meets every Wednesday from 7:00pm until 8:00pm in the sanctuary. \nStudy sheets for the week can be picked up in the café on Sunday mornings.
URL:https://lbcworship.org/event/wednesday-night-adult-bible-study-8-2-2-4-2/2024-07-24/
LOCATION:Lighthouse Baptist Church\, 1140 BH Parrish Rd\, Benson\, NC\, 27504\, United States
CATEGORIES:Bible Study
ATTACH;FMTTYPE=image/png:https://lbcworship.org/wp-content/uploads/2023/08/Wed-Bible-Study-Oct-2023.png
GEO:35.5384515;-78.5626116
X-APPLE-STRUCTURED-LOCATION;VALUE=URI;X-ADDRESS=Lighthouse Baptist Church 1140 BH Parrish Rd Benson NC 27504 United States;X-APPLE-RADIUS=500;X-TITLE=1140 BH Parrish Rd:geo:-78.5626116,35.5384515
END:VEVENT
BEGIN:VEVENT
DTSTART;TZID=America/New_York:20240717T190000
DTEND;TZID=America/New_York:20240717T200000
DTSTAMP:20260423T214327
CREATED:20240313T150923Z
LAST-MODIFIED:20241127T141551Z
UID:10001189-1721242800-1721246400@lbcworship.org
SUMMARY:Wednesday Night Adult Bible Study
DESCRIPTION:Join us each week as we take a closer look at the scriptures from the Sunday service during our Wednesday Night Adult Bible Study. \nThis group meets every Wednesday from 7:00pm until 8:00pm in the sanctuary. \nStudy sheets for the week can be picked up in the café on Sunday mornings.
URL:https://lbcworship.org/event/wednesday-night-adult-bible-study-8-2-2-4-2/2024-07-17/
LOCATION:Lighthouse Baptist Church\, 1140 BH Parrish Rd\, Benson\, NC\, 27504\, United States
CATEGORIES:Bible Study
ATTACH;FMTTYPE=image/png:https://lbcworship.org/wp-content/uploads/2023/08/Wed-Bible-Study-Oct-2023.png
GEO:35.5384515;-78.5626116
X-APPLE-STRUCTURED-LOCATION;VALUE=URI;X-ADDRESS=Lighthouse Baptist Church 1140 BH Parrish Rd Benson NC 27504 United States;X-APPLE-RADIUS=500;X-TITLE=1140 BH Parrish Rd:geo:-78.5626116,35.5384515
END:VEVENT
BEGIN:VEVENT
DTSTART;TZID=America/New_York:20240710T190000
DTEND;TZID=America/New_York:20240710T200000
DTSTAMP:20260423T214327
CREATED:20240313T150923Z
LAST-MODIFIED:20241127T141551Z
UID:10001188-1720638000-1720641600@lbcworship.org
SUMMARY:Wednesday Night Adult Bible Study
DESCRIPTION:Join us each week as we take a closer look at the scriptures from the Sunday service during our Wednesday Night Adult Bible Study. \nThis group meets every Wednesday from 7:00pm until 8:00pm in the sanctuary. \nStudy sheets for the week can be picked up in the café on Sunday mornings.
URL:https://lbcworship.org/event/wednesday-night-adult-bible-study-8-2-2-4-2/2024-07-10/
LOCATION:Lighthouse Baptist Church\, 1140 BH Parrish Rd\, Benson\, NC\, 27504\, United States
CATEGORIES:Bible Study
ATTACH;FMTTYPE=image/png:https://lbcworship.org/wp-content/uploads/2023/08/Wed-Bible-Study-Oct-2023.png
GEO:35.5384515;-78.5626116
X-APPLE-STRUCTURED-LOCATION;VALUE=URI;X-ADDRESS=Lighthouse Baptist Church 1140 BH Parrish Rd Benson NC 27504 United States;X-APPLE-RADIUS=500;X-TITLE=1140 BH Parrish Rd:geo:-78.5626116,35.5384515
END:VEVENT
BEGIN:VEVENT
DTSTART;TZID=America/New_York:20240703T180000
DTEND;TZID=America/New_York:20240703T200000
DTSTAMP:20260423T214327
CREATED:20240606T164932Z
LAST-MODIFIED:20240613T153156Z
UID:10001620-1720029600-1720036800@lbcworship.org
SUMMARY:No Wednesday Programs
DESCRIPTION:There will be no Wednesday evening services/programs on Wednesday\, July 3. \nWe hope all of our LBC family has a wonderful and safe Independence Day week! \nJoin us for Sunday morning worship at 10am on July 7th!
URL:https://lbcworship.org/event/no-wednesday-programs-2/
LOCATION:Lighthouse Baptist Church\, 1140 BH Parrish Rd\, Benson\, NC\, 27504\, United States
CATEGORIES:Bible Study,LBC Kids (PreK & Elementary),Youth Group (6th-12th Grade)
ATTACH;FMTTYPE=image/png:https://lbcworship.org/wp-content/uploads/2024/06/No-Wed-Programs-July-3.png
GEO:35.5384515;-78.5626116
X-APPLE-STRUCTURED-LOCATION;VALUE=URI;X-ADDRESS=Lighthouse Baptist Church 1140 BH Parrish Rd Benson NC 27504 United States;X-APPLE-RADIUS=500;X-TITLE=1140 BH Parrish Rd:geo:-78.5626116,35.5384515
END:VEVENT
BEGIN:VEVENT
DTSTART;TZID=America/New_York:20240626T190000
DTEND;TZID=America/New_York:20240626T200000
DTSTAMP:20260423T214327
CREATED:20240313T150923Z
LAST-MODIFIED:20241127T141551Z
UID:10001186-1719428400-1719432000@lbcworship.org
SUMMARY:Wednesday Night Adult Bible Study
DESCRIPTION:Join us each week as we take a closer look at the scriptures from the Sunday service during our Wednesday Night Adult Bible Study. \nThis group meets every Wednesday from 7:00pm until 8:00pm in the sanctuary. \nStudy sheets for the week can be picked up in the café on Sunday mornings.
URL:https://lbcworship.org/event/wednesday-night-adult-bible-study-8-2-2-4-2/2024-06-26/
LOCATION:Lighthouse Baptist Church\, 1140 BH Parrish Rd\, Benson\, NC\, 27504\, United States
CATEGORIES:Bible Study
ATTACH;FMTTYPE=image/png:https://lbcworship.org/wp-content/uploads/2023/08/Wed-Bible-Study-Oct-2023.png
GEO:35.5384515;-78.5626116
X-APPLE-STRUCTURED-LOCATION;VALUE=URI;X-ADDRESS=Lighthouse Baptist Church 1140 BH Parrish Rd Benson NC 27504 United States;X-APPLE-RADIUS=500;X-TITLE=1140 BH Parrish Rd:geo:-78.5626116,35.5384515
END:VEVENT
BEGIN:VEVENT
DTSTART;TZID=America/New_York:20240619T190000
DTEND;TZID=America/New_York:20240619T200000
DTSTAMP:20260423T214327
CREATED:20240313T150923Z
LAST-MODIFIED:20241127T141551Z
UID:10001185-1718823600-1718827200@lbcworship.org
SUMMARY:Wednesday Night Adult Bible Study
DESCRIPTION:Join us each week as we take a closer look at the scriptures from the Sunday service during our Wednesday Night Adult Bible Study. \nThis group meets every Wednesday from 7:00pm until 8:00pm in the sanctuary. \nStudy sheets for the week can be picked up in the café on Sunday mornings.
URL:https://lbcworship.org/event/wednesday-night-adult-bible-study-8-2-2-4-2/2024-06-19/
LOCATION:Lighthouse Baptist Church\, 1140 BH Parrish Rd\, Benson\, NC\, 27504\, United States
CATEGORIES:Bible Study
ATTACH;FMTTYPE=image/png:https://lbcworship.org/wp-content/uploads/2023/08/Wed-Bible-Study-Oct-2023.png
GEO:35.5384515;-78.5626116
X-APPLE-STRUCTURED-LOCATION;VALUE=URI;X-ADDRESS=Lighthouse Baptist Church 1140 BH Parrish Rd Benson NC 27504 United States;X-APPLE-RADIUS=500;X-TITLE=1140 BH Parrish Rd:geo:-78.5626116,35.5384515
END:VEVENT
BEGIN:VEVENT
DTSTART;TZID=America/New_York:20240612T190000
DTEND;TZID=America/New_York:20240612T200000
DTSTAMP:20260423T214327
CREATED:20240313T150923Z
LAST-MODIFIED:20241127T141551Z
UID:10001184-1718218800-1718222400@lbcworship.org
SUMMARY:Wednesday Night Adult Bible Study
DESCRIPTION:Join us each week as we take a closer look at the scriptures from the Sunday service during our Wednesday Night Adult Bible Study. \nThis group meets every Wednesday from 7:00pm until 8:00pm in the sanctuary. \nStudy sheets for the week can be picked up in the café on Sunday mornings.
URL:https://lbcworship.org/event/wednesday-night-adult-bible-study-8-2-2-4-2/2024-06-12/
LOCATION:Lighthouse Baptist Church\, 1140 BH Parrish Rd\, Benson\, NC\, 27504\, United States
CATEGORIES:Bible Study
ATTACH;FMTTYPE=image/png:https://lbcworship.org/wp-content/uploads/2023/08/Wed-Bible-Study-Oct-2023.png
GEO:35.5384515;-78.5626116
X-APPLE-STRUCTURED-LOCATION;VALUE=URI;X-ADDRESS=Lighthouse Baptist Church 1140 BH Parrish Rd Benson NC 27504 United States;X-APPLE-RADIUS=500;X-TITLE=1140 BH Parrish Rd:geo:-78.5626116,35.5384515
END:VEVENT
BEGIN:VEVENT
DTSTART;TZID=America/New_York:20240605T190000
DTEND;TZID=America/New_York:20240605T200000
DTSTAMP:20260423T214327
CREATED:20240313T150923Z
LAST-MODIFIED:20241127T141551Z
UID:10001183-1717614000-1717617600@lbcworship.org
SUMMARY:Wednesday Night Adult Bible Study
DESCRIPTION:Join us each week as we take a closer look at the scriptures from the Sunday service during our Wednesday Night Adult Bible Study. \nThis group meets every Wednesday from 7:00pm until 8:00pm in the sanctuary. \nStudy sheets for the week can be picked up in the café on Sunday mornings.
URL:https://lbcworship.org/event/wednesday-night-adult-bible-study-8-2-2-4-2/2024-06-05/
LOCATION:Lighthouse Baptist Church\, 1140 BH Parrish Rd\, Benson\, NC\, 27504\, United States
CATEGORIES:Bible Study
ATTACH;FMTTYPE=image/png:https://lbcworship.org/wp-content/uploads/2023/08/Wed-Bible-Study-Oct-2023.png
GEO:35.5384515;-78.5626116
X-APPLE-STRUCTURED-LOCATION;VALUE=URI;X-ADDRESS=Lighthouse Baptist Church 1140 BH Parrish Rd Benson NC 27504 United States;X-APPLE-RADIUS=500;X-TITLE=1140 BH Parrish Rd:geo:-78.5626116,35.5384515
END:VEVENT
BEGIN:VEVENT
DTSTART;TZID=America/New_York:20240529T190000
DTEND;TZID=America/New_York:20240529T200000
DTSTAMP:20260423T214327
CREATED:20240313T150923Z
LAST-MODIFIED:20241127T141551Z
UID:10001182-1717009200-1717012800@lbcworship.org
SUMMARY:Wednesday Night Adult Bible Study
DESCRIPTION:Join us each week as we take a closer look at the scriptures from the Sunday service during our Wednesday Night Adult Bible Study. \nThis group meets every Wednesday from 7:00pm until 8:00pm in the sanctuary. \nStudy sheets for the week can be picked up in the café on Sunday mornings.
URL:https://lbcworship.org/event/wednesday-night-adult-bible-study-8-2-2-4-2/2024-05-29/
LOCATION:Lighthouse Baptist Church\, 1140 BH Parrish Rd\, Benson\, NC\, 27504\, United States
CATEGORIES:Bible Study
ATTACH;FMTTYPE=image/png:https://lbcworship.org/wp-content/uploads/2023/08/Wed-Bible-Study-Oct-2023.png
GEO:35.5384515;-78.5626116
X-APPLE-STRUCTURED-LOCATION;VALUE=URI;X-ADDRESS=Lighthouse Baptist Church 1140 BH Parrish Rd Benson NC 27504 United States;X-APPLE-RADIUS=500;X-TITLE=1140 BH Parrish Rd:geo:-78.5626116,35.5384515
END:VEVENT
BEGIN:VEVENT
DTSTART;TZID=America/New_York:20240522T190000
DTEND;TZID=America/New_York:20240522T200000
DTSTAMP:20260423T214327
CREATED:20240313T150923Z
LAST-MODIFIED:20241127T141551Z
UID:10001181-1716404400-1716408000@lbcworship.org
SUMMARY:Wednesday Night Adult Bible Study
DESCRIPTION:Join us each week as we take a closer look at the scriptures from the Sunday service during our Wednesday Night Adult Bible Study. \nThis group meets every Wednesday from 7:00pm until 8:00pm in the sanctuary. \nStudy sheets for the week can be picked up in the café on Sunday mornings.
URL:https://lbcworship.org/event/wednesday-night-adult-bible-study-8-2-2-4-2/2024-05-22/
LOCATION:Lighthouse Baptist Church\, 1140 BH Parrish Rd\, Benson\, NC\, 27504\, United States
CATEGORIES:Bible Study
ATTACH;FMTTYPE=image/png:https://lbcworship.org/wp-content/uploads/2023/08/Wed-Bible-Study-Oct-2023.png
GEO:35.5384515;-78.5626116
X-APPLE-STRUCTURED-LOCATION;VALUE=URI;X-ADDRESS=Lighthouse Baptist Church 1140 BH Parrish Rd Benson NC 27504 United States;X-APPLE-RADIUS=500;X-TITLE=1140 BH Parrish Rd:geo:-78.5626116,35.5384515
END:VEVENT
BEGIN:VEVENT
DTSTART;TZID=America/New_York:20240515T190000
DTEND;TZID=America/New_York:20240515T200000
DTSTAMP:20260423T214327
CREATED:20240313T150923Z
LAST-MODIFIED:20241127T141551Z
UID:10001180-1715799600-1715803200@lbcworship.org
SUMMARY:Wednesday Night Adult Bible Study
DESCRIPTION:Join us each week as we take a closer look at the scriptures from the Sunday service during our Wednesday Night Adult Bible Study. \nThis group meets every Wednesday from 7:00pm until 8:00pm in the sanctuary. \nStudy sheets for the week can be picked up in the café on Sunday mornings.
URL:https://lbcworship.org/event/wednesday-night-adult-bible-study-8-2-2-4-2/2024-05-15/
LOCATION:Lighthouse Baptist Church\, 1140 BH Parrish Rd\, Benson\, NC\, 27504\, United States
CATEGORIES:Bible Study
ATTACH;FMTTYPE=image/png:https://lbcworship.org/wp-content/uploads/2023/08/Wed-Bible-Study-Oct-2023.png
GEO:35.5384515;-78.5626116
X-APPLE-STRUCTURED-LOCATION;VALUE=URI;X-ADDRESS=Lighthouse Baptist Church 1140 BH Parrish Rd Benson NC 27504 United States;X-APPLE-RADIUS=500;X-TITLE=1140 BH Parrish Rd:geo:-78.5626116,35.5384515
END:VEVENT
BEGIN:VEVENT
DTSTART;TZID=America/New_York:20240508T190000
DTEND;TZID=America/New_York:20240508T200000
DTSTAMP:20260423T214327
CREATED:20240313T150923Z
LAST-MODIFIED:20241127T141551Z
UID:10001179-1715194800-1715198400@lbcworship.org
SUMMARY:Wednesday Night Adult Bible Study
DESCRIPTION:Join us each week as we take a closer look at the scriptures from the Sunday service during our Wednesday Night Adult Bible Study. \nThis group meets every Wednesday from 7:00pm until 8:00pm in the sanctuary. \nStudy sheets for the week can be picked up in the café on Sunday mornings.
URL:https://lbcworship.org/event/wednesday-night-adult-bible-study-8-2-2-4-2/2024-05-08/
LOCATION:Lighthouse Baptist Church\, 1140 BH Parrish Rd\, Benson\, NC\, 27504\, United States
CATEGORIES:Bible Study
ATTACH;FMTTYPE=image/png:https://lbcworship.org/wp-content/uploads/2023/08/Wed-Bible-Study-Oct-2023.png
GEO:35.5384515;-78.5626116
X-APPLE-STRUCTURED-LOCATION;VALUE=URI;X-ADDRESS=Lighthouse Baptist Church 1140 BH Parrish Rd Benson NC 27504 United States;X-APPLE-RADIUS=500;X-TITLE=1140 BH Parrish Rd:geo:-78.5626116,35.5384515
END:VEVENT
BEGIN:VEVENT
DTSTART;TZID=America/New_York:20240501T190000
DTEND;TZID=America/New_York:20240501T200000
DTSTAMP:20260423T214327
CREATED:20240313T150923Z
LAST-MODIFIED:20241127T141551Z
UID:10001178-1714590000-1714593600@lbcworship.org
SUMMARY:Wednesday Night Adult Bible Study
DESCRIPTION:Join us each week as we take a closer look at the scriptures from the Sunday service during our Wednesday Night Adult Bible Study. \nThis group meets every Wednesday from 7:00pm until 8:00pm in the sanctuary. \nStudy sheets for the week can be picked up in the café on Sunday mornings.
URL:https://lbcworship.org/event/wednesday-night-adult-bible-study-8-2-2-4-2/2024-05-01/
LOCATION:Lighthouse Baptist Church\, 1140 BH Parrish Rd\, Benson\, NC\, 27504\, United States
CATEGORIES:Bible Study
ATTACH;FMTTYPE=image/png:https://lbcworship.org/wp-content/uploads/2023/08/Wed-Bible-Study-Oct-2023.png
GEO:35.5384515;-78.5626116
X-APPLE-STRUCTURED-LOCATION;VALUE=URI;X-ADDRESS=Lighthouse Baptist Church 1140 BH Parrish Rd Benson NC 27504 United States;X-APPLE-RADIUS=500;X-TITLE=1140 BH Parrish Rd:geo:-78.5626116,35.5384515
END:VEVENT
BEGIN:VEVENT
DTSTART;TZID=America/New_York:20240424T190000
DTEND;TZID=America/New_York:20240424T200000
DTSTAMP:20260423T214327
CREATED:20240313T150923Z
LAST-MODIFIED:20241127T141551Z
UID:10001177-1713985200-1713988800@lbcworship.org
SUMMARY:Wednesday Night Adult Bible Study
DESCRIPTION:Join us each week as we take a closer look at the scriptures from the Sunday service during our Wednesday Night Adult Bible Study. \nThis group meets every Wednesday from 7:00pm until 8:00pm in the sanctuary. \nStudy sheets for the week can be picked up in the café on Sunday mornings.
URL:https://lbcworship.org/event/wednesday-night-adult-bible-study-8-2-2-4-2/2024-04-24/
LOCATION:Lighthouse Baptist Church\, 1140 BH Parrish Rd\, Benson\, NC\, 27504\, United States
CATEGORIES:Bible Study
ATTACH;FMTTYPE=image/png:https://lbcworship.org/wp-content/uploads/2023/08/Wed-Bible-Study-Oct-2023.png
GEO:35.5384515;-78.5626116
X-APPLE-STRUCTURED-LOCATION;VALUE=URI;X-ADDRESS=Lighthouse Baptist Church 1140 BH Parrish Rd Benson NC 27504 United States;X-APPLE-RADIUS=500;X-TITLE=1140 BH Parrish Rd:geo:-78.5626116,35.5384515
END:VEVENT
END:VCALENDAR