BEGIN:VCALENDAR
VERSION:2.0
PRODID:-//LBC Worship - ECPv6.15.20//NONSGML v1.0//EN
CALSCALE:GREGORIAN
METHOD:PUBLISH
X-ORIGINAL-URL:https://lbcworship.org
X-WR-CALDESC:Events for LBC Worship
REFRESH-INTERVAL;VALUE=DURATION:PT1H
X-Robots-Tag:noindex
X-PUBLISHED-TTL:PT1H
BEGIN:VTIMEZONE
TZID:America/New_York
BEGIN:DAYLIGHT
TZOFFSETFROM:-0500
TZOFFSETTO:-0400
TZNAME:EDT
DTSTART:20240310T070000
END:DAYLIGHT
BEGIN:STANDARD
TZOFFSETFROM:-0400
TZOFFSETTO:-0500
TZNAME:EST
DTSTART:20241103T060000
END:STANDARD
BEGIN:DAYLIGHT
TZOFFSETFROM:-0500
TZOFFSETTO:-0400
TZNAME:EDT
DTSTART:20250309T070000
END:DAYLIGHT
BEGIN:STANDARD
TZOFFSETFROM:-0400
TZOFFSETTO:-0500
TZNAME:EST
DTSTART:20251102T060000
END:STANDARD
BEGIN:DAYLIGHT
TZOFFSETFROM:-0500
TZOFFSETTO:-0400
TZNAME:EDT
DTSTART:20260308T070000
END:DAYLIGHT
BEGIN:STANDARD
TZOFFSETFROM:-0400
TZOFFSETTO:-0500
TZNAME:EST
DTSTART:20261101T060000
END:STANDARD
END:VTIMEZONE
BEGIN:VEVENT
DTSTART;TZID=America/New_York:20251116T101500
DTEND;TZID=America/New_York:20251116T113000
DTSTAMP:20260423T195515
CREATED:20251113T184913Z
LAST-MODIFIED:20251113T184913Z
UID:10002532-1763288100-1763292600@lbcworship.org
SUMMARY:LBC's Little Lights
DESCRIPTION:‼️Children’s Church (Little Lights) November Schedule Change‼️\n• Our 2nd lesson of the month with be THIS Sunday\, November 16 (instead of Sunday\, November 23)\n• Sunday\, November 23 we will have a Little Lights Trivia Tournament – Stay tuned for who they will be competing against and if they can win back the trophy!\n• Sunday\, November 30 there will be NO Little Lights. \nStarting in February 2024\, our Little Lights program will only take place on the 2nd & 4th Sundays. We ask that our families join together for worship on all other Sundays. \nLBC’s Little Lights is our Children’s Church program for children ages 4 years – 5th grade. \nChildren start off in the sanctuary for a time of music and worship with the congregation and are then dismissed to Children’s Church after the first 2 songs during fellowship time. Please sign-in your child in the café before service begins\, or at time of dismissal. Children are then escorted to the gym for a Bible lesson\, worship\, crafts and games. \nIf this is your first time with us\, please fill out the registration form at the link below. Hard copies are also available at check-in. \nOur Little Lights program is optional\, as much as we would love to have your child join us\, we do understand if you are more comfortable keeping them with you in service and you are welcome to do so. \n<<Children’s Church Registration>>
URL:https://lbcworship.org/event/lbcs-little-lights/
LOCATION:Lighthouse Baptist Church\, 1140 BH Parrish Rd\, Benson\, NC\, 27504\, United States
CATEGORIES:Children's Church
ATTACH;FMTTYPE=image/png:https://lbcworship.org/wp-content/uploads/2024/04/LBC-LL_CC-Slide-Show2024.png
GEO:35.5384515;-78.5626116
X-APPLE-STRUCTURED-LOCATION;VALUE=URI;X-ADDRESS=Lighthouse Baptist Church 1140 BH Parrish Rd Benson NC 27504 United States;X-APPLE-RADIUS=500;X-TITLE=1140 BH Parrish Rd:geo:-78.5626116,35.5384515
END:VEVENT
BEGIN:VEVENT
DTSTART;TZID=America/New_York:20251123T101500
DTEND;TZID=America/New_York:20251123T113000
DTSTAMP:20260423T195515
CREATED:20251113T184734Z
LAST-MODIFIED:20260124T200135Z
UID:10002458-1763892900-1763897400@lbcworship.org
SUMMARY:LBC's Little Lights
DESCRIPTION:Starting in February 2024\, our Little Lights program will only take place on the 2nd & 4th Sundays. We ask that our families join together for worship on all other Sundays. \nLBC’s Little Lights is our Children’s Church program for children ages 4 years – 5th grade. \nChildren start off in the sanctuary for a time of music and worship with the congregation and are then dismissed to Children’s Church after the first 2 songs during fellowship time. Please sign-in your child in the café before service begins\, or at time of dismissal. Children are then escorted to the gym for a Bible lesson\, worship\, crafts and games. \nIf this is your first time with us\, please fill out the registration form at the link below. Hard copies are also available at check-in. \nOur Little Lights program is optional\, as much as we would love to have your child join us\, we do understand if you are more comfortable keeping them with you in service and you are welcome to do so. \n<<Children’s Church Registration>>
URL:https://lbcworship.org/event/lbc-little-lights-3-2/2025-11-23/
LOCATION:Lighthouse Baptist Church\, 1140 BH Parrish Rd\, Benson\, NC\, 27504\, United States
CATEGORIES:Children's Church
ATTACH;FMTTYPE=image/png:https://lbcworship.org/wp-content/uploads/2024/04/LBC-LL_CC-Slide-Show2024.png
GEO:35.5384515;-78.5626116
X-APPLE-STRUCTURED-LOCATION;VALUE=URI;X-ADDRESS=Lighthouse Baptist Church 1140 BH Parrish Rd Benson NC 27504 United States;X-APPLE-RADIUS=500;X-TITLE=1140 BH Parrish Rd:geo:-78.5626116,35.5384515
END:VEVENT
END:VCALENDAR