BEGIN:VCALENDAR
VERSION:2.0
PRODID:-//LBC Worship - ECPv6.15.20//NONSGML v1.0//EN
CALSCALE:GREGORIAN
METHOD:PUBLISH
X-ORIGINAL-URL:https://lbcworship.org
X-WR-CALDESC:Events for LBC Worship
REFRESH-INTERVAL;VALUE=DURATION:PT1H
X-Robots-Tag:noindex
X-PUBLISHED-TTL:PT1H
BEGIN:VTIMEZONE
TZID:America/New_York
BEGIN:DAYLIGHT
TZOFFSETFROM:-0500
TZOFFSETTO:-0400
TZNAME:EDT
DTSTART:20240310T070000
END:DAYLIGHT
BEGIN:STANDARD
TZOFFSETFROM:-0400
TZOFFSETTO:-0500
TZNAME:EST
DTSTART:20241103T060000
END:STANDARD
BEGIN:DAYLIGHT
TZOFFSETFROM:-0500
TZOFFSETTO:-0400
TZNAME:EDT
DTSTART:20250309T070000
END:DAYLIGHT
BEGIN:STANDARD
TZOFFSETFROM:-0400
TZOFFSETTO:-0500
TZNAME:EST
DTSTART:20251102T060000
END:STANDARD
BEGIN:DAYLIGHT
TZOFFSETFROM:-0500
TZOFFSETTO:-0400
TZNAME:EDT
DTSTART:20260308T070000
END:DAYLIGHT
BEGIN:STANDARD
TZOFFSETFROM:-0400
TZOFFSETTO:-0500
TZNAME:EST
DTSTART:20261101T060000
END:STANDARD
END:VTIMEZONE
BEGIN:VEVENT
DTSTART;TZID=America/New_York:20251207T180000
DTEND;TZID=America/New_York:20251207T203000
DTSTAMP:20260423T195516
CREATED:20251113T160006Z
LAST-MODIFIED:20251113T160006Z
UID:10002528-1765130400-1765139400@lbcworship.org
SUMMARY:Annual CHRISTmas Celebration & Business Meeting
DESCRIPTION:Join us at 6pm on December 7 for our Annual CHRISTmas Celebration & Business Meeting! \nFellowship around the table with a meal catered by Flash BBQ: Brisket\, BBQ Chicken\, Baked Beans\, BBQ Potatoes\, Slaw\, Rolls\, Tea\, and Lemonade \nThere is no cost for this year’s dinner\, however we ask that you please sign-up in the cafe or using the form below by Sunday\, November 23 so that we will be able to let the caterer know how many we are expecting. \nWe are also doing a dessert pot-luck. If you would like to make and bring a dessert to share\, please let us know that you plan to bring something! \nThe Business Meeting portion of the evening will include a short summary of what we did in 2025\, what is to come in 2026\, and a quick “yay” or “nay” vote on the 2026 budget*. \n*The Proposed 2026 Budget is now in the cafe for review. Please take time between now December 7 to review it. Any questions/suggestions should be brought to Pastor Turner or one of our deacons and discussed before December 7. \n>>Online Registration<<
URL:https://lbcworship.org/event/annual-christmas-celebration-business-meeting/
LOCATION:Lighthouse Baptist Church (Youth Building)\, 1140 BH Parrish Rd.\, Benson\, NC\, 27504\, United States
CATEGORIES:Family Events
ATTACH;FMTTYPE=image/png:https://lbcworship.org/wp-content/uploads/2025/11/CHRISTmas-Celebration-2025.png
GEO:35.5384515;-78.5626116
X-APPLE-STRUCTURED-LOCATION;VALUE=URI;X-ADDRESS=Lighthouse Baptist Church (Youth Building) 1140 BH Parrish Rd. Benson NC 27504 United States;X-APPLE-RADIUS=500;X-TITLE=1140 BH Parrish Rd.:geo:-78.5626116,35.5384515
END:VEVENT
BEGIN:VEVENT
DTSTART;TZID=America/New_York:20251217T183000
DTEND;TZID=America/New_York:20251217T200000
DTSTAMP:20260423T195516
CREATED:20251113T171557Z
LAST-MODIFIED:20251113T171557Z
UID:10002531-1765996200-1766001600@lbcworship.org
SUMMARY:Kudzu Kidz: Happy Birthday Jesus Party
DESCRIPTION:Preschool & elementary student families: Join us for our Kudzu Kidz’ Happy Birthday Jesus Party on Wednesday\, December 17 at 6:40pm.\nWe will sing Christmas songs\, have pizza & birthday cake\, plus a few more fun Christmas/Birthday activities!\nSign-up at the Kudzu Kidz check-in table in the youth building if you plan to attend.\nKudzu Kidz is our program for preschool and elementary students that meets every Wednesday evening from 6:40pm-8pm. Join us as we cover our world with the Gospel! Doors open for drop off at 6:30pm. Kids learn about the Gospel of Jesus Christ every week in a fun and exciting environment with skits\, Bible lessons\, games\, and music! \nNew to attending? Register your child at https://bit.ly/LBCKudzuKidzReg \nKudzu Kidz will follow the Johnston County School System for holidays and closures.\nKudzu Kidz operates from September – May\, following the Johnston County School Calendar.
URL:https://lbcworship.org/event/kudzu-kidz-happy-birthday-jesus-party/
LOCATION:Lighthouse Baptist Church (Youth Building)\, 1140 BH Parrish Rd.\, Benson\, NC\, 27504\, United States
CATEGORIES:Family Events,LBC Kids (PreK & Elementary)
ATTACH;FMTTYPE=image/png:https://lbcworship.org/wp-content/uploads/2025/11/KK-Jesus-Birthday-Party-Presentation-1.png
GEO:35.5384515;-78.5626116
X-APPLE-STRUCTURED-LOCATION;VALUE=URI;X-ADDRESS=Lighthouse Baptist Church (Youth Building) 1140 BH Parrish Rd. Benson NC 27504 United States;X-APPLE-RADIUS=500;X-TITLE=1140 BH Parrish Rd.:geo:-78.5626116,35.5384515
END:VEVENT
BEGIN:VEVENT
DTSTART;TZID=America/New_York:20251221T201500
DTEND;TZID=America/New_York:20251221T213000
DTSTAMP:20260423T195516
CREATED:20251031T145523Z
LAST-MODIFIED:20251031T145523Z
UID:10002526-1766348100-1766352600@lbcworship.org
SUMMARY:Hot Cocoa & Cookies Reception
DESCRIPTION:Join us in the LBC Youth Building immediately after our Candlelight Service on Sunday\, December 21 for a Hot Cocoa & Cookie Reception! \nHot cocoa & toppings will be provided\, please bring a tray of a your favorite treat to share!
URL:https://lbcworship.org/event/hot-cocoa-cookies-reception-2/
LOCATION:Lighthouse Baptist Church (Youth Building)\, 1140 BH Parrish Rd.\, Benson\, NC\, 27504\, United States
CATEGORIES:Family Events,Special Service
ATTACH;FMTTYPE=image/png:https://lbcworship.org/wp-content/uploads/2025/01/Hot-Cocoa-Cookies-Reception.png
GEO:35.5384515;-78.5626116
X-APPLE-STRUCTURED-LOCATION;VALUE=URI;X-ADDRESS=Lighthouse Baptist Church (Youth Building) 1140 BH Parrish Rd. Benson NC 27504 United States;X-APPLE-RADIUS=500;X-TITLE=1140 BH Parrish Rd.:geo:-78.5626116,35.5384515
END:VEVENT
END:VCALENDAR