BEGIN:VCALENDAR
VERSION:2.0
PRODID:-//LBC Worship - ECPv6.15.20//NONSGML v1.0//EN
CALSCALE:GREGORIAN
METHOD:PUBLISH
X-ORIGINAL-URL:https://lbcworship.org
X-WR-CALDESC:Events for LBC Worship
REFRESH-INTERVAL;VALUE=DURATION:PT1H
X-Robots-Tag:noindex
X-PUBLISHED-TTL:PT1H
BEGIN:VTIMEZONE
TZID:America/New_York
BEGIN:DAYLIGHT
TZOFFSETFROM:-0500
TZOFFSETTO:-0400
TZNAME:EDT
DTSTART:20230312T070000
END:DAYLIGHT
BEGIN:STANDARD
TZOFFSETFROM:-0400
TZOFFSETTO:-0500
TZNAME:EST
DTSTART:20231105T060000
END:STANDARD
BEGIN:DAYLIGHT
TZOFFSETFROM:-0500
TZOFFSETTO:-0400
TZNAME:EDT
DTSTART:20240310T070000
END:DAYLIGHT
BEGIN:STANDARD
TZOFFSETFROM:-0400
TZOFFSETTO:-0500
TZNAME:EST
DTSTART:20241103T060000
END:STANDARD
BEGIN:DAYLIGHT
TZOFFSETFROM:-0500
TZOFFSETTO:-0400
TZNAME:EDT
DTSTART:20250309T070000
END:DAYLIGHT
BEGIN:STANDARD
TZOFFSETFROM:-0400
TZOFFSETTO:-0500
TZNAME:EST
DTSTART:20251102T060000
END:STANDARD
END:VTIMEZONE
BEGIN:VEVENT
DTSTART;TZID=America/New_York:20241027T160000
DTEND;TZID=America/New_York:20241027T180000
DTSTAMP:20260423T183615
CREATED:20240919T165633Z
LAST-MODIFIED:20240919T165633Z
UID:10002035-1730044800-1730052000@lbcworship.org
SUMMARY:2024 Fall Festival
DESCRIPTION:Join us on Sunday\, October 27 from 4-6pm for our Annual Fall Festival! Decorated trunks\, candy\, games\, a bounce house\, and more! \nIf you are interested in hosting a trunk or volunteering in another way (we have several different ways to volunteer!) please sign-up at the link below or in the café\, or see Katrina Kessler or Dani Nash about how you can help! \nWe are also collecting candy donations in the café to help replenish trunks’ supply throughout the evening. \n>>Click Here to Sign-Up as a Volunteer!<<
URL:https://lbcworship.org/event/2024-fall-festival/
LOCATION:Lighthouse Baptist Church\, 1140 BH Parrish Rd\, Benson\, NC\, 27504\, United States
CATEGORIES:Family Events
ATTACH;FMTTYPE=image/png:https://lbcworship.org/wp-content/uploads/2024/09/Fall-Festival-20204.png
GEO:35.5384515;-78.5626116
X-APPLE-STRUCTURED-LOCATION;VALUE=URI;X-ADDRESS=Lighthouse Baptist Church 1140 BH Parrish Rd Benson NC 27504 United States;X-APPLE-RADIUS=500;X-TITLE=1140 BH Parrish Rd:geo:-78.5626116,35.5384515
END:VEVENT
BEGIN:VEVENT
DTSTART;TZID=America/New_York:20240828T190000
DTEND;TZID=America/New_York:20240828T200000
DTSTAMP:20260423T183615
CREATED:20240725T160606Z
LAST-MODIFIED:20240725T160606Z
UID:10001627-1724871600-1724875200@lbcworship.org
SUMMARY:Prayer & Praise Night
DESCRIPTION:Join us for our next Prayer & Praise Night on Wednesday\, August 28 at 7pm! \nCome together in worship\, share your testimony\, or listen to testimony from others\, and join together in a time of prayer. \nThere will be no regular Wednesday evening programs on this night\, we encourage our families to join together in the sanctuary for this time of praise\, worship\, testimony\, and prayer!
URL:https://lbcworship.org/event/prayer-praise-night-2/
LOCATION:Lighthouse Baptist Church\, 1140 BH Parrish Rd\, Benson\, NC\, 27504\, United States
CATEGORIES:Bible Study,Family Events
ATTACH;FMTTYPE=image/png:https://lbcworship.org/wp-content/uploads/2024/07/Prayer-Praise-Night.png
GEO:35.5384515;-78.5626116
X-APPLE-STRUCTURED-LOCATION;VALUE=URI;X-ADDRESS=Lighthouse Baptist Church 1140 BH Parrish Rd Benson NC 27504 United States;X-APPLE-RADIUS=500;X-TITLE=1140 BH Parrish Rd:geo:-78.5626116,35.5384515
END:VEVENT
BEGIN:VEVENT
DTSTART;TZID=America/New_York:20240630T113000
DTEND;TZID=America/New_York:20240630T140000
DTSTAMP:20260423T183615
CREATED:20240523T174923Z
LAST-MODIFIED:20240523T174923Z
UID:10001618-1719747000-1719756000@lbcworship.org
SUMMARY:Anniversary Sunday
DESCRIPTION:Join us as we celebrate 19 years of ministry together! Stay after service for a potluck lunch\, an inflatable obstacle course\, lawn games\, and lots of fellowship! If you plan to attend\, please sign-up using the link below\, or in the cafe\, so that we know how many tables and chairs to set up for lunch. \nBring along a covered dish to share\, and lawn chairs to enjoy the outdoor activities after lunch! \nIf you already know what dish you plan to make\, feel free to let us know when signing up! \n>>Click Here for Online Registration<<
URL:https://lbcworship.org/event/anniversary-sunday/
LOCATION:Lighthouse Baptist Church\, 1140 BH Parrish Rd\, Benson\, NC\, 27504\, United States
CATEGORIES:Family Events
ATTACH;FMTTYPE=image/png:https://lbcworship.org/wp-content/uploads/2024/05/Anniversary-Celebration-2024-1.png
GEO:35.5384515;-78.5626116
X-APPLE-STRUCTURED-LOCATION;VALUE=URI;X-ADDRESS=Lighthouse Baptist Church 1140 BH Parrish Rd Benson NC 27504 United States;X-APPLE-RADIUS=500;X-TITLE=1140 BH Parrish Rd:geo:-78.5626116,35.5384515
END:VEVENT
END:VCALENDAR