BEGIN:VCALENDAR
VERSION:2.0
PRODID:-//LBC Worship - ECPv6.15.20//NONSGML v1.0//EN
CALSCALE:GREGORIAN
METHOD:PUBLISH
X-WR-CALNAME:LBC Worship
X-ORIGINAL-URL:https://lbcworship.org
X-WR-CALDESC:Events for LBC Worship
REFRESH-INTERVAL;VALUE=DURATION:PT1H
X-Robots-Tag:noindex
X-PUBLISHED-TTL:PT1H
BEGIN:VTIMEZONE
TZID:America/New_York
BEGIN:DAYLIGHT
TZOFFSETFROM:-0500
TZOFFSETTO:-0400
TZNAME:EDT
DTSTART:20240310T070000
END:DAYLIGHT
BEGIN:STANDARD
TZOFFSETFROM:-0400
TZOFFSETTO:-0500
TZNAME:EST
DTSTART:20241103T060000
END:STANDARD
BEGIN:DAYLIGHT
TZOFFSETFROM:-0500
TZOFFSETTO:-0400
TZNAME:EDT
DTSTART:20250309T070000
END:DAYLIGHT
BEGIN:STANDARD
TZOFFSETFROM:-0400
TZOFFSETTO:-0500
TZNAME:EST
DTSTART:20251102T060000
END:STANDARD
BEGIN:DAYLIGHT
TZOFFSETFROM:-0500
TZOFFSETTO:-0400
TZNAME:EDT
DTSTART:20260308T070000
END:DAYLIGHT
BEGIN:STANDARD
TZOFFSETFROM:-0400
TZOFFSETTO:-0500
TZNAME:EST
DTSTART:20261101T060000
END:STANDARD
END:VTIMEZONE
BEGIN:VEVENT
DTSTART;TZID=America/New_York:20250108T184500
DTEND;TZID=America/New_York:20250108T200000
DTSTAMP:20260424T101858
CREATED:20241227T165307Z
LAST-MODIFIED:20241227T165352Z
UID:10001644-1736361900-1736366400@lbcworship.org
SUMMARY:Kudzu Kidz
DESCRIPTION:Join us every Wednesday evening from 6:45pm-8pm as we cover our world with the Gospel at Kudzu Kidz! Doors open for drop off at 6:30pm. \nKids learn about the Gospel of Jesus Christ every week in a fun and exciting environment with skits\, Bible lessons\, games\, and music! Plus fun monthly theme nights and quarterly Bible challenges! \nNew to attending? Register your child at https://bit.ly/LBCKidsWedNightReg \nKudzu Kidz will follow the Johnston County School System for holidays and closures. \nList of Monthly Theme Nights:\n10/30: Costume Party – Wear your Halloween costume or other pumpkin attire for seasonal fun.\n11/20: Turkey Shoot & Pizza Party – Dress like a turkey or hunter for this fall themed night and enjoy a “Friendsgiving” Pizza Party with all Kudzu Kidz!\n12/18: Christmas Spirit – Show off your Christmas spirit by dressing in your favorite Christmas outfits. Ugly sweater\, Christmas trees\, angels\, pink bunny pajamas\, Wise Men\, camels\, have fun!\n1/15: Decade Deck-Out – Dress in your favorite outfits from yester-years.\n2/12: Show Your Love – Wear your favorite Valentine’s colors or hearts to show your love for others.\n3/12: March Madness – Dress in your favorite basketball clothing or just have fun and mix up your outfit so that everyone thinks you are “mad” for wearing that out of the house!\n4/9: Easter Eggs – Let’s see who can look the most like an East egg by wearing all of the spring colors.\n5/28: Beach Party – Let’s end the year with a Luau! Wear your best beach party ensemble as we get ready to break for the summer.
URL:https://lbcworship.org/event/kudzu-kidz-3-2-2/2025-01-08/
LOCATION:Lighthouse Baptist Church (Youth Building)\, 1140 BH Parrish Rd.\, Benson\, NC\, 27504\, United States
CATEGORIES:LBC Kids (PreK & Elementary)
ATTACH;FMTTYPE=image/png:https://lbcworship.org/wp-content/uploads/2024/08/Kudzu-Kidz-2425-1-1.png
GEO:35.5384515;-78.5626116
X-APPLE-STRUCTURED-LOCATION;VALUE=URI;X-ADDRESS=Lighthouse Baptist Church (Youth Building) 1140 BH Parrish Rd. Benson NC 27504 United States;X-APPLE-RADIUS=500;X-TITLE=1140 BH Parrish Rd.:geo:-78.5626116,35.5384515
END:VEVENT
BEGIN:VEVENT
DTSTART;TZID=America/New_York:20250115T184500
DTEND;TZID=America/New_York:20250115T200000
DTSTAMP:20260424T101858
CREATED:20241227T165307Z
LAST-MODIFIED:20241227T165352Z
UID:10001645-1736966700-1736971200@lbcworship.org
SUMMARY:Kudzu Kidz
DESCRIPTION:Join us every Wednesday evening from 6:45pm-8pm as we cover our world with the Gospel at Kudzu Kidz! Doors open for drop off at 6:30pm. \nKids learn about the Gospel of Jesus Christ every week in a fun and exciting environment with skits\, Bible lessons\, games\, and music! Plus fun monthly theme nights and quarterly Bible challenges! \nNew to attending? Register your child at https://bit.ly/LBCKidsWedNightReg \nKudzu Kidz will follow the Johnston County School System for holidays and closures. \nList of Monthly Theme Nights:\n10/30: Costume Party – Wear your Halloween costume or other pumpkin attire for seasonal fun.\n11/20: Turkey Shoot & Pizza Party – Dress like a turkey or hunter for this fall themed night and enjoy a “Friendsgiving” Pizza Party with all Kudzu Kidz!\n12/18: Christmas Spirit – Show off your Christmas spirit by dressing in your favorite Christmas outfits. Ugly sweater\, Christmas trees\, angels\, pink bunny pajamas\, Wise Men\, camels\, have fun!\n1/15: Decade Deck-Out – Dress in your favorite outfits from yester-years.\n2/12: Show Your Love – Wear your favorite Valentine’s colors or hearts to show your love for others.\n3/12: March Madness – Dress in your favorite basketball clothing or just have fun and mix up your outfit so that everyone thinks you are “mad” for wearing that out of the house!\n4/9: Easter Eggs – Let’s see who can look the most like an East egg by wearing all of the spring colors.\n5/28: Beach Party – Let’s end the year with a Luau! Wear your best beach party ensemble as we get ready to break for the summer.
URL:https://lbcworship.org/event/kudzu-kidz-3-2-2/2025-01-15/
LOCATION:Lighthouse Baptist Church (Youth Building)\, 1140 BH Parrish Rd.\, Benson\, NC\, 27504\, United States
CATEGORIES:LBC Kids (PreK & Elementary)
ATTACH;FMTTYPE=image/png:https://lbcworship.org/wp-content/uploads/2024/08/Kudzu-Kidz-2425-1-1.png
GEO:35.5384515;-78.5626116
X-APPLE-STRUCTURED-LOCATION;VALUE=URI;X-ADDRESS=Lighthouse Baptist Church (Youth Building) 1140 BH Parrish Rd. Benson NC 27504 United States;X-APPLE-RADIUS=500;X-TITLE=1140 BH Parrish Rd.:geo:-78.5626116,35.5384515
END:VEVENT
BEGIN:VEVENT
DTSTART;VALUE=DATE:20250121
DTEND;VALUE=DATE:20250122
DTSTAMP:20260424T101858
CREATED:20250122T013628Z
LAST-MODIFIED:20250122T013628Z
UID:10002286-1737417600-1737503999@lbcworship.org
SUMMARY:No Wednesday Services 1/22/25
DESCRIPTION:Due to inclement weather\, there will be no Wednesday evening services or programs on January 22\, 2025. \nWe hope everyone stays safe and enjoys the snow! Join us for service Sunday morning at 10am!
URL:https://lbcworship.org/event/no-wednesday-services-1-22-25/
LOCATION:Lighthouse Baptist Church\, 1140 BH Parrish Rd\, Benson\, NC\, 27504\, United States
CATEGORIES:Bible Study,LBC Kids (PreK & Elementary),Youth Group (6th-12th Grade)
ATTACH;FMTTYPE=image/png:https://lbcworship.org/wp-content/uploads/2025/01/Weather-Update-Facebook-Cover.png
GEO:35.5384515;-78.5626116
X-APPLE-STRUCTURED-LOCATION;VALUE=URI;X-ADDRESS=Lighthouse Baptist Church 1140 BH Parrish Rd Benson NC 27504 United States;X-APPLE-RADIUS=500;X-TITLE=1140 BH Parrish Rd:geo:-78.5626116,35.5384515
END:VEVENT
BEGIN:VEVENT
DTSTART;TZID=America/New_York:20250122T184500
DTEND;TZID=America/New_York:20250122T200000
DTSTAMP:20260424T101858
CREATED:20250116T151539Z
LAST-MODIFIED:20250219T173700Z
UID:10001646-1737571500-1737576000@lbcworship.org
SUMMARY:Kudzu Kidz
DESCRIPTION:Join us every Wednesday evening from 6:45pm-8pm as we cover our world with the Gospel at Kudzu Kidz! Doors open for drop off at 6:30pm. \nKids learn about the Gospel of Jesus Christ every week in a fun and exciting environment with skits\, Bible lessons\, games\, and music! Plus fun monthly theme nights and quarterly Bible challenges! \nNew to attending? Register your child at https://bit.ly/LBCKidsWedNightReg \nKudzu Kidz will follow the Johnston County School System for holidays and closures. \nList of Monthly Theme Nights:\n10/30: Costume Party – Wear your Halloween costume or other pumpkin attire for seasonal fun.\n11/20: Turkey Shoot & Pizza Party – Dress like a turkey or hunter for this fall themed night and enjoy a “Friendsgiving” Pizza Party with all Kudzu Kidz!\n12/18: Christmas Spirit – Show off your Christmas spirit by dressing in your favorite Christmas outfits. Ugly sweater\, Christmas trees\, angels\, pink bunny pajamas\, Wise Men\, camels\, have fun!\n1/15: Decade Deck-Out – Dress in your favorite outfits from yester-years.\n2/12: Show Your Love – Wear your favorite Valentine’s colors or hearts to show your love for others.\n3/12: March Madness – Dress in your favorite basketball clothing or just have fun and mix up your outfit so that everyone thinks you are “mad” for wearing that out of the house!\n4/9: Easter Eggs – Let’s see who can look the most like an Easter egg by wearing all of the spring colors.\n5/21: Beach Party – Let’s end the year with a Luau! Wear your best beach party ensemble as we get ready to break for the summer.
URL:https://lbcworship.org/event/kudzu-kidz-3-2-2-2/2025-01-22/
LOCATION:Lighthouse Baptist Church (Youth Building)\, 1140 BH Parrish Rd.\, Benson\, NC\, 27504\, United States
CATEGORIES:LBC Kids (PreK & Elementary)
ATTACH;FMTTYPE=image/png:https://lbcworship.org/wp-content/uploads/2024/08/Kudzu-Kidz-2425-1-1.png
GEO:35.5384515;-78.5626116
X-APPLE-STRUCTURED-LOCATION;VALUE=URI;X-ADDRESS=Lighthouse Baptist Church (Youth Building) 1140 BH Parrish Rd. Benson NC 27504 United States;X-APPLE-RADIUS=500;X-TITLE=1140 BH Parrish Rd.:geo:-78.5626116,35.5384515
END:VEVENT
BEGIN:VEVENT
DTSTART;TZID=America/New_York:20250129T184500
DTEND;TZID=America/New_York:20250129T200000
DTSTAMP:20260424T101858
CREATED:20250116T151539Z
LAST-MODIFIED:20250219T173700Z
UID:10001647-1738176300-1738180800@lbcworship.org
SUMMARY:Kudzu Kidz
DESCRIPTION:Join us every Wednesday evening from 6:45pm-8pm as we cover our world with the Gospel at Kudzu Kidz! Doors open for drop off at 6:30pm. \nKids learn about the Gospel of Jesus Christ every week in a fun and exciting environment with skits\, Bible lessons\, games\, and music! Plus fun monthly theme nights and quarterly Bible challenges! \nNew to attending? Register your child at https://bit.ly/LBCKidsWedNightReg \nKudzu Kidz will follow the Johnston County School System for holidays and closures. \nList of Monthly Theme Nights:\n10/30: Costume Party – Wear your Halloween costume or other pumpkin attire for seasonal fun.\n11/20: Turkey Shoot & Pizza Party – Dress like a turkey or hunter for this fall themed night and enjoy a “Friendsgiving” Pizza Party with all Kudzu Kidz!\n12/18: Christmas Spirit – Show off your Christmas spirit by dressing in your favorite Christmas outfits. Ugly sweater\, Christmas trees\, angels\, pink bunny pajamas\, Wise Men\, camels\, have fun!\n1/15: Decade Deck-Out – Dress in your favorite outfits from yester-years.\n2/12: Show Your Love – Wear your favorite Valentine’s colors or hearts to show your love for others.\n3/12: March Madness – Dress in your favorite basketball clothing or just have fun and mix up your outfit so that everyone thinks you are “mad” for wearing that out of the house!\n4/9: Easter Eggs – Let’s see who can look the most like an Easter egg by wearing all of the spring colors.\n5/21: Beach Party – Let’s end the year with a Luau! Wear your best beach party ensemble as we get ready to break for the summer.
URL:https://lbcworship.org/event/kudzu-kidz-3-2-2-2/2025-01-29/
LOCATION:Lighthouse Baptist Church (Youth Building)\, 1140 BH Parrish Rd.\, Benson\, NC\, 27504\, United States
CATEGORIES:LBC Kids (PreK & Elementary)
ATTACH;FMTTYPE=image/png:https://lbcworship.org/wp-content/uploads/2024/08/Kudzu-Kidz-2425-1-1.png
GEO:35.5384515;-78.5626116
X-APPLE-STRUCTURED-LOCATION;VALUE=URI;X-ADDRESS=Lighthouse Baptist Church (Youth Building) 1140 BH Parrish Rd. Benson NC 27504 United States;X-APPLE-RADIUS=500;X-TITLE=1140 BH Parrish Rd.:geo:-78.5626116,35.5384515
END:VEVENT
END:VCALENDAR