BEGIN:VCALENDAR
VERSION:2.0
PRODID:-//LBC Worship - ECPv6.15.20//NONSGML v1.0//EN
CALSCALE:GREGORIAN
METHOD:PUBLISH
X-WR-CALNAME:LBC Worship
X-ORIGINAL-URL:https://lbcworship.org
X-WR-CALDESC:Events for LBC Worship
REFRESH-INTERVAL;VALUE=DURATION:PT1H
X-Robots-Tag:noindex
X-PUBLISHED-TTL:PT1H
BEGIN:VTIMEZONE
TZID:America/New_York
BEGIN:DAYLIGHT
TZOFFSETFROM:-0500
TZOFFSETTO:-0400
TZNAME:EDT
DTSTART:20230312T070000
END:DAYLIGHT
BEGIN:STANDARD
TZOFFSETFROM:-0400
TZOFFSETTO:-0500
TZNAME:EST
DTSTART:20231105T060000
END:STANDARD
BEGIN:DAYLIGHT
TZOFFSETFROM:-0500
TZOFFSETTO:-0400
TZNAME:EDT
DTSTART:20240310T070000
END:DAYLIGHT
BEGIN:STANDARD
TZOFFSETFROM:-0400
TZOFFSETTO:-0500
TZNAME:EST
DTSTART:20241103T060000
END:STANDARD
BEGIN:DAYLIGHT
TZOFFSETFROM:-0500
TZOFFSETTO:-0400
TZNAME:EDT
DTSTART:20250309T070000
END:DAYLIGHT
BEGIN:STANDARD
TZOFFSETFROM:-0400
TZOFFSETTO:-0500
TZNAME:EST
DTSTART:20251102T060000
END:STANDARD
END:VTIMEZONE
BEGIN:VEVENT
DTSTART;TZID=America/New_York:20240904T184500
DTEND;TZID=America/New_York:20240904T200000
DTSTAMP:20260424T180226
CREATED:20240815T164126Z
LAST-MODIFIED:20240818T212700Z
UID:10001629-1725475500-1725480000@lbcworship.org
SUMMARY:Kudzu Kidz
DESCRIPTION:Join us for a new year of Kudzu Kidz starting September 4\, 2024! We have some exciting new additions for you this year! Including monthly theme nights\, Bible challenges\, new group names\, and more! Come join the fun as we cover our world with the Gospel!\nJoin us every Wednesday evening from 6:45pm-8pm as we cover our world with the Gospel at Kudzu Kidz! Doors open for drop off at 6:30pm. \nKids learn about the Gospel of Jesus Christ every week in a fun and exciting environment with skits\, Bible lessons\, games\, and music! \nNew to attending? Register your child at https://bit.ly/LBCKidsWedNightReg \nKudzu Kidz will follow the Johnston County School System for holidays and closures.
URL:https://lbcworship.org/event/kudzu-kidz-3/
LOCATION:Lighthouse Baptist Church (Youth Building)\, 1140 BH Parrish Rd.\, Benson\, NC\, 27504\, United States
CATEGORIES:LBC Kids (PreK & Elementary)
ATTACH;FMTTYPE=image/png:https://lbcworship.org/wp-content/uploads/2024/08/Kudzu-Kidz-2425-1.png
GEO:35.5384515;-78.5626116
X-APPLE-STRUCTURED-LOCATION;VALUE=URI;X-ADDRESS=Lighthouse Baptist Church (Youth Building) 1140 BH Parrish Rd. Benson NC 27504 United States;X-APPLE-RADIUS=500;X-TITLE=1140 BH Parrish Rd.:geo:-78.5626116,35.5384515
END:VEVENT
END:VCALENDAR