BEGIN:VCALENDAR
VERSION:2.0
PRODID:-//LBC Worship - ECPv6.15.20//NONSGML v1.0//EN
CALSCALE:GREGORIAN
METHOD:PUBLISH
X-ORIGINAL-URL:https://lbcworship.org
X-WR-CALDESC:Events for LBC Worship
REFRESH-INTERVAL;VALUE=DURATION:PT1H
X-Robots-Tag:noindex
X-PUBLISHED-TTL:PT1H
BEGIN:VTIMEZONE
TZID:America/New_York
BEGIN:DAYLIGHT
TZOFFSETFROM:-0500
TZOFFSETTO:-0400
TZNAME:EDT
DTSTART:20230312T070000
END:DAYLIGHT
BEGIN:STANDARD
TZOFFSETFROM:-0400
TZOFFSETTO:-0500
TZNAME:EST
DTSTART:20231105T060000
END:STANDARD
BEGIN:DAYLIGHT
TZOFFSETFROM:-0500
TZOFFSETTO:-0400
TZNAME:EDT
DTSTART:20240310T070000
END:DAYLIGHT
BEGIN:STANDARD
TZOFFSETFROM:-0400
TZOFFSETTO:-0500
TZNAME:EST
DTSTART:20241103T060000
END:STANDARD
BEGIN:DAYLIGHT
TZOFFSETFROM:-0500
TZOFFSETTO:-0400
TZNAME:EDT
DTSTART:20250309T070000
END:DAYLIGHT
BEGIN:STANDARD
TZOFFSETFROM:-0400
TZOFFSETTO:-0500
TZNAME:EST
DTSTART:20251102T060000
END:STANDARD
END:VTIMEZONE
BEGIN:VEVENT
DTSTART;TZID=America/New_York:20241208T090000
DTEND;TZID=America/New_York:20241208T094500
DTSTAMP:20260424T132104
CREATED:20241114T182600Z
LAST-MODIFIED:20241114T182600Z
UID:10002065-1733648400-1733651100@lbcworship.org
SUMMARY:Little Lights' Family Breakfast
DESCRIPTION:We invite all elementary aged students and their families to join us for a pancake breakfast before service at 9:00am on Sunday\, December 8. \nThere is no cost for this event\, however we ask that if you plan to attend\, please sign-up in the cafe by Sunday\, December 1 so that we know how many to prepare for. \nThank you and we look forward to a time of fellowship with our Little Lights and their families!
URL:https://lbcworship.org/event/little-lights-family-breakfast/
LOCATION:Lighthouse Baptist Church (Youth Building)\, 1140 BH Parrish Rd.\, Benson\, NC\, 27504\, United States
CATEGORIES:LBC Kids (PreK & Elementary)
ATTACH;FMTTYPE=image/png:https://lbcworship.org/wp-content/uploads/2024/11/Little-Lights-Breakfast-Facebook-Cover.png
GEO:35.5384515;-78.5626116
X-APPLE-STRUCTURED-LOCATION;VALUE=URI;X-ADDRESS=Lighthouse Baptist Church (Youth Building) 1140 BH Parrish Rd. Benson NC 27504 United States;X-APPLE-RADIUS=500;X-TITLE=1140 BH Parrish Rd.:geo:-78.5626116,35.5384515
END:VEVENT
END:VCALENDAR