BEGIN:VCALENDAR
VERSION:2.0
PRODID:-//LBC Worship - ECPv6.15.20//NONSGML v1.0//EN
CALSCALE:GREGORIAN
METHOD:PUBLISH
X-ORIGINAL-URL:https://lbcworship.org
X-WR-CALDESC:Events for LBC Worship
REFRESH-INTERVAL;VALUE=DURATION:PT1H
X-Robots-Tag:noindex
X-PUBLISHED-TTL:PT1H
BEGIN:VTIMEZONE
TZID:America/New_York
BEGIN:DAYLIGHT
TZOFFSETFROM:-0500
TZOFFSETTO:-0400
TZNAME:EDT
DTSTART:20250309T070000
END:DAYLIGHT
BEGIN:STANDARD
TZOFFSETFROM:-0400
TZOFFSETTO:-0500
TZNAME:EST
DTSTART:20251102T060000
END:STANDARD
BEGIN:DAYLIGHT
TZOFFSETFROM:-0500
TZOFFSETTO:-0400
TZNAME:EDT
DTSTART:20260308T070000
END:DAYLIGHT
BEGIN:STANDARD
TZOFFSETFROM:-0400
TZOFFSETTO:-0500
TZNAME:EST
DTSTART:20261101T060000
END:STANDARD
BEGIN:DAYLIGHT
TZOFFSETFROM:-0500
TZOFFSETTO:-0400
TZNAME:EDT
DTSTART:20270314T070000
END:DAYLIGHT
BEGIN:STANDARD
TZOFFSETFROM:-0400
TZOFFSETTO:-0500
TZNAME:EST
DTSTART:20271107T060000
END:STANDARD
END:VTIMEZONE
BEGIN:VEVENT
DTSTART;TZID=America/New_York:20260329T113000
DTEND;TZID=America/New_York:20260329T120000
DTSTAMP:20260423T195836
CREATED:20260312T200849Z
LAST-MODIFIED:20260312T205315Z
UID:10002674-1774783800-1774785600@lbcworship.org
SUMMARY:LBC Kids' Easter Egg Hunt
DESCRIPTION:Join outside in the fields immediately following service on Palm Sunday\, March 29 for our annual LBC Kids’ Egg Hunt! \nEgg hunt is for kids birth-5th grade. \nPlease bring an empty basket with you that morning if your child plans to participate. \nWe will be collecting donations of pre-filled eggs through Wednesday\, March 25.
URL:https://lbcworship.org/event/lbc-kids-easter-egg-hunt/
LOCATION:Lighthouse Baptist Church\, 1140 BH Parrish Rd\, Benson\, NC\, 27504\, United States
CATEGORIES:LBC Kids (PreK & Elementary)
ATTACH;FMTTYPE=image/png:https://lbcworship.org/wp-content/uploads/2026/03/LBC-Kids-Egg-Hunt-2026-1.png
GEO:35.5384515;-78.5626116
X-APPLE-STRUCTURED-LOCATION;VALUE=URI;X-ADDRESS=Lighthouse Baptist Church 1140 BH Parrish Rd Benson NC 27504 United States;X-APPLE-RADIUS=500;X-TITLE=1140 BH Parrish Rd:geo:-78.5626116,35.5384515
END:VEVENT
BEGIN:VEVENT
DTSTART;TZID=America/New_York:20260401T184000
DTEND;TZID=America/New_York:20260401T200000
DTSTAMP:20260423T195836
CREATED:20260305T174636Z
LAST-MODIFIED:20260305T174636Z
UID:10002670-1775068800-1775073600@lbcworship.org
SUMMARY:Kudzu Kidz Spring Family Fun Night
DESCRIPTION:Join us for our Spring Family Fun Night before we take a week off for Spring Break!\nParents & family are invited to join us for music\, a round or two of Easter Bingo\, pizza\, cupcakes\, and a Bible message!\nPlease sign-up at the Kudzu Kidz check-in table if you plan to attend!\nJoin us every Wednesday evening from 6:40pm-8pm as we cover our world with the Gospel at Kudzu Kidz! Doors open for drop off at 6:30pm. \nKids learn about the Gospel of Jesus Christ every week in a fun and exciting environment with skits\, Bible lessons\, games\, and music! \nNew to attending? Register your child at https://bit.ly/LBCKudzuKidzReg \nKudzu Kidz will follow the Johnston County School System for holidays and closures.\nKudzu Kidz operates from September – May\, following the Johnston County School Calendar.
URL:https://lbcworship.org/event/kudzu-kidz-spring-family-fun-night/
LOCATION:Lighthouse Baptist Church (Youth Building)\, 1140 BH Parrish Rd.\, Benson\, NC\, 27504\, United States
CATEGORIES:LBC Kids (PreK & Elementary)
ATTACH;FMTTYPE=image/png:https://lbcworship.org/wp-content/uploads/2026/03/KK-Spring-Family-Fun-Night.png
GEO:35.5384515;-78.5626116
X-APPLE-STRUCTURED-LOCATION;VALUE=URI;X-ADDRESS=Lighthouse Baptist Church (Youth Building) 1140 BH Parrish Rd. Benson NC 27504 United States;X-APPLE-RADIUS=500;X-TITLE=1140 BH Parrish Rd.:geo:-78.5626116,35.5384515
END:VEVENT
BEGIN:VEVENT
DTSTART;VALUE=DATE:20260408
DTEND;VALUE=DATE:20260409
DTSTAMP:20260423T195836
CREATED:20260312T195836Z
LAST-MODIFIED:20260312T195836Z
UID:10002671-1775606400-1775692799@lbcworship.org
SUMMARY:No Wednesday Programs
DESCRIPTION:There will be no Wednesday evening programs on April 8\, 2026 for Spring Break. Enjoy some time of devotion with your families and we’ll see you Sunday morning!
URL:https://lbcworship.org/event/no-wednesday-programs-4/
LOCATION:Lighthouse Baptist Church\, 1140 BH Parrish Rd\, Benson\, NC\, 27504\, United States
CATEGORIES:Bible Study,LBC Kids (PreK & Elementary),Youth Group (6th-12th Grade)
ATTACH;FMTTYPE=image/png:https://lbcworship.org/wp-content/uploads/2026/03/Spring-Break-2026.png
GEO:35.5384515;-78.5626116
X-APPLE-STRUCTURED-LOCATION;VALUE=URI;X-ADDRESS=Lighthouse Baptist Church 1140 BH Parrish Rd Benson NC 27504 United States;X-APPLE-RADIUS=500;X-TITLE=1140 BH Parrish Rd:geo:-78.5626116,35.5384515
END:VEVENT
BEGIN:VEVENT
DTSTART;TZID=America/New_York:20260415T184000
DTEND;TZID=America/New_York:20260415T200000
DTSTAMP:20260423T195836
CREATED:20250816T204312Z
LAST-MODIFIED:20260305T180029Z
UID:10002341-1776278400-1776283200@lbcworship.org
SUMMARY:Kudzu Kidz
DESCRIPTION:Join us every Wednesday evening from 6:40pm-8pm as we cover our world with the Gospel at Kudzu Kidz! Doors open for drop off at 6:30pm. \nKids learn about the Gospel of Jesus Christ every week in a fun and exciting environment with skits\, Bible lessons\, games\, and music! \nNew to attending? Register your child at https://bit.ly/LBCKudzuKidzReg \nKudzu Kidz will follow the Johnston County School System for holidays and closures.\nKudzu Kidz operates from September – May\, following the Johnston County School Calendar.
URL:https://lbcworship.org/event/kudzu-kidz-5/2026-04-15/
LOCATION:Lighthouse Baptist Church (Youth Building)\, 1140 BH Parrish Rd.\, Benson\, NC\, 27504\, United States
CATEGORIES:LBC Kids (PreK & Elementary)
ATTACH;FMTTYPE=image/png:https://lbcworship.org/wp-content/uploads/2025/08/Kudzu-Kidz-2526-1.png
GEO:35.5384515;-78.5626116
X-APPLE-STRUCTURED-LOCATION;VALUE=URI;X-ADDRESS=Lighthouse Baptist Church (Youth Building) 1140 BH Parrish Rd. Benson NC 27504 United States;X-APPLE-RADIUS=500;X-TITLE=1140 BH Parrish Rd.:geo:-78.5626116,35.5384515
END:VEVENT
BEGIN:VEVENT
DTSTART;TZID=America/New_York:20260422T184000
DTEND;TZID=America/New_York:20260422T200000
DTSTAMP:20260423T195836
CREATED:20250816T204312Z
LAST-MODIFIED:20260305T180029Z
UID:10002342-1776883200-1776888000@lbcworship.org
SUMMARY:Kudzu Kidz
DESCRIPTION:Join us every Wednesday evening from 6:40pm-8pm as we cover our world with the Gospel at Kudzu Kidz! Doors open for drop off at 6:30pm. \nKids learn about the Gospel of Jesus Christ every week in a fun and exciting environment with skits\, Bible lessons\, games\, and music! \nNew to attending? Register your child at https://bit.ly/LBCKudzuKidzReg \nKudzu Kidz will follow the Johnston County School System for holidays and closures.\nKudzu Kidz operates from September – May\, following the Johnston County School Calendar.
URL:https://lbcworship.org/event/kudzu-kidz-5/2026-04-22/
LOCATION:Lighthouse Baptist Church (Youth Building)\, 1140 BH Parrish Rd.\, Benson\, NC\, 27504\, United States
CATEGORIES:LBC Kids (PreK & Elementary)
ATTACH;FMTTYPE=image/png:https://lbcworship.org/wp-content/uploads/2025/08/Kudzu-Kidz-2526-1.png
GEO:35.5384515;-78.5626116
X-APPLE-STRUCTURED-LOCATION;VALUE=URI;X-ADDRESS=Lighthouse Baptist Church (Youth Building) 1140 BH Parrish Rd. Benson NC 27504 United States;X-APPLE-RADIUS=500;X-TITLE=1140 BH Parrish Rd.:geo:-78.5626116,35.5384515
END:VEVENT
BEGIN:VEVENT
DTSTART;TZID=America/New_York:20260429T184000
DTEND;TZID=America/New_York:20260429T200000
DTSTAMP:20260423T195836
CREATED:20250816T204312Z
LAST-MODIFIED:20260305T180029Z
UID:10002343-1777488000-1777492800@lbcworship.org
SUMMARY:Kudzu Kidz
DESCRIPTION:Join us every Wednesday evening from 6:40pm-8pm as we cover our world with the Gospel at Kudzu Kidz! Doors open for drop off at 6:30pm. \nKids learn about the Gospel of Jesus Christ every week in a fun and exciting environment with skits\, Bible lessons\, games\, and music! \nNew to attending? Register your child at https://bit.ly/LBCKudzuKidzReg \nKudzu Kidz will follow the Johnston County School System for holidays and closures.\nKudzu Kidz operates from September – May\, following the Johnston County School Calendar.
URL:https://lbcworship.org/event/kudzu-kidz-5/2026-04-29/
LOCATION:Lighthouse Baptist Church (Youth Building)\, 1140 BH Parrish Rd.\, Benson\, NC\, 27504\, United States
CATEGORIES:LBC Kids (PreK & Elementary)
ATTACH;FMTTYPE=image/png:https://lbcworship.org/wp-content/uploads/2025/08/Kudzu-Kidz-2526-1.png
GEO:35.5384515;-78.5626116
X-APPLE-STRUCTURED-LOCATION;VALUE=URI;X-ADDRESS=Lighthouse Baptist Church (Youth Building) 1140 BH Parrish Rd. Benson NC 27504 United States;X-APPLE-RADIUS=500;X-TITLE=1140 BH Parrish Rd.:geo:-78.5626116,35.5384515
END:VEVENT
BEGIN:VEVENT
DTSTART;TZID=America/New_York:20260506T184000
DTEND;TZID=America/New_York:20260506T200000
DTSTAMP:20260423T195836
CREATED:20250816T204312Z
LAST-MODIFIED:20260305T180029Z
UID:10002344-1778092800-1778097600@lbcworship.org
SUMMARY:Kudzu Kidz
DESCRIPTION:Join us every Wednesday evening from 6:40pm-8pm as we cover our world with the Gospel at Kudzu Kidz! Doors open for drop off at 6:30pm. \nKids learn about the Gospel of Jesus Christ every week in a fun and exciting environment with skits\, Bible lessons\, games\, and music! \nNew to attending? Register your child at https://bit.ly/LBCKudzuKidzReg \nKudzu Kidz will follow the Johnston County School System for holidays and closures.\nKudzu Kidz operates from September – May\, following the Johnston County School Calendar.
URL:https://lbcworship.org/event/kudzu-kidz-5/2026-05-06/
LOCATION:Lighthouse Baptist Church (Youth Building)\, 1140 BH Parrish Rd.\, Benson\, NC\, 27504\, United States
CATEGORIES:LBC Kids (PreK & Elementary)
ATTACH;FMTTYPE=image/png:https://lbcworship.org/wp-content/uploads/2025/08/Kudzu-Kidz-2526-1.png
GEO:35.5384515;-78.5626116
X-APPLE-STRUCTURED-LOCATION;VALUE=URI;X-ADDRESS=Lighthouse Baptist Church (Youth Building) 1140 BH Parrish Rd. Benson NC 27504 United States;X-APPLE-RADIUS=500;X-TITLE=1140 BH Parrish Rd.:geo:-78.5626116,35.5384515
END:VEVENT
BEGIN:VEVENT
DTSTART;TZID=America/New_York:20260513T184000
DTEND;TZID=America/New_York:20260513T200000
DTSTAMP:20260423T195836
CREATED:20250816T204312Z
LAST-MODIFIED:20260305T180029Z
UID:10002345-1778697600-1778702400@lbcworship.org
SUMMARY:Kudzu Kidz
DESCRIPTION:Join us every Wednesday evening from 6:40pm-8pm as we cover our world with the Gospel at Kudzu Kidz! Doors open for drop off at 6:30pm. \nKids learn about the Gospel of Jesus Christ every week in a fun and exciting environment with skits\, Bible lessons\, games\, and music! \nNew to attending? Register your child at https://bit.ly/LBCKudzuKidzReg \nKudzu Kidz will follow the Johnston County School System for holidays and closures.\nKudzu Kidz operates from September – May\, following the Johnston County School Calendar.
URL:https://lbcworship.org/event/kudzu-kidz-5/2026-05-13/
LOCATION:Lighthouse Baptist Church (Youth Building)\, 1140 BH Parrish Rd.\, Benson\, NC\, 27504\, United States
CATEGORIES:LBC Kids (PreK & Elementary)
ATTACH;FMTTYPE=image/png:https://lbcworship.org/wp-content/uploads/2025/08/Kudzu-Kidz-2526-1.png
GEO:35.5384515;-78.5626116
X-APPLE-STRUCTURED-LOCATION;VALUE=URI;X-ADDRESS=Lighthouse Baptist Church (Youth Building) 1140 BH Parrish Rd. Benson NC 27504 United States;X-APPLE-RADIUS=500;X-TITLE=1140 BH Parrish Rd.:geo:-78.5626116,35.5384515
END:VEVENT
BEGIN:VEVENT
DTSTART;TZID=America/New_York:20260520T184000
DTEND;TZID=America/New_York:20260520T200000
DTSTAMP:20260423T195836
CREATED:20250816T204312Z
LAST-MODIFIED:20260305T180029Z
UID:10002346-1779302400-1779307200@lbcworship.org
SUMMARY:Kudzu Kidz
DESCRIPTION:Join us every Wednesday evening from 6:40pm-8pm as we cover our world with the Gospel at Kudzu Kidz! Doors open for drop off at 6:30pm. \nKids learn about the Gospel of Jesus Christ every week in a fun and exciting environment with skits\, Bible lessons\, games\, and music! \nNew to attending? Register your child at https://bit.ly/LBCKudzuKidzReg \nKudzu Kidz will follow the Johnston County School System for holidays and closures.\nKudzu Kidz operates from September – May\, following the Johnston County School Calendar.
URL:https://lbcworship.org/event/kudzu-kidz-5/2026-05-20/
LOCATION:Lighthouse Baptist Church (Youth Building)\, 1140 BH Parrish Rd.\, Benson\, NC\, 27504\, United States
CATEGORIES:LBC Kids (PreK & Elementary)
ATTACH;FMTTYPE=image/png:https://lbcworship.org/wp-content/uploads/2025/08/Kudzu-Kidz-2526-1.png
GEO:35.5384515;-78.5626116
X-APPLE-STRUCTURED-LOCATION;VALUE=URI;X-ADDRESS=Lighthouse Baptist Church (Youth Building) 1140 BH Parrish Rd. Benson NC 27504 United States;X-APPLE-RADIUS=500;X-TITLE=1140 BH Parrish Rd.:geo:-78.5626116,35.5384515
END:VEVENT
BEGIN:VEVENT
DTSTART;TZID=America/New_York:20260527T184000
DTEND;TZID=America/New_York:20260527T200000
DTSTAMP:20260423T195836
CREATED:20250816T204312Z
LAST-MODIFIED:20260305T180029Z
UID:10002347-1779907200-1779912000@lbcworship.org
SUMMARY:Kudzu Kidz
DESCRIPTION:Join us every Wednesday evening from 6:40pm-8pm as we cover our world with the Gospel at Kudzu Kidz! Doors open for drop off at 6:30pm. \nKids learn about the Gospel of Jesus Christ every week in a fun and exciting environment with skits\, Bible lessons\, games\, and music! \nNew to attending? Register your child at https://bit.ly/LBCKudzuKidzReg \nKudzu Kidz will follow the Johnston County School System for holidays and closures.\nKudzu Kidz operates from September – May\, following the Johnston County School Calendar.
URL:https://lbcworship.org/event/kudzu-kidz-5/2026-05-27/
LOCATION:Lighthouse Baptist Church (Youth Building)\, 1140 BH Parrish Rd.\, Benson\, NC\, 27504\, United States
CATEGORIES:LBC Kids (PreK & Elementary)
ATTACH;FMTTYPE=image/png:https://lbcworship.org/wp-content/uploads/2025/08/Kudzu-Kidz-2526-1.png
GEO:35.5384515;-78.5626116
X-APPLE-STRUCTURED-LOCATION;VALUE=URI;X-ADDRESS=Lighthouse Baptist Church (Youth Building) 1140 BH Parrish Rd. Benson NC 27504 United States;X-APPLE-RADIUS=500;X-TITLE=1140 BH Parrish Rd.:geo:-78.5626116,35.5384515
END:VEVENT
END:VCALENDAR