BEGIN:VCALENDAR
VERSION:2.0
PRODID:-//LBC Worship - ECPv6.15.20//NONSGML v1.0//EN
CALSCALE:GREGORIAN
METHOD:PUBLISH
X-WR-CALNAME:LBC Worship
X-ORIGINAL-URL:https://lbcworship.org
X-WR-CALDESC:Events for LBC Worship
REFRESH-INTERVAL;VALUE=DURATION:PT1H
X-Robots-Tag:noindex
X-PUBLISHED-TTL:PT1H
BEGIN:VTIMEZONE
TZID:America/New_York
BEGIN:DAYLIGHT
TZOFFSETFROM:-0500
TZOFFSETTO:-0400
TZNAME:EDT
DTSTART:20240310T070000
END:DAYLIGHT
BEGIN:STANDARD
TZOFFSETFROM:-0400
TZOFFSETTO:-0500
TZNAME:EST
DTSTART:20241103T060000
END:STANDARD
BEGIN:DAYLIGHT
TZOFFSETFROM:-0500
TZOFFSETTO:-0400
TZNAME:EDT
DTSTART:20250309T070000
END:DAYLIGHT
BEGIN:STANDARD
TZOFFSETFROM:-0400
TZOFFSETTO:-0500
TZNAME:EST
DTSTART:20251102T060000
END:STANDARD
BEGIN:DAYLIGHT
TZOFFSETFROM:-0500
TZOFFSETTO:-0400
TZNAME:EDT
DTSTART:20260308T070000
END:DAYLIGHT
BEGIN:STANDARD
TZOFFSETFROM:-0400
TZOFFSETTO:-0500
TZNAME:EST
DTSTART:20261101T060000
END:STANDARD
BEGIN:DAYLIGHT
TZOFFSETFROM:-0500
TZOFFSETTO:-0400
TZNAME:EDT
DTSTART:20270314T070000
END:DAYLIGHT
BEGIN:STANDARD
TZOFFSETFROM:-0400
TZOFFSETTO:-0500
TZNAME:EST
DTSTART:20271107T060000
END:STANDARD
END:VTIMEZONE
BEGIN:VEVENT
DTSTART;TZID=America/New_York:20260325T190000
DTEND;TZID=America/New_York:20260325T203000
DTSTAMP:20260425T072648
CREATED:20260115T162303Z
LAST-MODIFIED:20260115T162303Z
UID:10002665-1774465200-1774470600@lbcworship.org
SUMMARY:Prayer & Praise Night
DESCRIPTION:Come join us for a special evening full of worship\, praise\, and prayer! Grab your family\, friends\, and neighbors and meet us in the sanctuary at 7pm on Wednesday\, March 25 for our next Prayer & Praise Night. During this special\, quarterly\, evening service\, we spend time worshipping together\, listening to testimonies\, and praying together. \nThere are no regularly scheduled Wednesday evening programs on this night so that families can worship together.
URL:https://lbcworship.org/event/prayer-praise-night-5/
LOCATION:Lighthouse Baptist Church\, 1140 BH Parrish Rd\, Benson\, NC\, 27504\, United States
CATEGORIES:Special Service
ATTACH;FMTTYPE=image/png:https://lbcworship.org/wp-content/uploads/2026/01/Prayer-Praise-Night-2026.png
GEO:35.5384515;-78.5626116
X-APPLE-STRUCTURED-LOCATION;VALUE=URI;X-ADDRESS=Lighthouse Baptist Church 1140 BH Parrish Rd Benson NC 27504 United States;X-APPLE-RADIUS=500;X-TITLE=1140 BH Parrish Rd:geo:-78.5626116,35.5384515
END:VEVENT
BEGIN:VEVENT
DTSTART;TZID=America/New_York:20251221T201500
DTEND;TZID=America/New_York:20251221T213000
DTSTAMP:20260425T072648
CREATED:20251031T145523Z
LAST-MODIFIED:20251031T145523Z
UID:10002526-1766348100-1766352600@lbcworship.org
SUMMARY:Hot Cocoa & Cookies Reception
DESCRIPTION:Join us in the LBC Youth Building immediately after our Candlelight Service on Sunday\, December 21 for a Hot Cocoa & Cookie Reception! \nHot cocoa & toppings will be provided\, please bring a tray of a your favorite treat to share!
URL:https://lbcworship.org/event/hot-cocoa-cookies-reception-2/
LOCATION:Lighthouse Baptist Church (Youth Building)\, 1140 BH Parrish Rd.\, Benson\, NC\, 27504\, United States
CATEGORIES:Family Events,Special Service
ATTACH;FMTTYPE=image/png:https://lbcworship.org/wp-content/uploads/2025/01/Hot-Cocoa-Cookies-Reception.png
GEO:35.5384515;-78.5626116
X-APPLE-STRUCTURED-LOCATION;VALUE=URI;X-ADDRESS=Lighthouse Baptist Church (Youth Building) 1140 BH Parrish Rd. Benson NC 27504 United States;X-APPLE-RADIUS=500;X-TITLE=1140 BH Parrish Rd.:geo:-78.5626116,35.5384515
END:VEVENT
BEGIN:VEVENT
DTSTART;TZID=America/New_York:20251221T183000
DTEND;TZID=America/New_York:20251221T200000
DTSTAMP:20260425T072648
CREATED:20250130T172646Z
LAST-MODIFIED:20251031T145234Z
UID:10002523-1766341800-1766347200@lbcworship.org
SUMMARY:Candlelight Service
DESCRIPTION:Save the date for our second annual Candlelight Service and LBC Kids’ Christmas Pageant! \nJoin us at 6:30pm on Sunday\, December 21 for a special evening service by Candlelight and the presentation of our LBC Kids’ Christmas Pageant. \nImmediately after service\, we will have a hot cocoa reception in the Youth Building.
URL:https://lbcworship.org/event/candlelight-service/
LOCATION:Lighthouse Baptist Church\, 1140 BH Parrish Rd\, Benson\, NC\, 27504\, United States
CATEGORIES:Special Service
ATTACH;FMTTYPE=image/png:https://lbcworship.org/wp-content/uploads/2025/01/Candlelight-Service-Save-the-Date-2025-3.png
GEO:35.5384515;-78.5626116
X-APPLE-STRUCTURED-LOCATION;VALUE=URI;X-ADDRESS=Lighthouse Baptist Church 1140 BH Parrish Rd Benson NC 27504 United States;X-APPLE-RADIUS=500;X-TITLE=1140 BH Parrish Rd:geo:-78.5626116,35.5384515
END:VEVENT
BEGIN:VEVENT
DTSTART;TZID=America/New_York:20251207T000000
DTEND;TZID=America/New_York:20251207T100000
DTSTAMP:20260425T072648
CREATED:20250116T160952Z
LAST-MODIFIED:20251113T154611Z
UID:10002285-1765065600-1765101600@lbcworship.org
SUMMARY:CHRISTmas Chest Service
DESCRIPTION:Come celebrate with us on Sunday\, December 7 as we kick off the CHRISTmas season here at LBC! \nAt 10am\, join us for our annual CHRISTmas Chest Service where we will collect a special\, sacrificial\, offering: presenting our first gifts of the season to God. \nWe ask that our families pray about how they can sacrificially give to God’s Work\, above our regular offering. \nThis year’s offering will go to help offset the costs of repairs and updates made to our facilities and equipment in 2025. > \nThen come back that evening at 6pm for our annual CHRISTmas Celebration Meal & Annual Business Meeting! (See Celebration page for full details)
URL:https://lbcworship.org/event/christmas-chest-service-celebration/
LOCATION:Lighthouse Baptist Church\, 1140 BH Parrish Rd\, Benson\, NC\, 27504\, United States
CATEGORIES:Special Service
ATTACH;FMTTYPE=image/png:https://lbcworship.org/wp-content/uploads/2025/01/Christmas-Chest-2025.png
GEO:35.5384515;-78.5626116
X-APPLE-STRUCTURED-LOCATION;VALUE=URI;X-ADDRESS=Lighthouse Baptist Church 1140 BH Parrish Rd Benson NC 27504 United States;X-APPLE-RADIUS=500;X-TITLE=1140 BH Parrish Rd:geo:-78.5626116,35.5384515
END:VEVENT
BEGIN:VEVENT
DTSTART;TZID=America/New_York:20251022T190000
DTEND;TZID=America/New_York:20251022T200000
DTSTAMP:20260425T072648
CREATED:20250130T171438Z
LAST-MODIFIED:20250918T182818Z
UID:10002289-1761159600-1761163200@lbcworship.org
SUMMARY:Prayer & Praise Night
DESCRIPTION:Join us for our next night of Prayer & Praise on Wednesday\, October 22 at 7pm! Join us for this wonderful time of worship\, testimony\, and prayer! \nWe also encourage you to invite your friends\, family\, and neighbors to join us! \nPlease note that there will be no regular Wednesday evening programs on this night\, we encourage families to gather together and join us in the sanctuary for this special evening.
URL:https://lbcworship.org/event/prayer-praise-night-4/
LOCATION:Lighthouse Baptist Church\, 1140 BH Parrish Rd\, Benson\, NC\, 27504\, United States
CATEGORIES:Special Service
ATTACH;FMTTYPE=image/png:https://lbcworship.org/wp-content/uploads/2025/01/Prayer-Praise-Night-Oct-2025-1.png
GEO:35.5384515;-78.5626116
X-APPLE-STRUCTURED-LOCATION;VALUE=URI;X-ADDRESS=Lighthouse Baptist Church 1140 BH Parrish Rd Benson NC 27504 United States;X-APPLE-RADIUS=500;X-TITLE=1140 BH Parrish Rd:geo:-78.5626116,35.5384515
END:VEVENT
BEGIN:VEVENT
DTSTART;TZID=America/New_York:20250629T100000
DTEND;TZID=America/New_York:20250629T113000
DTSTAMP:20260425T072648
CREATED:20250116T160801Z
LAST-MODIFIED:20250529T163224Z
UID:10002284-1751191200-1751196600@lbcworship.org
SUMMARY:Anniversary Sunday
DESCRIPTION:Join us in celebrating 20 years of ministry on Sunday\, June 29 with a special morning Worship Service! \nDamascus Ridge will be joining us and leading worship\, followed by a special message delivered by Pastor Tim. \nLearn more about Damascus Ridge at https://www.damascusridge.com/
URL:https://lbcworship.org/event/anniversary-sunday-2/
LOCATION:Lighthouse Baptist Church\, 1140 BH Parrish Rd\, Benson\, NC\, 27504\, United States
CATEGORIES:Special Service
ATTACH;FMTTYPE=image/png:https://lbcworship.org/wp-content/uploads/2025/01/Anniversary-Service-2025-2.png
GEO:35.5384515;-78.5626116
X-APPLE-STRUCTURED-LOCATION;VALUE=URI;X-ADDRESS=Lighthouse Baptist Church 1140 BH Parrish Rd Benson NC 27504 United States;X-APPLE-RADIUS=500;X-TITLE=1140 BH Parrish Rd:geo:-78.5626116,35.5384515
END:VEVENT
BEGIN:VEVENT
DTSTART;TZID=America/New_York:20250528T190000
DTEND;TZID=America/New_York:20250528T200000
DTSTAMP:20260425T072648
CREATED:20250130T170345Z
LAST-MODIFIED:20250527T145705Z
UID:10002288-1748458800-1748462400@lbcworship.org
SUMMARY:POSTPONED: Prayer & Praise Night
DESCRIPTION:This week’s Prayer & Praise Night has been postponed\, the new date will be available soon. There will be no other Wednesday evening programs this week.\n———– \nJoin us for our next night of Prayer & Praise on Wednesday\, May 28 at 7pm! Join us for this wonderful time of worship\, testimony\, and prayer!\nPlease note that there will be no regular Wednesday evening programs on this night\, we encourage families to gather together and join us in the sanctuary for this special evening.
URL:https://lbcworship.org/event/prayer-praise-night-3/
LOCATION:Lighthouse Baptist Church\, 1140 BH Parrish Rd\, Benson\, NC\, 27504\, United States
CATEGORIES:Special Service
ATTACH;FMTTYPE=image/png:https://lbcworship.org/wp-content/uploads/2025/01/Prayer-Praise-Night-May-2025-1.png
GEO:35.5384515;-78.5626116
X-APPLE-STRUCTURED-LOCATION;VALUE=URI;X-ADDRESS=Lighthouse Baptist Church 1140 BH Parrish Rd Benson NC 27504 United States;X-APPLE-RADIUS=500;X-TITLE=1140 BH Parrish Rd:geo:-78.5626116,35.5384515
END:VEVENT
BEGIN:VEVENT
DTSTART;TZID=America/New_York:20250420T093000
DTEND;TZID=America/New_York:20250420T120000
DTSTAMP:20260425T072648
CREATED:20250327T172321Z
LAST-MODIFIED:20250327T172321Z
UID:10002296-1745141400-1745150400@lbcworship.org
SUMMARY:Easter at LBC
DESCRIPTION:Join us for a special Easter service at 10am on Sunday\, April 20th! \nNursery will be available for children birth-3 years old\, and we will be having a special Children’s Church service for children ages 4 years old – 5th grade*. \n*Elementary students should join parents in the sanctuary for the start of service. They will be dismissed to Children’s Church after the praise and worship portion of our service. \nBe sure to bring along a basket for each of your children as we will be having an Easter Egg Hunt for all kids ages 1 year through 5th grade after the conclusion of our service.
URL:https://lbcworship.org/event/easter-at-lbc-2/
LOCATION:Lighthouse Baptist Church\, 1140 BH Parrish Rd\, Benson\, NC\, 27504\, United States
CATEGORIES:LBC Kids (PreK & Elementary),Special Service
ATTACH;FMTTYPE=image/png:https://lbcworship.org/wp-content/uploads/2025/03/Easter-Sunday-2025-1.png
GEO:35.5384515;-78.5626116
X-APPLE-STRUCTURED-LOCATION;VALUE=URI;X-ADDRESS=Lighthouse Baptist Church 1140 BH Parrish Rd Benson NC 27504 United States;X-APPLE-RADIUS=500;X-TITLE=1140 BH Parrish Rd:geo:-78.5626116,35.5384515
END:VEVENT
BEGIN:VEVENT
DTSTART;TZID=America/New_York:20250319T190000
DTEND;TZID=America/New_York:20250319T200000
DTSTAMP:20260425T072649
CREATED:20250123T211707Z
LAST-MODIFIED:20250130T170429Z
UID:10002287-1742410800-1742414400@lbcworship.org
SUMMARY:Prayer and Praise Night
DESCRIPTION:Join us for our next night of Prayer & Praise on Wednesday\, March 19 at 7pm! Join us for this wonderful time of worship\, testimony\, and prayer!\nPlease note that there will be no regular Wednesday evening programs on this night\, we encourage families to gather together and join us in the sanctuary for this special evening.
URL:https://lbcworship.org/event/prayer-and-praise-night/
LOCATION:Lighthouse Baptist Church\, 1140 BH Parrish Rd\, Benson\, NC\, 27504\, United States
CATEGORIES:Special Service
ATTACH;FMTTYPE=image/png:https://lbcworship.org/wp-content/uploads/2025/01/Prayer-Praise-Night-Mar-2025.png
GEO:35.5384515;-78.5626116
X-APPLE-STRUCTURED-LOCATION;VALUE=URI;X-ADDRESS=Lighthouse Baptist Church 1140 BH Parrish Rd Benson NC 27504 United States;X-APPLE-RADIUS=500;X-TITLE=1140 BH Parrish Rd:geo:-78.5626116,35.5384515
END:VEVENT
END:VCALENDAR