BEGIN:VCALENDAR
VERSION:2.0
PRODID:-//LBC Worship - ECPv6.15.20//NONSGML v1.0//EN
CALSCALE:GREGORIAN
METHOD:PUBLISH
X-WR-CALNAME:LBC Worship
X-ORIGINAL-URL:https://lbcworship.org
X-WR-CALDESC:Events for LBC Worship
REFRESH-INTERVAL;VALUE=DURATION:PT1H
X-Robots-Tag:noindex
X-PUBLISHED-TTL:PT1H
BEGIN:VTIMEZONE
TZID:America/New_York
BEGIN:DAYLIGHT
TZOFFSETFROM:-0500
TZOFFSETTO:-0400
TZNAME:EDT
DTSTART:20230312T070000
END:DAYLIGHT
BEGIN:STANDARD
TZOFFSETFROM:-0400
TZOFFSETTO:-0500
TZNAME:EST
DTSTART:20231105T060000
END:STANDARD
BEGIN:DAYLIGHT
TZOFFSETFROM:-0500
TZOFFSETTO:-0400
TZNAME:EDT
DTSTART:20240310T070000
END:DAYLIGHT
BEGIN:STANDARD
TZOFFSETFROM:-0400
TZOFFSETTO:-0500
TZNAME:EST
DTSTART:20241103T060000
END:STANDARD
BEGIN:DAYLIGHT
TZOFFSETFROM:-0500
TZOFFSETTO:-0400
TZNAME:EDT
DTSTART:20250309T070000
END:DAYLIGHT
BEGIN:STANDARD
TZOFFSETFROM:-0400
TZOFFSETTO:-0500
TZNAME:EST
DTSTART:20251102T060000
END:STANDARD
BEGIN:DAYLIGHT
TZOFFSETFROM:-0500
TZOFFSETTO:-0400
TZNAME:EDT
DTSTART:20260308T070000
END:DAYLIGHT
BEGIN:STANDARD
TZOFFSETFROM:-0400
TZOFFSETTO:-0500
TZNAME:EST
DTSTART:20261101T060000
END:STANDARD
END:VTIMEZONE
BEGIN:VEVENT
DTSTART;TZID=America/New_York:20250730T181500
DTEND;TZID=America/New_York:20250730T200000
DTSTAMP:20260423T222846
CREATED:20250424T194434Z
LAST-MODIFIED:20250612T204158Z
UID:10002303-1753899300-1753905600@lbcworship.org
SUMMARY:VBS Wednesday 2025
DESCRIPTION:VBS Wednesdays is back this summer! This year’s theme is “Camp Chaos!” \nJoin us every Wednesday evening this July as we learn about how Jesus is our path to peace in this chaotic world through fun skits\, crafts\, games\, and Bible lessons! \nA light dinner will be served each Wednesday. Please let us know of any dietary allergies/restrictions when registering. \nVBS Wednesdays is free\, but we ask that you please register your student so that we know how many to prepare for. \n>>Click Here to Register Your Student Today<< \nVBS is for children in preschool – 5th Grade. \nDoors open for drop off at 6:15pm for a light supper. Program will begin at 6:45pm. \nIf you would like for your child to attend\, please complete the registration form below. \nEmail lbc.vbs.nc@gmail.com with any questions. \n 
URL:https://lbcworship.org/event/vbs-wednesday-2025/2025-07-30/
LOCATION:Lighthouse Baptist Church (Youth Building)\, 1140 BH Parrish Rd.\, Benson\, NC\, 27504\, United States
CATEGORIES:LBC Kids (PreK & Elementary),VBS
ATTACH;FMTTYPE=image/png:https://lbcworship.org/wp-content/uploads/2025/06/Copy-of-Camp-Chaos-VBS-2025-Handout-4-x-5-in-1.png
GEO:35.5384515;-78.5626116
X-APPLE-STRUCTURED-LOCATION;VALUE=URI;X-ADDRESS=Lighthouse Baptist Church (Youth Building) 1140 BH Parrish Rd. Benson NC 27504 United States;X-APPLE-RADIUS=500;X-TITLE=1140 BH Parrish Rd.:geo:-78.5626116,35.5384515
END:VEVENT
BEGIN:VEVENT
DTSTART;TZID=America/New_York:20250723T181500
DTEND;TZID=America/New_York:20250723T200000
DTSTAMP:20260423T222846
CREATED:20250424T194434Z
LAST-MODIFIED:20250612T204158Z
UID:10002302-1753294500-1753300800@lbcworship.org
SUMMARY:VBS Wednesday 2025
DESCRIPTION:VBS Wednesdays is back this summer! This year’s theme is “Camp Chaos!” \nJoin us every Wednesday evening this July as we learn about how Jesus is our path to peace in this chaotic world through fun skits\, crafts\, games\, and Bible lessons! \nA light dinner will be served each Wednesday. Please let us know of any dietary allergies/restrictions when registering. \nVBS Wednesdays is free\, but we ask that you please register your student so that we know how many to prepare for. \n>>Click Here to Register Your Student Today<< \nVBS is for children in preschool – 5th Grade. \nDoors open for drop off at 6:15pm for a light supper. Program will begin at 6:45pm. \nIf you would like for your child to attend\, please complete the registration form below. \nEmail lbc.vbs.nc@gmail.com with any questions. \n 
URL:https://lbcworship.org/event/vbs-wednesday-2025/2025-07-23/
LOCATION:Lighthouse Baptist Church (Youth Building)\, 1140 BH Parrish Rd.\, Benson\, NC\, 27504\, United States
CATEGORIES:LBC Kids (PreK & Elementary),VBS
ATTACH;FMTTYPE=image/png:https://lbcworship.org/wp-content/uploads/2025/06/Copy-of-Camp-Chaos-VBS-2025-Handout-4-x-5-in-1.png
GEO:35.5384515;-78.5626116
X-APPLE-STRUCTURED-LOCATION;VALUE=URI;X-ADDRESS=Lighthouse Baptist Church (Youth Building) 1140 BH Parrish Rd. Benson NC 27504 United States;X-APPLE-RADIUS=500;X-TITLE=1140 BH Parrish Rd.:geo:-78.5626116,35.5384515
END:VEVENT
BEGIN:VEVENT
DTSTART;TZID=America/New_York:20250716T181500
DTEND;TZID=America/New_York:20250716T200000
DTSTAMP:20260423T222846
CREATED:20250424T194434Z
LAST-MODIFIED:20250612T204158Z
UID:10002301-1752689700-1752696000@lbcworship.org
SUMMARY:VBS Wednesday 2025
DESCRIPTION:VBS Wednesdays is back this summer! This year’s theme is “Camp Chaos!” \nJoin us every Wednesday evening this July as we learn about how Jesus is our path to peace in this chaotic world through fun skits\, crafts\, games\, and Bible lessons! \nA light dinner will be served each Wednesday. Please let us know of any dietary allergies/restrictions when registering. \nVBS Wednesdays is free\, but we ask that you please register your student so that we know how many to prepare for. \n>>Click Here to Register Your Student Today<< \nVBS is for children in preschool – 5th Grade. \nDoors open for drop off at 6:15pm for a light supper. Program will begin at 6:45pm. \nIf you would like for your child to attend\, please complete the registration form below. \nEmail lbc.vbs.nc@gmail.com with any questions. \n 
URL:https://lbcworship.org/event/vbs-wednesday-2025/2025-07-16/
LOCATION:Lighthouse Baptist Church (Youth Building)\, 1140 BH Parrish Rd.\, Benson\, NC\, 27504\, United States
CATEGORIES:LBC Kids (PreK & Elementary),VBS
ATTACH;FMTTYPE=image/png:https://lbcworship.org/wp-content/uploads/2025/06/Copy-of-Camp-Chaos-VBS-2025-Handout-4-x-5-in-1.png
GEO:35.5384515;-78.5626116
X-APPLE-STRUCTURED-LOCATION;VALUE=URI;X-ADDRESS=Lighthouse Baptist Church (Youth Building) 1140 BH Parrish Rd. Benson NC 27504 United States;X-APPLE-RADIUS=500;X-TITLE=1140 BH Parrish Rd.:geo:-78.5626116,35.5384515
END:VEVENT
BEGIN:VEVENT
DTSTART;TZID=America/New_York:20250709T181500
DTEND;TZID=America/New_York:20250709T200000
DTSTAMP:20260423T222846
CREATED:20250424T194434Z
LAST-MODIFIED:20250612T204158Z
UID:10002300-1752084900-1752091200@lbcworship.org
SUMMARY:VBS Wednesday 2025
DESCRIPTION:VBS Wednesdays is back this summer! This year’s theme is “Camp Chaos!” \nJoin us every Wednesday evening this July as we learn about how Jesus is our path to peace in this chaotic world through fun skits\, crafts\, games\, and Bible lessons! \nA light dinner will be served each Wednesday. Please let us know of any dietary allergies/restrictions when registering. \nVBS Wednesdays is free\, but we ask that you please register your student so that we know how many to prepare for. \n>>Click Here to Register Your Student Today<< \nVBS is for children in preschool – 5th Grade. \nDoors open for drop off at 6:15pm for a light supper. Program will begin at 6:45pm. \nIf you would like for your child to attend\, please complete the registration form below. \nEmail lbc.vbs.nc@gmail.com with any questions. \n 
URL:https://lbcworship.org/event/vbs-wednesday-2025/2025-07-09/
LOCATION:Lighthouse Baptist Church (Youth Building)\, 1140 BH Parrish Rd.\, Benson\, NC\, 27504\, United States
CATEGORIES:LBC Kids (PreK & Elementary),VBS
ATTACH;FMTTYPE=image/png:https://lbcworship.org/wp-content/uploads/2025/06/Copy-of-Camp-Chaos-VBS-2025-Handout-4-x-5-in-1.png
GEO:35.5384515;-78.5626116
X-APPLE-STRUCTURED-LOCATION;VALUE=URI;X-ADDRESS=Lighthouse Baptist Church (Youth Building) 1140 BH Parrish Rd. Benson NC 27504 United States;X-APPLE-RADIUS=500;X-TITLE=1140 BH Parrish Rd.:geo:-78.5626116,35.5384515
END:VEVENT
BEGIN:VEVENT
DTSTART;TZID=America/New_York:20250702T181500
DTEND;TZID=America/New_York:20250702T200000
DTSTAMP:20260423T222846
CREATED:20250424T194434Z
LAST-MODIFIED:20250612T204158Z
UID:10002299-1751480100-1751486400@lbcworship.org
SUMMARY:VBS Wednesday 2025
DESCRIPTION:VBS Wednesdays is back this summer! This year’s theme is “Camp Chaos!” \nJoin us every Wednesday evening this July as we learn about how Jesus is our path to peace in this chaotic world through fun skits\, crafts\, games\, and Bible lessons! \nA light dinner will be served each Wednesday. Please let us know of any dietary allergies/restrictions when registering. \nVBS Wednesdays is free\, but we ask that you please register your student so that we know how many to prepare for. \n>>Click Here to Register Your Student Today<< \nVBS is for children in preschool – 5th Grade. \nDoors open for drop off at 6:15pm for a light supper. Program will begin at 6:45pm. \nIf you would like for your child to attend\, please complete the registration form below. \nEmail lbc.vbs.nc@gmail.com with any questions. \n 
URL:https://lbcworship.org/event/vbs-wednesday-2025/2025-07-02/
LOCATION:Lighthouse Baptist Church (Youth Building)\, 1140 BH Parrish Rd.\, Benson\, NC\, 27504\, United States
CATEGORIES:LBC Kids (PreK & Elementary),VBS
ATTACH;FMTTYPE=image/png:https://lbcworship.org/wp-content/uploads/2025/06/Copy-of-Camp-Chaos-VBS-2025-Handout-4-x-5-in-1.png
GEO:35.5384515;-78.5626116
X-APPLE-STRUCTURED-LOCATION;VALUE=URI;X-ADDRESS=Lighthouse Baptist Church (Youth Building) 1140 BH Parrish Rd. Benson NC 27504 United States;X-APPLE-RADIUS=500;X-TITLE=1140 BH Parrish Rd.:geo:-78.5626116,35.5384515
END:VEVENT
BEGIN:VEVENT
DTSTART;TZID=America/New_York:20240814T183000
DTEND;TZID=America/New_York:20240814T200000
DTSTAMP:20260423T222846
CREATED:20240809T182826Z
LAST-MODIFIED:20240809T182903Z
UID:10001615-1723660200-1723665600@lbcworship.org
SUMMARY:VBS Wednesdays 2024
DESCRIPTION:VBS Wednesdays is back this summer! This year’s theme is “What A Mess!” \nJoin us as we learn about how Jesus deals with our messes; our sins\, mistakes\, and weaknesses. All the while\, we have lots of messy fun\, with messy snacks\, games\, crafts\, and more! \nVBS is for children in preschool – rising 5th Grade. \nDoors open for drop off at 6:15pm for a light supper. Program will begin at 6:45pm. \nIf you would like for your child(ren) to attend\, please complete the registration form at the link below. \n**Please Note: Children WILL get messy\, please send them in clothing that is OK to get messy in. Thank you** \n>>Click Here to Register Your Child(ren)<< \nWeekly Themes: \n7/17 – Wacky Wednesday: Have you been looking for the perfect occasion to wear that purple and orange plaid shirt with those green and yellow striped shorts? If so\, then this is your day! We’re kicking off VBS Wednesdays with Wacky Wednesday! Slap together the absolute worst mis-matched outfit you can find\, and we’ll see you on our first VBS Wednesday Night! \n7/24 – Technicolor Wednesday: Show off your favorite color by wearing it from head to toe on Technicolor Wednesday! Together\, we’ll make up a super bright rainbow of awesomeness! Clothing in solid colors is encouraged. See you ready for some more messy fun at our 2nd VBS Wednesday Night! \n7/31 – Wrinkled Wednesday: Don’t touch that ironing board\, because Wrinkled Wednesday is almost here! How will you make sure your clothes are wrinkled to perfection? Will you crumple them up and shove them under your bed? Will you sleep in them? Let’s see who shows up with the most wrinkled outfit! \nRESCHEDULED – 8/14 – White Wednesday: **Rescheduled due to Tropical Storm Debby. Night 4 will now take place on 8/14** Wear a white t-shirt that you don’t mind getting messy. Sound boring? Just wait! Your t-shirt won’t be white any more by the end of the night!
URL:https://lbcworship.org/event/vbs-wednesdays-2024-2/
LOCATION:Lighthouse Baptist Church (Youth Building)\, 1140 BH Parrish Rd.\, Benson\, NC\, 27504\, United States
CATEGORIES:VBS
ATTACH;FMTTYPE=image/png:https://lbcworship.org/wp-content/uploads/2024/08/VBS-8-14-White-Wednesday.png
GEO:35.5384515;-78.5626116
X-APPLE-STRUCTURED-LOCATION;VALUE=URI;X-ADDRESS=Lighthouse Baptist Church (Youth Building) 1140 BH Parrish Rd. Benson NC 27504 United States;X-APPLE-RADIUS=500;X-TITLE=1140 BH Parrish Rd.:geo:-78.5626116,35.5384515
END:VEVENT
BEGIN:VEVENT
DTSTART;TZID=America/New_York:20240731T183000
DTEND;TZID=America/New_York:20240731T200000
DTSTAMP:20260423T222846
CREATED:20240502T210339Z
LAST-MODIFIED:20240711T194817Z
UID:10001614-1722450600-1722456000@lbcworship.org
SUMMARY:VBS Wednesdays 2024
DESCRIPTION:VBS Wednesdays is back this summer! This year’s theme is “What A Mess!” \nJoin us as we learn about how Jesus deals with our messes; our sins\, mistakes\, and weaknesses. All the while\, we have lots of messy fun\, with messy snacks\, games\, crafts\, and more! \nVBS is for children in preschool – rising 5th Grade. \nDoors open for drop off at 6:15pm for a light supper. Program will begin at 6:45pm. \nIf you would like for your child(ren) to attend\, please complete the registration form at the link below. \n**Please Note: Children WILL get messy\, please send them in clothing that is OK to get messy in. Thank you** \n>>Click Here to Register Your Child(ren)<< \nWeekly Themes: \n7/17 – Wacky Wednesday: Have you been looking for the perfect occasion to wear that purple and orange plaid shirt with those green and yellow striped shorts? If so\, then this is your day! We’re kicking off VBS Wednesdays with Wacky Wednesday! Slap together the absolute worst mis-matched outfit you can find\, and we’ll see you on our first VBS Wednesday Night! \n7/24 – Technicolor Wednesday: Show off your favorite color by wearing it from head to toe on Technicolor Wednesday! Together\, we’ll make up a super bright rainbow of awesomeness! Clothing in solid colors is encouraged. See you ready for some more messy fun at our 2nd VBS Wednesday Night! \n7/31 – Wrinkled Wednesday: Don’t touch that ironing board\, because Wrinkled Wednesday is almost here! How will you make sure your clothes are wrinkled to perfection? Will you crumple them up and shove them under your bed? Will you sleep in them? Let’s see who shows up with the most wrinkled outfit! \n8/7 – White Wednesday: Wear a white t-shirt that you don’t mind getting messy. Sound boring? Just wait! Your t-shirt won’t be white any more by the end of the night!
URL:https://lbcworship.org/event/vbs-wednesdays-2024/2024-07-31/
LOCATION:Lighthouse Baptist Church (Youth Building)\, 1140 BH Parrish Rd.\, Benson\, NC\, 27504\, United States
CATEGORIES:VBS
ATTACH;FMTTYPE=image/png:https://lbcworship.org/wp-content/uploads/2024/05/VBS-2024.png
GEO:35.5384515;-78.5626116
X-APPLE-STRUCTURED-LOCATION;VALUE=URI;X-ADDRESS=Lighthouse Baptist Church (Youth Building) 1140 BH Parrish Rd. Benson NC 27504 United States;X-APPLE-RADIUS=500;X-TITLE=1140 BH Parrish Rd.:geo:-78.5626116,35.5384515
END:VEVENT
BEGIN:VEVENT
DTSTART;TZID=America/New_York:20240724T183000
DTEND;TZID=America/New_York:20240724T200000
DTSTAMP:20260423T222846
CREATED:20240502T210339Z
LAST-MODIFIED:20240711T194817Z
UID:10001613-1721845800-1721851200@lbcworship.org
SUMMARY:VBS Wednesdays 2024
DESCRIPTION:VBS Wednesdays is back this summer! This year’s theme is “What A Mess!” \nJoin us as we learn about how Jesus deals with our messes; our sins\, mistakes\, and weaknesses. All the while\, we have lots of messy fun\, with messy snacks\, games\, crafts\, and more! \nVBS is for children in preschool – rising 5th Grade. \nDoors open for drop off at 6:15pm for a light supper. Program will begin at 6:45pm. \nIf you would like for your child(ren) to attend\, please complete the registration form at the link below. \n**Please Note: Children WILL get messy\, please send them in clothing that is OK to get messy in. Thank you** \n>>Click Here to Register Your Child(ren)<< \nWeekly Themes: \n7/17 – Wacky Wednesday: Have you been looking for the perfect occasion to wear that purple and orange plaid shirt with those green and yellow striped shorts? If so\, then this is your day! We’re kicking off VBS Wednesdays with Wacky Wednesday! Slap together the absolute worst mis-matched outfit you can find\, and we’ll see you on our first VBS Wednesday Night! \n7/24 – Technicolor Wednesday: Show off your favorite color by wearing it from head to toe on Technicolor Wednesday! Together\, we’ll make up a super bright rainbow of awesomeness! Clothing in solid colors is encouraged. See you ready for some more messy fun at our 2nd VBS Wednesday Night! \n7/31 – Wrinkled Wednesday: Don’t touch that ironing board\, because Wrinkled Wednesday is almost here! How will you make sure your clothes are wrinkled to perfection? Will you crumple them up and shove them under your bed? Will you sleep in them? Let’s see who shows up with the most wrinkled outfit! \n8/7 – White Wednesday: Wear a white t-shirt that you don’t mind getting messy. Sound boring? Just wait! Your t-shirt won’t be white any more by the end of the night!
URL:https://lbcworship.org/event/vbs-wednesdays-2024/2024-07-24/
LOCATION:Lighthouse Baptist Church (Youth Building)\, 1140 BH Parrish Rd.\, Benson\, NC\, 27504\, United States
CATEGORIES:VBS
ATTACH;FMTTYPE=image/png:https://lbcworship.org/wp-content/uploads/2024/05/VBS-2024.png
GEO:35.5384515;-78.5626116
X-APPLE-STRUCTURED-LOCATION;VALUE=URI;X-ADDRESS=Lighthouse Baptist Church (Youth Building) 1140 BH Parrish Rd. Benson NC 27504 United States;X-APPLE-RADIUS=500;X-TITLE=1140 BH Parrish Rd.:geo:-78.5626116,35.5384515
END:VEVENT
BEGIN:VEVENT
DTSTART;TZID=America/New_York:20240717T183000
DTEND;TZID=America/New_York:20240717T200000
DTSTAMP:20260423T222846
CREATED:20240502T210339Z
LAST-MODIFIED:20240711T194817Z
UID:10001612-1721241000-1721246400@lbcworship.org
SUMMARY:VBS Wednesdays 2024
DESCRIPTION:VBS Wednesdays is back this summer! This year’s theme is “What A Mess!” \nJoin us as we learn about how Jesus deals with our messes; our sins\, mistakes\, and weaknesses. All the while\, we have lots of messy fun\, with messy snacks\, games\, crafts\, and more! \nVBS is for children in preschool – rising 5th Grade. \nDoors open for drop off at 6:15pm for a light supper. Program will begin at 6:45pm. \nIf you would like for your child(ren) to attend\, please complete the registration form at the link below. \n**Please Note: Children WILL get messy\, please send them in clothing that is OK to get messy in. Thank you** \n>>Click Here to Register Your Child(ren)<< \nWeekly Themes: \n7/17 – Wacky Wednesday: Have you been looking for the perfect occasion to wear that purple and orange plaid shirt with those green and yellow striped shorts? If so\, then this is your day! We’re kicking off VBS Wednesdays with Wacky Wednesday! Slap together the absolute worst mis-matched outfit you can find\, and we’ll see you on our first VBS Wednesday Night! \n7/24 – Technicolor Wednesday: Show off your favorite color by wearing it from head to toe on Technicolor Wednesday! Together\, we’ll make up a super bright rainbow of awesomeness! Clothing in solid colors is encouraged. See you ready for some more messy fun at our 2nd VBS Wednesday Night! \n7/31 – Wrinkled Wednesday: Don’t touch that ironing board\, because Wrinkled Wednesday is almost here! How will you make sure your clothes are wrinkled to perfection? Will you crumple them up and shove them under your bed? Will you sleep in them? Let’s see who shows up with the most wrinkled outfit! \n8/7 – White Wednesday: Wear a white t-shirt that you don’t mind getting messy. Sound boring? Just wait! Your t-shirt won’t be white any more by the end of the night!
URL:https://lbcworship.org/event/vbs-wednesdays-2024/2024-07-17/
LOCATION:Lighthouse Baptist Church (Youth Building)\, 1140 BH Parrish Rd.\, Benson\, NC\, 27504\, United States
CATEGORIES:VBS
ATTACH;FMTTYPE=image/png:https://lbcworship.org/wp-content/uploads/2024/05/VBS-2024.png
GEO:35.5384515;-78.5626116
X-APPLE-STRUCTURED-LOCATION;VALUE=URI;X-ADDRESS=Lighthouse Baptist Church (Youth Building) 1140 BH Parrish Rd. Benson NC 27504 United States;X-APPLE-RADIUS=500;X-TITLE=1140 BH Parrish Rd.:geo:-78.5626116,35.5384515
END:VEVENT
BEGIN:VEVENT
DTSTART;TZID=America/New_York:20240519T113000
DTEND;TZID=America/New_York:20240519T133000
DTSTAMP:20260423T222846
CREATED:20240502T171217Z
LAST-MODIFIED:20240502T194001Z
UID:10001611-1716118200-1716125400@lbcworship.org
SUMMARY:VBS Wednesdays Volunteer Meeting
DESCRIPTION:VBS Wednesdays is returning to LBC this summer and we need your help to make it happen! VBS Wednesdays will take place Wednesday evenings July 17 through August 7th from 6:30pm-8pm\, with July 10th being a Volunteer Only night for set up. If you are interested in helping with our VBS Wednesdays this year\, please sign-up in the cafe! \nThere will be a Volunteer Meeting on Sunday\, May 19 immediately after service. \nPlease see Carla Bittle with any VBS Wednesday questions!
URL:https://lbcworship.org/event/vbs-wednesdays-volunteer-meeting/
LOCATION:Lighthouse Baptist Church (Youth Building)\, 1140 BH Parrish Rd.\, Benson\, NC\, 27504\, United States
CATEGORIES:VBS
ATTACH;FMTTYPE=image/png:https://lbcworship.org/wp-content/uploads/2024/05/VBS-Wednesdays-Volunteers-Needed.png
GEO:35.5384515;-78.5626116
X-APPLE-STRUCTURED-LOCATION;VALUE=URI;X-ADDRESS=Lighthouse Baptist Church (Youth Building) 1140 BH Parrish Rd. Benson NC 27504 United States;X-APPLE-RADIUS=500;X-TITLE=1140 BH Parrish Rd.:geo:-78.5626116,35.5384515
END:VEVENT
END:VCALENDAR