BEGIN:VCALENDAR
VERSION:2.0
PRODID:-//LBC Worship - ECPv6.15.20//NONSGML v1.0//EN
CALSCALE:GREGORIAN
METHOD:PUBLISH
X-ORIGINAL-URL:https://lbcworship.org
X-WR-CALDESC:Events for LBC Worship
REFRESH-INTERVAL;VALUE=DURATION:PT1H
X-Robots-Tag:noindex
X-PUBLISHED-TTL:PT1H
BEGIN:VTIMEZONE
TZID:America/New_York
BEGIN:DAYLIGHT
TZOFFSETFROM:-0500
TZOFFSETTO:-0400
TZNAME:EDT
DTSTART:20230312T070000
END:DAYLIGHT
BEGIN:STANDARD
TZOFFSETFROM:-0400
TZOFFSETTO:-0500
TZNAME:EST
DTSTART:20231105T060000
END:STANDARD
BEGIN:DAYLIGHT
TZOFFSETFROM:-0500
TZOFFSETTO:-0400
TZNAME:EDT
DTSTART:20240310T070000
END:DAYLIGHT
BEGIN:STANDARD
TZOFFSETFROM:-0400
TZOFFSETTO:-0500
TZNAME:EST
DTSTART:20241103T060000
END:STANDARD
BEGIN:DAYLIGHT
TZOFFSETFROM:-0500
TZOFFSETTO:-0400
TZNAME:EDT
DTSTART:20250309T070000
END:DAYLIGHT
BEGIN:STANDARD
TZOFFSETFROM:-0400
TZOFFSETTO:-0500
TZNAME:EST
DTSTART:20251102T060000
END:STANDARD
END:VTIMEZONE
BEGIN:VEVENT
DTSTART;TZID=America/New_York:20241115T183000
DTEND;TZID=America/New_York:20241115T200000
DTSTAMP:20260424T145504
CREATED:20241019T182921Z
LAST-MODIFIED:20241019T182921Z
UID:10002064-1731695400-1731700800@lbcworship.org
SUMMARY:Youth Group's Family Feast
DESCRIPTION:Sign-up sheet for this is now on the bulletin board at the bottom of the stairs in the Youth Building. \nJoin us for an early Thanksgiving Meal together! \nAfter we eat\, we will decorate a tree for the Youth Room. \nThis event is for all youth members and their families (younger siblings included!). \nSign up to bring a side-dish or dessert and let us know how many from your family will be attending. We’ll provide the rest!
URL:https://lbcworship.org/event/youth-groups-family-feast/
LOCATION:Lighthouse Baptist Church (Youth Building)\, 1140 BH Parrish Rd.\, Benson\, NC\, 27504\, United States
CATEGORIES:Youth Group (6th-12th Grade)
ATTACH;FMTTYPE=image/png:https://lbcworship.org/wp-content/uploads/2024/10/YG-Thanksgiving-Party.png
GEO:35.5384515;-78.5626116
X-APPLE-STRUCTURED-LOCATION;VALUE=URI;X-ADDRESS=Lighthouse Baptist Church (Youth Building) 1140 BH Parrish Rd. Benson NC 27504 United States;X-APPLE-RADIUS=500;X-TITLE=1140 BH Parrish Rd.:geo:-78.5626116,35.5384515
END:VEVENT
BEGIN:VEVENT
DTSTART;VALUE=DATE:20241121
DTEND;VALUE=DATE:20241124
DTSTAMP:20260424T145504
CREATED:20240711T192000Z
LAST-MODIFIED:20240711T192825Z
UID:10001623-1732147200-1732406399@lbcworship.org
SUMMARY:Youth Conference
DESCRIPTION:Youth Group members & their families: We invite you to join us in Pigeon Forge\, TN from Thursday November 21-Saturday November 23 for the Hearts on Fire Youth Conference! \nThe cost of the conference will be $60/person*\, and we have 8 rooms reserved at the Willow Brook Lodge for $252/room Thurs & Friday night.\n*Cost of the conference for Youth Group members will be covered by LBC.\nFor those who would like to stay until Sunday\, Saturday night is available at an additional cost $165.50.\nHotel includes an indoor pool and breakfast served each morning.\nIt is also walking distance to the conference center\, so you will not need to worry about conference parking. \nFor more information about the conference\, please visit heartsonfireministries.org. \nSign-up & payment due by September 1. \nTo Sign-up\, please let Dani Nash know if your family plans to attend\, and if you plan to stay Saturday night as well.\nEmail: lbc.office.team@gmail.com \nPayment can be turned into Dani Nash or Dena Bass on Sunday mornings in the cafe\, or Wednesday evenings. Please make checks payable to LBC. \nFor additional details about the conference and/or hotel\, please see Pastor Tim or Dani Nash.
URL:https://lbcworship.org/event/youth-conference/
LOCATION:LeConte Center at Pigeon Forge\, Teaster Lane\, Pigeon Forge\, TN\, 37863\, United States
CATEGORIES:Youth Group (6th-12th Grade)
ATTACH;FMTTYPE=image/png:https://lbcworship.org/wp-content/uploads/2024/07/Hearts-on-Fire-2024-4.png
GEO:35.7977103;-83.5621423
X-APPLE-STRUCTURED-LOCATION;VALUE=URI;X-ADDRESS=LeConte Center at Pigeon Forge Teaster Lane Pigeon Forge TN 37863 United States;X-APPLE-RADIUS=500;X-TITLE=Teaster Lane:geo:-83.5621423,35.7977103
END:VEVENT
END:VCALENDAR