BEGIN:VCALENDAR
VERSION:2.0
PRODID:-//LBC Worship - ECPv6.15.20//NONSGML v1.0//EN
CALSCALE:GREGORIAN
METHOD:PUBLISH
X-ORIGINAL-URL:https://lbcworship.org
X-WR-CALDESC:Events for LBC Worship
REFRESH-INTERVAL;VALUE=DURATION:PT1H
X-Robots-Tag:noindex
X-PUBLISHED-TTL:PT1H
BEGIN:VTIMEZONE
TZID:America/New_York
BEGIN:DAYLIGHT
TZOFFSETFROM:-0500
TZOFFSETTO:-0400
TZNAME:EDT
DTSTART:20240310T070000
END:DAYLIGHT
BEGIN:STANDARD
TZOFFSETFROM:-0400
TZOFFSETTO:-0500
TZNAME:EST
DTSTART:20241103T060000
END:STANDARD
BEGIN:DAYLIGHT
TZOFFSETFROM:-0500
TZOFFSETTO:-0400
TZNAME:EDT
DTSTART:20250309T070000
END:DAYLIGHT
BEGIN:STANDARD
TZOFFSETFROM:-0400
TZOFFSETTO:-0500
TZNAME:EST
DTSTART:20251102T060000
END:STANDARD
BEGIN:DAYLIGHT
TZOFFSETFROM:-0500
TZOFFSETTO:-0400
TZNAME:EDT
DTSTART:20260308T070000
END:DAYLIGHT
BEGIN:STANDARD
TZOFFSETFROM:-0400
TZOFFSETTO:-0500
TZNAME:EST
DTSTART:20261101T060000
END:STANDARD
END:VTIMEZONE
BEGIN:VEVENT
DTSTART;TZID=America/New_York:20251001T183000
DTEND;TZID=America/New_York:20251001T200000
DTSTAMP:20260423T202431
CREATED:20250816T205508Z
LAST-MODIFIED:20260312T200002Z
UID:10002353-1759343400-1759348800@lbcworship.org
SUMMARY:Youth Group
DESCRIPTION:Youth in 6th grade through 12th grade meet in the Youth Room\, located upstairs in the Youth Building\, Wednesdays from 6:30pm-8pm. Join us each week for a time of music\, fellowship\, Bible study and games. \nOur Youth Group is currently working on the study\, “Experiencing God\,” the teen version\, by Daniel Blackaby and Mike Blackaby. \nNew to Youth Group? Register at https://bit.ly/LBCYGReg
URL:https://lbcworship.org/event/youth-group-2/2025-10-01/
LOCATION:Lighthouse Baptist Church (Youth Building)\, 1140 BH Parrish Rd.\, Benson\, NC\, 27504\, United States
CATEGORIES:Youth Group (6th-12th Grade)
ATTACH;FMTTYPE=image/png:https://lbcworship.org/wp-content/uploads/2024/09/LBC-Youth-Group-2023.png
GEO:35.5384515;-78.5626116
X-APPLE-STRUCTURED-LOCATION;VALUE=URI;X-ADDRESS=Lighthouse Baptist Church (Youth Building) 1140 BH Parrish Rd. Benson NC 27504 United States;X-APPLE-RADIUS=500;X-TITLE=1140 BH Parrish Rd.:geo:-78.5626116,35.5384515
END:VEVENT
BEGIN:VEVENT
DTSTART;TZID=America/New_York:20251008T183000
DTEND;TZID=America/New_York:20251008T200000
DTSTAMP:20260423T202431
CREATED:20250816T205508Z
LAST-MODIFIED:20260312T200002Z
UID:10002354-1759948200-1759953600@lbcworship.org
SUMMARY:Youth Group
DESCRIPTION:Youth in 6th grade through 12th grade meet in the Youth Room\, located upstairs in the Youth Building\, Wednesdays from 6:30pm-8pm. Join us each week for a time of music\, fellowship\, Bible study and games. \nOur Youth Group is currently working on the study\, “Experiencing God\,” the teen version\, by Daniel Blackaby and Mike Blackaby. \nNew to Youth Group? Register at https://bit.ly/LBCYGReg
URL:https://lbcworship.org/event/youth-group-2/2025-10-08/
LOCATION:Lighthouse Baptist Church (Youth Building)\, 1140 BH Parrish Rd.\, Benson\, NC\, 27504\, United States
CATEGORIES:Youth Group (6th-12th Grade)
ATTACH;FMTTYPE=image/png:https://lbcworship.org/wp-content/uploads/2024/09/LBC-Youth-Group-2023.png
GEO:35.5384515;-78.5626116
X-APPLE-STRUCTURED-LOCATION;VALUE=URI;X-ADDRESS=Lighthouse Baptist Church (Youth Building) 1140 BH Parrish Rd. Benson NC 27504 United States;X-APPLE-RADIUS=500;X-TITLE=1140 BH Parrish Rd.:geo:-78.5626116,35.5384515
END:VEVENT
BEGIN:VEVENT
DTSTART;TZID=America/New_York:20251015T183000
DTEND;TZID=America/New_York:20251015T200000
DTSTAMP:20260423T202431
CREATED:20250816T205508Z
LAST-MODIFIED:20260312T200002Z
UID:10002355-1760553000-1760558400@lbcworship.org
SUMMARY:Youth Group
DESCRIPTION:Youth in 6th grade through 12th grade meet in the Youth Room\, located upstairs in the Youth Building\, Wednesdays from 6:30pm-8pm. Join us each week for a time of music\, fellowship\, Bible study and games. \nOur Youth Group is currently working on the study\, “Experiencing God\,” the teen version\, by Daniel Blackaby and Mike Blackaby. \nNew to Youth Group? Register at https://bit.ly/LBCYGReg
URL:https://lbcworship.org/event/youth-group-2/2025-10-15/
LOCATION:Lighthouse Baptist Church (Youth Building)\, 1140 BH Parrish Rd.\, Benson\, NC\, 27504\, United States
CATEGORIES:Youth Group (6th-12th Grade)
ATTACH;FMTTYPE=image/png:https://lbcworship.org/wp-content/uploads/2024/09/LBC-Youth-Group-2023.png
GEO:35.5384515;-78.5626116
X-APPLE-STRUCTURED-LOCATION;VALUE=URI;X-ADDRESS=Lighthouse Baptist Church (Youth Building) 1140 BH Parrish Rd. Benson NC 27504 United States;X-APPLE-RADIUS=500;X-TITLE=1140 BH Parrish Rd.:geo:-78.5626116,35.5384515
END:VEVENT
BEGIN:VEVENT
DTSTART;TZID=America/New_York:20251017T180000
DTEND;TZID=America/New_York:20251018T000000
DTSTAMP:20260423T202431
CREATED:20250928T003819Z
LAST-MODIFIED:20250928T003819Z
UID:10002520-1760724000-1760745600@lbcworship.org
SUMMARY:Youth Group: Fall Youth Night
DESCRIPTION:Save the date for Friday\, October 17 for a special Fall Youth Night!\n\nWe will meet at LBC at 6pm\, kids will load up in our leaders’ vehicles and we will head out to Ken’s Korny Corn Maze for an evening of fellowship and fall fun!\n\nWhen we are finished at the corn maze\, we will head back to LBC for pizza and a “Lock-In.”\n\nParents\, please plan to pick students up between 11pm and 12am at LBC.\n\nPlease reach out to Mr. Danny or Ms. Angelia to let us know if your student will attend or if you have any questions!
URL:https://lbcworship.org/event/youth-group-fall-youth-night/
LOCATION:Lighthouse Baptist Church\, 1140 BH Parrish Rd\, Benson\, NC\, 27504\, United States
CATEGORIES:Youth Group (6th-12th Grade)
ATTACH;FMTTYPE=image/png:https://lbcworship.org/wp-content/uploads/2025/09/Youth-Night-Oct-25.png
GEO:35.5384515;-78.5626116
X-APPLE-STRUCTURED-LOCATION;VALUE=URI;X-ADDRESS=Lighthouse Baptist Church 1140 BH Parrish Rd Benson NC 27504 United States;X-APPLE-RADIUS=500;X-TITLE=1140 BH Parrish Rd:geo:-78.5626116,35.5384515
END:VEVENT
BEGIN:VEVENT
DTSTART;TZID=America/New_York:20251022T183000
DTEND;TZID=America/New_York:20251022T200000
DTSTAMP:20260423T202431
CREATED:20250816T205508Z
LAST-MODIFIED:20260312T200002Z
UID:10002356-1761157800-1761163200@lbcworship.org
SUMMARY:Youth Group
DESCRIPTION:Youth in 6th grade through 12th grade meet in the Youth Room\, located upstairs in the Youth Building\, Wednesdays from 6:30pm-8pm. Join us each week for a time of music\, fellowship\, Bible study and games. \nOur Youth Group is currently working on the study\, “Experiencing God\,” the teen version\, by Daniel Blackaby and Mike Blackaby. \nNew to Youth Group? Register at https://bit.ly/LBCYGReg
URL:https://lbcworship.org/event/youth-group-2/2025-10-22/
LOCATION:Lighthouse Baptist Church (Youth Building)\, 1140 BH Parrish Rd.\, Benson\, NC\, 27504\, United States
CATEGORIES:Youth Group (6th-12th Grade)
ATTACH;FMTTYPE=image/png:https://lbcworship.org/wp-content/uploads/2024/09/LBC-Youth-Group-2023.png
GEO:35.5384515;-78.5626116
X-APPLE-STRUCTURED-LOCATION;VALUE=URI;X-ADDRESS=Lighthouse Baptist Church (Youth Building) 1140 BH Parrish Rd. Benson NC 27504 United States;X-APPLE-RADIUS=500;X-TITLE=1140 BH Parrish Rd.:geo:-78.5626116,35.5384515
END:VEVENT
BEGIN:VEVENT
DTSTART;TZID=America/New_York:20251029T183000
DTEND;TZID=America/New_York:20251029T200000
DTSTAMP:20260423T202431
CREATED:20250816T205508Z
LAST-MODIFIED:20260312T200002Z
UID:10002357-1761762600-1761768000@lbcworship.org
SUMMARY:Youth Group
DESCRIPTION:Youth in 6th grade through 12th grade meet in the Youth Room\, located upstairs in the Youth Building\, Wednesdays from 6:30pm-8pm. Join us each week for a time of music\, fellowship\, Bible study and games. \nOur Youth Group is currently working on the study\, “Experiencing God\,” the teen version\, by Daniel Blackaby and Mike Blackaby. \nNew to Youth Group? Register at https://bit.ly/LBCYGReg
URL:https://lbcworship.org/event/youth-group-2/2025-10-29/
LOCATION:Lighthouse Baptist Church (Youth Building)\, 1140 BH Parrish Rd.\, Benson\, NC\, 27504\, United States
CATEGORIES:Youth Group (6th-12th Grade)
ATTACH;FMTTYPE=image/png:https://lbcworship.org/wp-content/uploads/2024/09/LBC-Youth-Group-2023.png
GEO:35.5384515;-78.5626116
X-APPLE-STRUCTURED-LOCATION;VALUE=URI;X-ADDRESS=Lighthouse Baptist Church (Youth Building) 1140 BH Parrish Rd. Benson NC 27504 United States;X-APPLE-RADIUS=500;X-TITLE=1140 BH Parrish Rd.:geo:-78.5626116,35.5384515
END:VEVENT
END:VCALENDAR