BEGIN:VCALENDAR
VERSION:2.0
PRODID:-//LBC Worship - ECPv6.15.20//NONSGML v1.0//EN
CALSCALE:GREGORIAN
METHOD:PUBLISH
X-WR-CALNAME:LBC Worship
X-ORIGINAL-URL:https://lbcworship.org
X-WR-CALDESC:Events for LBC Worship
REFRESH-INTERVAL;VALUE=DURATION:PT1H
X-Robots-Tag:noindex
X-PUBLISHED-TTL:PT1H
BEGIN:VTIMEZONE
TZID:America/New_York
BEGIN:DAYLIGHT
TZOFFSETFROM:-0500
TZOFFSETTO:-0400
TZNAME:EDT
DTSTART:20230312T070000
END:DAYLIGHT
BEGIN:STANDARD
TZOFFSETFROM:-0400
TZOFFSETTO:-0500
TZNAME:EST
DTSTART:20231105T060000
END:STANDARD
BEGIN:DAYLIGHT
TZOFFSETFROM:-0500
TZOFFSETTO:-0400
TZNAME:EDT
DTSTART:20240310T070000
END:DAYLIGHT
BEGIN:STANDARD
TZOFFSETFROM:-0400
TZOFFSETTO:-0500
TZNAME:EST
DTSTART:20241103T060000
END:STANDARD
BEGIN:DAYLIGHT
TZOFFSETFROM:-0500
TZOFFSETTO:-0400
TZNAME:EDT
DTSTART:20250309T070000
END:DAYLIGHT
BEGIN:STANDARD
TZOFFSETFROM:-0400
TZOFFSETTO:-0500
TZNAME:EST
DTSTART:20251102T060000
END:STANDARD
END:VTIMEZONE
BEGIN:VEVENT
DTSTART;TZID=America/New_York:20240703T180000
DTEND;TZID=America/New_York:20240703T200000
DTSTAMP:20260423T210157
CREATED:20240606T164932Z
LAST-MODIFIED:20240613T153156Z
UID:10001620-1720029600-1720036800@lbcworship.org
SUMMARY:No Wednesday Programs
DESCRIPTION:There will be no Wednesday evening services/programs on Wednesday\, July 3. \nWe hope all of our LBC family has a wonderful and safe Independence Day week! \nJoin us for Sunday morning worship at 10am on July 7th!
URL:https://lbcworship.org/event/no-wednesday-programs-2/
LOCATION:Lighthouse Baptist Church\, 1140 BH Parrish Rd\, Benson\, NC\, 27504\, United States
CATEGORIES:Bible Study,LBC Kids (PreK & Elementary),Youth Group (6th-12th Grade)
ATTACH;FMTTYPE=image/png:https://lbcworship.org/wp-content/uploads/2024/06/No-Wed-Programs-July-3.png
GEO:35.5384515;-78.5626116
X-APPLE-STRUCTURED-LOCATION;VALUE=URI;X-ADDRESS=Lighthouse Baptist Church 1140 BH Parrish Rd Benson NC 27504 United States;X-APPLE-RADIUS=500;X-TITLE=1140 BH Parrish Rd:geo:-78.5626116,35.5384515
END:VEVENT
BEGIN:VEVENT
DTSTART;TZID=America/New_York:20240609T113000
DTEND;TZID=America/New_York:20240609T114500
DTSTAMP:20260423T210157
CREATED:20240606T150610Z
LAST-MODIFIED:20240606T150630Z
UID:10001619-1717932600-1717933500@lbcworship.org
SUMMARY:Youth Group Parent & Student Meeting
DESCRIPTION:Parents of rising 6th-12th grade students (and students!)\, please plan to stay after service for a brief meeting with Pastor Tim about some important updates and opportunities for our Youth Group!
URL:https://lbcworship.org/event/youth-group-parent-student-meeting/
LOCATION:Lighthouse Baptist Church\, 1140 BH Parrish Rd\, Benson\, NC\, 27504\, United States
CATEGORIES:Youth Group (6th-12th Grade)
ATTACH;FMTTYPE=image/png:https://lbcworship.org/wp-content/uploads/2024/06/Youth-Parent-Meeting.png
GEO:35.5384515;-78.5626116
X-APPLE-STRUCTURED-LOCATION;VALUE=URI;X-ADDRESS=Lighthouse Baptist Church 1140 BH Parrish Rd Benson NC 27504 United States;X-APPLE-RADIUS=500;X-TITLE=1140 BH Parrish Rd:geo:-78.5626116,35.5384515
END:VEVENT
BEGIN:VEVENT
DTSTART;TZID=America/New_York:20240428T113000
DTEND;TZID=America/New_York:20240428T114500
DTSTAMP:20260423T210157
CREATED:20240410T234711Z
LAST-MODIFIED:20240410T234711Z
UID:10001543-1714303800-1714304700@lbcworship.org
SUMMARY:Youth Camp Informational Meeting
DESCRIPTION:We invite any youth from rising 6th – 12th grade\, and their parents\, interested in attending camp this summer to stay after service on Sunday\, April 28 for a brief informational meeting about camp. See Trae or Ashley Edwards with any questions. \n>>Click Here to Watch the Youth Camp Promo Video<<
URL:https://lbcworship.org/event/youth-camp-informational-meeting/
LOCATION:Lighthouse Baptist Church\, 1140 BH Parrish Rd\, Benson\, NC\, 27504\, United States
CATEGORIES:Youth Group (6th-12th Grade)
ATTACH;FMTTYPE=image/png:https://lbcworship.org/wp-content/uploads/2024/04/Youth-Camp-Interest-Meeting.png
GEO:35.5384515;-78.5626116
X-APPLE-STRUCTURED-LOCATION;VALUE=URI;X-ADDRESS=Lighthouse Baptist Church 1140 BH Parrish Rd Benson NC 27504 United States;X-APPLE-RADIUS=500;X-TITLE=1140 BH Parrish Rd:geo:-78.5626116,35.5384515
END:VEVENT
END:VCALENDAR