BEGIN:VCALENDAR
VERSION:2.0
PRODID:-//LBC Worship - ECPv6.15.20//NONSGML v1.0//EN
CALSCALE:GREGORIAN
METHOD:PUBLISH
X-WR-CALNAME:LBC Worship
X-ORIGINAL-URL:https://lbcworship.org
X-WR-CALDESC:Events for LBC Worship
REFRESH-INTERVAL;VALUE=DURATION:PT1H
X-Robots-Tag:noindex
X-PUBLISHED-TTL:PT1H
BEGIN:VTIMEZONE
TZID:America/New_York
BEGIN:DAYLIGHT
TZOFFSETFROM:-0500
TZOFFSETTO:-0400
TZNAME:EDT
DTSTART:20230312T070000
END:DAYLIGHT
BEGIN:STANDARD
TZOFFSETFROM:-0400
TZOFFSETTO:-0500
TZNAME:EST
DTSTART:20231105T060000
END:STANDARD
BEGIN:DAYLIGHT
TZOFFSETFROM:-0500
TZOFFSETTO:-0400
TZNAME:EDT
DTSTART:20240310T070000
END:DAYLIGHT
BEGIN:STANDARD
TZOFFSETFROM:-0400
TZOFFSETTO:-0500
TZNAME:EST
DTSTART:20241103T060000
END:STANDARD
BEGIN:DAYLIGHT
TZOFFSETFROM:-0500
TZOFFSETTO:-0400
TZNAME:EDT
DTSTART:20250309T070000
END:DAYLIGHT
BEGIN:STANDARD
TZOFFSETFROM:-0400
TZOFFSETTO:-0500
TZNAME:EST
DTSTART:20251102T060000
END:STANDARD
END:VTIMEZONE
BEGIN:VEVENT
DTSTART;TZID=America/New_York:20240515T190000
DTEND;TZID=America/New_York:20240515T200000
DTSTAMP:20260425T121417
CREATED:20240313T150923Z
LAST-MODIFIED:20241127T141551Z
UID:10001180-1715799600-1715803200@lbcworship.org
SUMMARY:Wednesday Night Adult Bible Study
DESCRIPTION:Join us each week as we take a closer look at the scriptures from the Sunday service during our Wednesday Night Adult Bible Study. \nThis group meets every Wednesday from 7:00pm until 8:00pm in the sanctuary. \nStudy sheets for the week can be picked up in the café on Sunday mornings.
URL:https://lbcworship.org/event/wednesday-night-adult-bible-study-8-2-2-4-2/2024-05-15/
LOCATION:Lighthouse Baptist Church\, 1140 BH Parrish Rd\, Benson\, NC\, 27504\, United States
CATEGORIES:Bible Study
ATTACH;FMTTYPE=image/png:https://lbcworship.org/wp-content/uploads/2023/08/Wed-Bible-Study-Oct-2023.png
GEO:35.5384515;-78.5626116
X-APPLE-STRUCTURED-LOCATION;VALUE=URI;X-ADDRESS=Lighthouse Baptist Church 1140 BH Parrish Rd Benson NC 27504 United States;X-APPLE-RADIUS=500;X-TITLE=1140 BH Parrish Rd:geo:-78.5626116,35.5384515
END:VEVENT
BEGIN:VEVENT
DTSTART;TZID=America/New_York:20240515T184500
DTEND;TZID=America/New_York:20240515T200000
DTSTAMP:20260425T121417
CREATED:20240313T151035Z
LAST-MODIFIED:20240531T134232Z
UID:10001231-1715798700-1715803200@lbcworship.org
SUMMARY:Kudzu Kidz
DESCRIPTION:Join us for an all new program for our preschoolers & elementary students\, Kudzu Kidz! We hope you can come join the fun as we learn about God through lessons\, games\, and fun! This program runs from 6:45pm-8pm each Wednesday. Doors open for drop off at 6:30pm. If you have any questions\, please reach out to our Youth & Children Pastor Trae Edwards. \nNew to attending? Register your child at https://bit.ly/LBCKidsWedNightReg
URL:https://lbcworship.org/event/kudzu-kidz-2-2-2/2024-05-15/
LOCATION:Lighthouse Baptist Church (Youth Building)\, 1140 BH Parrish Rd.\, Benson\, NC\, 27504\, United States
CATEGORIES:LBC Kids (PreK & Elementary)
ATTACH;FMTTYPE=image/png:https://lbcworship.org/wp-content/uploads/2024/04/Kudzu-Kidz.png
GEO:35.5384515;-78.5626116
X-APPLE-STRUCTURED-LOCATION;VALUE=URI;X-ADDRESS=Lighthouse Baptist Church (Youth Building) 1140 BH Parrish Rd. Benson NC 27504 United States;X-APPLE-RADIUS=500;X-TITLE=1140 BH Parrish Rd.:geo:-78.5626116,35.5384515
END:VEVENT
BEGIN:VEVENT
DTSTART;TZID=America/New_York:20240515T183000
DTEND;TZID=America/New_York:20240515T200000
DTSTAMP:20260425T121417
CREATED:20240313T151116Z
LAST-MODIFIED:20240606T165213Z
UID:10001505-1715797800-1715803200@lbcworship.org
SUMMARY:Youth Group
DESCRIPTION:All youth in grades 6 through 12\, come join us upstairs in the Youth Building every Wednesday evening at 6:30pm for Music\, Friends\, Discipleship\, Worship & Games! \nNew to Youth Group? Fill out an online registration form >>here<<!
URL:https://lbcworship.org/event/youth-group-2-2-2/2024-05-15/
LOCATION:Lighthouse Baptist Church (Youth Building)\, 1140 BH Parrish Rd.\, Benson\, NC\, 27504\, United States
ATTACH;FMTTYPE=image/png:https://lbcworship.org/wp-content/uploads/2024/02/Youth-Group-Slide-2024-1.png
GEO:35.5384515;-78.5626116
X-APPLE-STRUCTURED-LOCATION;VALUE=URI;X-ADDRESS=Lighthouse Baptist Church (Youth Building) 1140 BH Parrish Rd. Benson NC 27504 United States;X-APPLE-RADIUS=500;X-TITLE=1140 BH Parrish Rd.:geo:-78.5626116,35.5384515
END:VEVENT
BEGIN:VEVENT
DTSTART;TZID=America/New_York:20240512T101500
DTEND;TZID=America/New_York:20240512T113000
DTSTAMP:20260425T121417
CREATED:20240418T155744Z
LAST-MODIFIED:20250821T191538Z
UID:10001597-1715508900-1715513400@lbcworship.org
SUMMARY:LBC's Little Lights
DESCRIPTION:Starting in February 2024\, our Little Lights program will only take place on the 2nd & 4th Sundays. We ask that our families join together for worship on all other Sundays. \nLBC’s Little Lights is our Children’s Church program for children ages 4 years – 5th grade. \nChildren start off in the sanctuary for a time of music and worship with the congregation and are then dismissed to Children’s Church after the first 2 songs during fellowship time. Please sign-in your child in the café before service begins\, or at time of dismissal. Children are then escorted to the gym for a Bible lesson\, worship\, crafts and games. \nIf this is your first time with us\, please fill out the registration form at the link below. Hard copies are also available at check-in. \nOur Little Lights program is optional\, as much as we would love to have your child join us\, we do understand if you are more comfortable keeping them with you in service and you are welcome to do so. \n<<Children’s Church Registration>>
URL:https://lbcworship.org/event/lbc-little-lights/2024-05-12/
LOCATION:Lighthouse Baptist Church\, 1140 BH Parrish Rd\, Benson\, NC\, 27504\, United States
ATTACH;FMTTYPE=image/png:https://lbcworship.org/wp-content/uploads/2024/04/LBC-LL_CC-Slide-Show2024.png
GEO:35.5384515;-78.5626116
X-APPLE-STRUCTURED-LOCATION;VALUE=URI;X-ADDRESS=Lighthouse Baptist Church 1140 BH Parrish Rd Benson NC 27504 United States;X-APPLE-RADIUS=500;X-TITLE=1140 BH Parrish Rd:geo:-78.5626116,35.5384515
END:VEVENT
BEGIN:VEVENT
DTSTART;TZID=America/New_York:20240512T093000
DTEND;TZID=America/New_York:20240512T095000
DTSTAMP:20260425T121417
CREATED:20240118T180655Z
LAST-MODIFIED:20240118T180655Z
UID:10001423-1715506200-1715507400@lbcworship.org
SUMMARY:Sunday Morning Prayer Meeting
DESCRIPTION:Gather in the conference room at 9:30am each Sunday for a few moments of prayer together before service begins.
URL:https://lbcworship.org/event/sunday-morning-prayer-meeting/2024-05-12/
LOCATION:Lighthouse Baptist Church (Youth Building)\, 1140 BH Parrish Rd.\, Benson\, NC\, 27504\, United States
ATTACH;FMTTYPE=image/png:https://lbcworship.org/wp-content/uploads/2023/09/Sunday-Morning-Prayer-Meeting-.png
GEO:35.5384515;-78.5626116
X-APPLE-STRUCTURED-LOCATION;VALUE=URI;X-ADDRESS=Lighthouse Baptist Church (Youth Building) 1140 BH Parrish Rd. Benson NC 27504 United States;X-APPLE-RADIUS=500;X-TITLE=1140 BH Parrish Rd.:geo:-78.5626116,35.5384515
END:VEVENT
BEGIN:VEVENT
DTSTART;TZID=America/New_York:20240508T190000
DTEND;TZID=America/New_York:20240508T200000
DTSTAMP:20260425T121417
CREATED:20240313T150923Z
LAST-MODIFIED:20241127T141551Z
UID:10001179-1715194800-1715198400@lbcworship.org
SUMMARY:Wednesday Night Adult Bible Study
DESCRIPTION:Join us each week as we take a closer look at the scriptures from the Sunday service during our Wednesday Night Adult Bible Study. \nThis group meets every Wednesday from 7:00pm until 8:00pm in the sanctuary. \nStudy sheets for the week can be picked up in the café on Sunday mornings.
URL:https://lbcworship.org/event/wednesday-night-adult-bible-study-8-2-2-4-2/2024-05-08/
LOCATION:Lighthouse Baptist Church\, 1140 BH Parrish Rd\, Benson\, NC\, 27504\, United States
CATEGORIES:Bible Study
ATTACH;FMTTYPE=image/png:https://lbcworship.org/wp-content/uploads/2023/08/Wed-Bible-Study-Oct-2023.png
GEO:35.5384515;-78.5626116
X-APPLE-STRUCTURED-LOCATION;VALUE=URI;X-ADDRESS=Lighthouse Baptist Church 1140 BH Parrish Rd Benson NC 27504 United States;X-APPLE-RADIUS=500;X-TITLE=1140 BH Parrish Rd:geo:-78.5626116,35.5384515
END:VEVENT
BEGIN:VEVENT
DTSTART;TZID=America/New_York:20240508T184500
DTEND;TZID=America/New_York:20240508T200000
DTSTAMP:20260425T121417
CREATED:20240313T151035Z
LAST-MODIFIED:20240531T134232Z
UID:10001230-1715193900-1715198400@lbcworship.org
SUMMARY:Kudzu Kidz
DESCRIPTION:Join us for an all new program for our preschoolers & elementary students\, Kudzu Kidz! We hope you can come join the fun as we learn about God through lessons\, games\, and fun! This program runs from 6:45pm-8pm each Wednesday. Doors open for drop off at 6:30pm. If you have any questions\, please reach out to our Youth & Children Pastor Trae Edwards. \nNew to attending? Register your child at https://bit.ly/LBCKidsWedNightReg
URL:https://lbcworship.org/event/kudzu-kidz-2-2-2/2024-05-08/
LOCATION:Lighthouse Baptist Church (Youth Building)\, 1140 BH Parrish Rd.\, Benson\, NC\, 27504\, United States
CATEGORIES:LBC Kids (PreK & Elementary)
ATTACH;FMTTYPE=image/png:https://lbcworship.org/wp-content/uploads/2024/04/Kudzu-Kidz.png
GEO:35.5384515;-78.5626116
X-APPLE-STRUCTURED-LOCATION;VALUE=URI;X-ADDRESS=Lighthouse Baptist Church (Youth Building) 1140 BH Parrish Rd. Benson NC 27504 United States;X-APPLE-RADIUS=500;X-TITLE=1140 BH Parrish Rd.:geo:-78.5626116,35.5384515
END:VEVENT
BEGIN:VEVENT
DTSTART;TZID=America/New_York:20240508T183000
DTEND;TZID=America/New_York:20240508T200000
DTSTAMP:20260425T121417
CREATED:20240313T151116Z
LAST-MODIFIED:20240606T165213Z
UID:10001504-1715193000-1715198400@lbcworship.org
SUMMARY:Youth Group
DESCRIPTION:All youth in grades 6 through 12\, come join us upstairs in the Youth Building every Wednesday evening at 6:30pm for Music\, Friends\, Discipleship\, Worship & Games! \nNew to Youth Group? Fill out an online registration form >>here<<!
URL:https://lbcworship.org/event/youth-group-2-2-2/2024-05-08/
LOCATION:Lighthouse Baptist Church (Youth Building)\, 1140 BH Parrish Rd.\, Benson\, NC\, 27504\, United States
ATTACH;FMTTYPE=image/png:https://lbcworship.org/wp-content/uploads/2024/02/Youth-Group-Slide-2024-1.png
GEO:35.5384515;-78.5626116
X-APPLE-STRUCTURED-LOCATION;VALUE=URI;X-ADDRESS=Lighthouse Baptist Church (Youth Building) 1140 BH Parrish Rd. Benson NC 27504 United States;X-APPLE-RADIUS=500;X-TITLE=1140 BH Parrish Rd.:geo:-78.5626116,35.5384515
END:VEVENT
BEGIN:VEVENT
DTSTART;TZID=America/New_York:20240505T100000
DTEND;TZID=America/New_York:20240505T133000
DTSTAMP:20260425T121417
CREATED:20240321T172811Z
LAST-MODIFIED:20240321T172811Z
UID:10001542-1714903200-1714915800@lbcworship.org
SUMMARY:Missions Sunday: The Williams Family
DESCRIPTION:Join us for Missions Sunday as we highlight one of LBC’s supported missionary teams: The Williams Family. Matt will share a special message from the Word of God and about the family’s upcoming mission in Brazil. Join us after service for a time of fellowship\, a meal\, and a chance to speak with Matt & Joy more about Brazil. Please sign-up at the link below or in the cafe if you plan to attend the lunch so that we know how many to prepare food for. \n>>Online Registration<<
URL:https://lbcworship.org/event/missions-sunday-the-williams-family/
LOCATION:Lighthouse Baptist Church\, 1140 BH Parrish Rd\, Benson\, NC\, 27504\, United States
ATTACH;FMTTYPE=image/png:https://lbcworship.org/wp-content/uploads/2024/03/Mission-Sunday-with-the-Williams-Family-1.png
GEO:35.5384515;-78.5626116
X-APPLE-STRUCTURED-LOCATION;VALUE=URI;X-ADDRESS=Lighthouse Baptist Church 1140 BH Parrish Rd Benson NC 27504 United States;X-APPLE-RADIUS=500;X-TITLE=1140 BH Parrish Rd:geo:-78.5626116,35.5384515
END:VEVENT
BEGIN:VEVENT
DTSTART;TZID=America/New_York:20240505T093000
DTEND;TZID=America/New_York:20240505T095000
DTSTAMP:20260425T121417
CREATED:20240118T180655Z
LAST-MODIFIED:20240118T180655Z
UID:10001422-1714901400-1714902600@lbcworship.org
SUMMARY:Sunday Morning Prayer Meeting
DESCRIPTION:Gather in the conference room at 9:30am each Sunday for a few moments of prayer together before service begins.
URL:https://lbcworship.org/event/sunday-morning-prayer-meeting/2024-05-05/
LOCATION:Lighthouse Baptist Church (Youth Building)\, 1140 BH Parrish Rd.\, Benson\, NC\, 27504\, United States
ATTACH;FMTTYPE=image/png:https://lbcworship.org/wp-content/uploads/2023/09/Sunday-Morning-Prayer-Meeting-.png
GEO:35.5384515;-78.5626116
X-APPLE-STRUCTURED-LOCATION;VALUE=URI;X-ADDRESS=Lighthouse Baptist Church (Youth Building) 1140 BH Parrish Rd. Benson NC 27504 United States;X-APPLE-RADIUS=500;X-TITLE=1140 BH Parrish Rd.:geo:-78.5626116,35.5384515
END:VEVENT
BEGIN:VEVENT
DTSTART;TZID=America/New_York:20240501T190000
DTEND;TZID=America/New_York:20240501T200000
DTSTAMP:20260425T121417
CREATED:20240313T150923Z
LAST-MODIFIED:20241127T141551Z
UID:10001178-1714590000-1714593600@lbcworship.org
SUMMARY:Wednesday Night Adult Bible Study
DESCRIPTION:Join us each week as we take a closer look at the scriptures from the Sunday service during our Wednesday Night Adult Bible Study. \nThis group meets every Wednesday from 7:00pm until 8:00pm in the sanctuary. \nStudy sheets for the week can be picked up in the café on Sunday mornings.
URL:https://lbcworship.org/event/wednesday-night-adult-bible-study-8-2-2-4-2/2024-05-01/
LOCATION:Lighthouse Baptist Church\, 1140 BH Parrish Rd\, Benson\, NC\, 27504\, United States
CATEGORIES:Bible Study
ATTACH;FMTTYPE=image/png:https://lbcworship.org/wp-content/uploads/2023/08/Wed-Bible-Study-Oct-2023.png
GEO:35.5384515;-78.5626116
X-APPLE-STRUCTURED-LOCATION;VALUE=URI;X-ADDRESS=Lighthouse Baptist Church 1140 BH Parrish Rd Benson NC 27504 United States;X-APPLE-RADIUS=500;X-TITLE=1140 BH Parrish Rd:geo:-78.5626116,35.5384515
END:VEVENT
BEGIN:VEVENT
DTSTART;TZID=America/New_York:20240501T184500
DTEND;TZID=America/New_York:20240501T200000
DTSTAMP:20260425T121417
CREATED:20240313T151035Z
LAST-MODIFIED:20240531T134232Z
UID:10001229-1714589100-1714593600@lbcworship.org
SUMMARY:Kudzu Kidz
DESCRIPTION:Join us for an all new program for our preschoolers & elementary students\, Kudzu Kidz! We hope you can come join the fun as we learn about God through lessons\, games\, and fun! This program runs from 6:45pm-8pm each Wednesday. Doors open for drop off at 6:30pm. If you have any questions\, please reach out to our Youth & Children Pastor Trae Edwards. \nNew to attending? Register your child at https://bit.ly/LBCKidsWedNightReg
URL:https://lbcworship.org/event/kudzu-kidz-2-2-2/2024-05-01/
LOCATION:Lighthouse Baptist Church (Youth Building)\, 1140 BH Parrish Rd.\, Benson\, NC\, 27504\, United States
CATEGORIES:LBC Kids (PreK & Elementary)
ATTACH;FMTTYPE=image/png:https://lbcworship.org/wp-content/uploads/2024/04/Kudzu-Kidz.png
GEO:35.5384515;-78.5626116
X-APPLE-STRUCTURED-LOCATION;VALUE=URI;X-ADDRESS=Lighthouse Baptist Church (Youth Building) 1140 BH Parrish Rd. Benson NC 27504 United States;X-APPLE-RADIUS=500;X-TITLE=1140 BH Parrish Rd.:geo:-78.5626116,35.5384515
END:VEVENT
BEGIN:VEVENT
DTSTART;TZID=America/New_York:20240428T113000
DTEND;TZID=America/New_York:20240428T114500
DTSTAMP:20260425T121417
CREATED:20240410T234711Z
LAST-MODIFIED:20240410T234711Z
UID:10001543-1714303800-1714304700@lbcworship.org
SUMMARY:Youth Camp Informational Meeting
DESCRIPTION:We invite any youth from rising 6th – 12th grade\, and their parents\, interested in attending camp this summer to stay after service on Sunday\, April 28 for a brief informational meeting about camp. See Trae or Ashley Edwards with any questions. \n>>Click Here to Watch the Youth Camp Promo Video<<
URL:https://lbcworship.org/event/youth-camp-informational-meeting/
LOCATION:Lighthouse Baptist Church\, 1140 BH Parrish Rd\, Benson\, NC\, 27504\, United States
CATEGORIES:Youth Group (6th-12th Grade)
ATTACH;FMTTYPE=image/png:https://lbcworship.org/wp-content/uploads/2024/04/Youth-Camp-Interest-Meeting.png
GEO:35.5384515;-78.5626116
X-APPLE-STRUCTURED-LOCATION;VALUE=URI;X-ADDRESS=Lighthouse Baptist Church 1140 BH Parrish Rd Benson NC 27504 United States;X-APPLE-RADIUS=500;X-TITLE=1140 BH Parrish Rd:geo:-78.5626116,35.5384515
END:VEVENT
BEGIN:VEVENT
DTSTART;TZID=America/New_York:20240428T093000
DTEND;TZID=America/New_York:20240428T095000
DTSTAMP:20260425T121417
CREATED:20240118T180655Z
LAST-MODIFIED:20240118T180655Z
UID:10001421-1714296600-1714297800@lbcworship.org
SUMMARY:Sunday Morning Prayer Meeting
DESCRIPTION:Gather in the conference room at 9:30am each Sunday for a few moments of prayer together before service begins.
URL:https://lbcworship.org/event/sunday-morning-prayer-meeting/2024-04-28/
LOCATION:Lighthouse Baptist Church (Youth Building)\, 1140 BH Parrish Rd.\, Benson\, NC\, 27504\, United States
ATTACH;FMTTYPE=image/png:https://lbcworship.org/wp-content/uploads/2023/09/Sunday-Morning-Prayer-Meeting-.png
GEO:35.5384515;-78.5626116
X-APPLE-STRUCTURED-LOCATION;VALUE=URI;X-ADDRESS=Lighthouse Baptist Church (Youth Building) 1140 BH Parrish Rd. Benson NC 27504 United States;X-APPLE-RADIUS=500;X-TITLE=1140 BH Parrish Rd.:geo:-78.5626116,35.5384515
END:VEVENT
END:VCALENDAR