BEGIN:VCALENDAR
VERSION:2.0
PRODID:-//LBC Worship - ECPv6.15.20//NONSGML v1.0//EN
CALSCALE:GREGORIAN
METHOD:PUBLISH
X-WR-CALNAME:LBC Worship
X-ORIGINAL-URL:https://lbcworship.org
X-WR-CALDESC:Events for LBC Worship
REFRESH-INTERVAL;VALUE=DURATION:PT1H
X-Robots-Tag:noindex
X-PUBLISHED-TTL:PT1H
BEGIN:VTIMEZONE
TZID:America/New_York
BEGIN:DAYLIGHT
TZOFFSETFROM:-0500
TZOFFSETTO:-0400
TZNAME:EDT
DTSTART:20240310T070000
END:DAYLIGHT
BEGIN:STANDARD
TZOFFSETFROM:-0400
TZOFFSETTO:-0500
TZNAME:EST
DTSTART:20241103T060000
END:STANDARD
BEGIN:DAYLIGHT
TZOFFSETFROM:-0500
TZOFFSETTO:-0400
TZNAME:EDT
DTSTART:20250309T070000
END:DAYLIGHT
BEGIN:STANDARD
TZOFFSETFROM:-0400
TZOFFSETTO:-0500
TZNAME:EST
DTSTART:20251102T060000
END:STANDARD
BEGIN:DAYLIGHT
TZOFFSETFROM:-0500
TZOFFSETTO:-0400
TZNAME:EDT
DTSTART:20260308T070000
END:DAYLIGHT
BEGIN:STANDARD
TZOFFSETFROM:-0400
TZOFFSETTO:-0500
TZNAME:EST
DTSTART:20261101T060000
END:STANDARD
END:VTIMEZONE
BEGIN:VEVENT
DTSTART;TZID=America/New_York:20251102T093000
DTEND;TZID=America/New_York:20251102T095000
DTSTAMP:20260423T184819
CREATED:20250109T172558Z
LAST-MODIFIED:20250109T172603Z
UID:10002270-1762075800-1762077000@lbcworship.org
SUMMARY:Sunday Morning Prayer Meeting
DESCRIPTION:Gather in the conference room at 9:30am each Sunday for a time of prayer together before service begins.
URL:https://lbcworship.org/event/sunday-morning-prayer-meeting-2/2025-11-02/
LOCATION:Lighthouse Baptist Church (Youth Building)\, 1140 BH Parrish Rd.\, Benson\, NC\, 27504\, United States
ATTACH;FMTTYPE=image/png:https://lbcworship.org/wp-content/uploads/2024/01/Sunday-Morning-Prayer-Meeting-1.png
GEO:35.5384515;-78.5626116
X-APPLE-STRUCTURED-LOCATION;VALUE=URI;X-ADDRESS=Lighthouse Baptist Church (Youth Building) 1140 BH Parrish Rd. Benson NC 27504 United States;X-APPLE-RADIUS=500;X-TITLE=1140 BH Parrish Rd.:geo:-78.5626116,35.5384515
END:VEVENT
BEGIN:VEVENT
DTSTART;TZID=America/New_York:20251102T100000
DTEND;TZID=America/New_York:20251102T113000
DTSTAMP:20260423T184819
CREATED:20250821T191414Z
LAST-MODIFIED:20260130T230623Z
UID:10002475-1762077600-1762083000@lbcworship.org
SUMMARY:LBC's Little Bitty Lights
DESCRIPTION:LBC’s Little Bitty Lights is our nursery for Children ages birth – 3 years. \nChildren are welcome to join us each Sunday in our nursery for a time of song and worship\, a brief Bible lesson\, and play time. \nIf you would like more information about our LBC Little Bitty Lights program\, or are interested in volunteering\, please contact Jenny Parrish.
URL:https://lbcworship.org/event/lbcs-little-bitty-lights/2025-11-02/
LOCATION:Lighthouse Baptist Church\, 1140 BH Parrish Rd\, Benson\, NC\, 27504\, United States
ATTACH;FMTTYPE=image/jpeg:https://lbcworship.org/wp-content/uploads/2021/07/LBC-LBL_Nursery-Header-scaled-e1714659643900.jpg
GEO:35.5384515;-78.5626116
X-APPLE-STRUCTURED-LOCATION;VALUE=URI;X-ADDRESS=Lighthouse Baptist Church 1140 BH Parrish Rd Benson NC 27504 United States;X-APPLE-RADIUS=500;X-TITLE=1140 BH Parrish Rd:geo:-78.5626116,35.5384515
END:VEVENT
BEGIN:VEVENT
DTSTART;TZID=America/New_York:20251105T183000
DTEND;TZID=America/New_York:20251105T200000
DTSTAMP:20260423T184819
CREATED:20250816T205508Z
LAST-MODIFIED:20260312T200002Z
UID:10002358-1762367400-1762372800@lbcworship.org
SUMMARY:Youth Group
DESCRIPTION:Youth in 6th grade through 12th grade meet in the Youth Room\, located upstairs in the Youth Building\, Wednesdays from 6:30pm-8pm. Join us each week for a time of music\, fellowship\, Bible study and games. \nOur Youth Group is currently working on the study\, “Experiencing God\,” the teen version\, by Daniel Blackaby and Mike Blackaby. \nNew to Youth Group? Register at https://bit.ly/LBCYGReg
URL:https://lbcworship.org/event/youth-group-2/2025-11-05/
LOCATION:Lighthouse Baptist Church (Youth Building)\, 1140 BH Parrish Rd.\, Benson\, NC\, 27504\, United States
CATEGORIES:Youth Group (6th-12th Grade)
ATTACH;FMTTYPE=image/png:https://lbcworship.org/wp-content/uploads/2024/09/LBC-Youth-Group-2023.png
GEO:35.5384515;-78.5626116
X-APPLE-STRUCTURED-LOCATION;VALUE=URI;X-ADDRESS=Lighthouse Baptist Church (Youth Building) 1140 BH Parrish Rd. Benson NC 27504 United States;X-APPLE-RADIUS=500;X-TITLE=1140 BH Parrish Rd.:geo:-78.5626116,35.5384515
END:VEVENT
BEGIN:VEVENT
DTSTART;TZID=America/New_York:20251105T184000
DTEND;TZID=America/New_York:20251105T200000
DTSTAMP:20260423T184819
CREATED:20250816T204312Z
LAST-MODIFIED:20260305T180029Z
UID:10002322-1762368000-1762372800@lbcworship.org
SUMMARY:Kudzu Kidz
DESCRIPTION:Join us every Wednesday evening from 6:40pm-8pm as we cover our world with the Gospel at Kudzu Kidz! Doors open for drop off at 6:30pm. \nKids learn about the Gospel of Jesus Christ every week in a fun and exciting environment with skits\, Bible lessons\, games\, and music! \nNew to attending? Register your child at https://bit.ly/LBCKudzuKidzReg \nKudzu Kidz will follow the Johnston County School System for holidays and closures.\nKudzu Kidz operates from September – May\, following the Johnston County School Calendar.
URL:https://lbcworship.org/event/kudzu-kidz-5/2025-11-05/
LOCATION:Lighthouse Baptist Church (Youth Building)\, 1140 BH Parrish Rd.\, Benson\, NC\, 27504\, United States
CATEGORIES:LBC Kids (PreK & Elementary)
ATTACH;FMTTYPE=image/png:https://lbcworship.org/wp-content/uploads/2025/08/Kudzu-Kidz-2526-1.png
GEO:35.5384515;-78.5626116
X-APPLE-STRUCTURED-LOCATION;VALUE=URI;X-ADDRESS=Lighthouse Baptist Church (Youth Building) 1140 BH Parrish Rd. Benson NC 27504 United States;X-APPLE-RADIUS=500;X-TITLE=1140 BH Parrish Rd.:geo:-78.5626116,35.5384515
END:VEVENT
BEGIN:VEVENT
DTSTART;TZID=America/New_York:20251109T093000
DTEND;TZID=America/New_York:20251109T095000
DTSTAMP:20260423T184819
CREATED:20250109T172558Z
LAST-MODIFIED:20250109T172603Z
UID:10002271-1762680600-1762681800@lbcworship.org
SUMMARY:Sunday Morning Prayer Meeting
DESCRIPTION:Gather in the conference room at 9:30am each Sunday for a time of prayer together before service begins.
URL:https://lbcworship.org/event/sunday-morning-prayer-meeting-2/2025-11-09/
LOCATION:Lighthouse Baptist Church (Youth Building)\, 1140 BH Parrish Rd.\, Benson\, NC\, 27504\, United States
ATTACH;FMTTYPE=image/png:https://lbcworship.org/wp-content/uploads/2024/01/Sunday-Morning-Prayer-Meeting-1.png
GEO:35.5384515;-78.5626116
X-APPLE-STRUCTURED-LOCATION;VALUE=URI;X-ADDRESS=Lighthouse Baptist Church (Youth Building) 1140 BH Parrish Rd. Benson NC 27504 United States;X-APPLE-RADIUS=500;X-TITLE=1140 BH Parrish Rd.:geo:-78.5626116,35.5384515
END:VEVENT
BEGIN:VEVENT
DTSTART;TZID=America/New_York:20251109T100000
DTEND;TZID=America/New_York:20251109T113000
DTSTAMP:20260423T184819
CREATED:20250821T191414Z
LAST-MODIFIED:20260130T230623Z
UID:10002476-1762682400-1762687800@lbcworship.org
SUMMARY:LBC's Little Bitty Lights
DESCRIPTION:LBC’s Little Bitty Lights is our nursery for Children ages birth – 3 years. \nChildren are welcome to join us each Sunday in our nursery for a time of song and worship\, a brief Bible lesson\, and play time. \nIf you would like more information about our LBC Little Bitty Lights program\, or are interested in volunteering\, please contact Jenny Parrish.
URL:https://lbcworship.org/event/lbcs-little-bitty-lights/2025-11-09/
LOCATION:Lighthouse Baptist Church\, 1140 BH Parrish Rd\, Benson\, NC\, 27504\, United States
ATTACH;FMTTYPE=image/jpeg:https://lbcworship.org/wp-content/uploads/2021/07/LBC-LBL_Nursery-Header-scaled-e1714659643900.jpg
GEO:35.5384515;-78.5626116
X-APPLE-STRUCTURED-LOCATION;VALUE=URI;X-ADDRESS=Lighthouse Baptist Church 1140 BH Parrish Rd Benson NC 27504 United States;X-APPLE-RADIUS=500;X-TITLE=1140 BH Parrish Rd:geo:-78.5626116,35.5384515
END:VEVENT
BEGIN:VEVENT
DTSTART;TZID=America/New_York:20251109T101500
DTEND;TZID=America/New_York:20251109T113000
DTSTAMP:20260423T184819
CREATED:20240418T155744Z
LAST-MODIFIED:20250821T191538Z
UID:10002446-1762683300-1762687800@lbcworship.org
SUMMARY:LBC's Little Lights
DESCRIPTION:Starting in February 2024\, our Little Lights program will only take place on the 2nd & 4th Sundays. We ask that our families join together for worship on all other Sundays. \nLBC’s Little Lights is our Children’s Church program for children ages 4 years – 5th grade. \nChildren start off in the sanctuary for a time of music and worship with the congregation and are then dismissed to Children’s Church after the first 2 songs during fellowship time. Please sign-in your child in the café before service begins\, or at time of dismissal. Children are then escorted to the gym for a Bible lesson\, worship\, crafts and games. \nIf this is your first time with us\, please fill out the registration form at the link below. Hard copies are also available at check-in. \nOur Little Lights program is optional\, as much as we would love to have your child join us\, we do understand if you are more comfortable keeping them with you in service and you are welcome to do so. \n<<Children’s Church Registration>>
URL:https://lbcworship.org/event/lbc-little-lights/2025-11-09/
LOCATION:Lighthouse Baptist Church\, 1140 BH Parrish Rd\, Benson\, NC\, 27504\, United States
ATTACH;FMTTYPE=image/png:https://lbcworship.org/wp-content/uploads/2024/04/LBC-LL_CC-Slide-Show2024.png
GEO:35.5384515;-78.5626116
X-APPLE-STRUCTURED-LOCATION;VALUE=URI;X-ADDRESS=Lighthouse Baptist Church 1140 BH Parrish Rd Benson NC 27504 United States;X-APPLE-RADIUS=500;X-TITLE=1140 BH Parrish Rd:geo:-78.5626116,35.5384515
END:VEVENT
BEGIN:VEVENT
DTSTART;TZID=America/New_York:20251109T111500
DTEND;TZID=America/New_York:20251109T113000
DTSTAMP:20260423T184819
CREATED:20251031T145137Z
LAST-MODIFIED:20251031T145137Z
UID:10002525-1762686900-1762687800@lbcworship.org
SUMMARY:Youth Retreat Attendee Meeting
DESCRIPTION:Youth and parents of youth who are attending the Fall Retreat 11/14-16\, please plan to stay after service Sunday\, November 9\, for a meeting to go over travel plans\, packing lists\, and more for the retreat. See Danny Holland with any questions or if you are unable to attend.
URL:https://lbcworship.org/event/youth-retreat-attendee-meeting/
LOCATION:Lighthouse Baptist Church\, 1140 BH Parrish Rd\, Benson\, NC\, 27504\, United States
CATEGORIES:Youth Group (6th-12th Grade)
ATTACH;FMTTYPE=image/png:https://lbcworship.org/wp-content/uploads/2025/10/Fall-Youth-Retreat-2025-Meeting.png
GEO:35.5384515;-78.5626116
X-APPLE-STRUCTURED-LOCATION;VALUE=URI;X-ADDRESS=Lighthouse Baptist Church 1140 BH Parrish Rd Benson NC 27504 United States;X-APPLE-RADIUS=500;X-TITLE=1140 BH Parrish Rd:geo:-78.5626116,35.5384515
END:VEVENT
BEGIN:VEVENT
DTSTART;TZID=America/New_York:20251111T100000
DTEND;TZID=America/New_York:20251111T120000
DTSTAMP:20260423T184819
CREATED:20251031T144615Z
LAST-MODIFIED:20251031T144615Z
UID:10002524-1762855200-1762862400@lbcworship.org
SUMMARY:Senior Saints' Brunch & Bingo
DESCRIPTION:Are you a person of advanced age but young at heart? Come join us for morning of fellowship and fun our Senior Saints’ Brunch & Bingo on Tuesday\, November 11 at 10am in the Youth Building! \nPlease sign up in the cafe or using the link below if you plan to attend so that we know how much food to prepare for brunch. See Teresa Wood or Dawn Hall with any questions. \n>>Click Here for Online Registration<<
URL:https://lbcworship.org/event/senior-saints-brunch-bingo/
LOCATION:Lighthouse Baptist Church (Youth Building)\, 1140 BH Parrish Rd.\, Benson\, NC\, 27504\, United States
CATEGORIES:Senior Saints
ATTACH;FMTTYPE=image/png:https://lbcworship.org/wp-content/uploads/2025/10/Senior-Saints-Bingo-Brunch-2.png
GEO:35.5384515;-78.5626116
X-APPLE-STRUCTURED-LOCATION;VALUE=URI;X-ADDRESS=Lighthouse Baptist Church (Youth Building) 1140 BH Parrish Rd. Benson NC 27504 United States;X-APPLE-RADIUS=500;X-TITLE=1140 BH Parrish Rd.:geo:-78.5626116,35.5384515
END:VEVENT
BEGIN:VEVENT
DTSTART;TZID=America/New_York:20251112T183000
DTEND;TZID=America/New_York:20251112T200000
DTSTAMP:20260423T184819
CREATED:20250816T205508Z
LAST-MODIFIED:20260312T200002Z
UID:10002359-1762972200-1762977600@lbcworship.org
SUMMARY:Youth Group
DESCRIPTION:Youth in 6th grade through 12th grade meet in the Youth Room\, located upstairs in the Youth Building\, Wednesdays from 6:30pm-8pm. Join us each week for a time of music\, fellowship\, Bible study and games. \nOur Youth Group is currently working on the study\, “Experiencing God\,” the teen version\, by Daniel Blackaby and Mike Blackaby. \nNew to Youth Group? Register at https://bit.ly/LBCYGReg
URL:https://lbcworship.org/event/youth-group-2/2025-11-12/
LOCATION:Lighthouse Baptist Church (Youth Building)\, 1140 BH Parrish Rd.\, Benson\, NC\, 27504\, United States
CATEGORIES:Youth Group (6th-12th Grade)
ATTACH;FMTTYPE=image/png:https://lbcworship.org/wp-content/uploads/2024/09/LBC-Youth-Group-2023.png
GEO:35.5384515;-78.5626116
X-APPLE-STRUCTURED-LOCATION;VALUE=URI;X-ADDRESS=Lighthouse Baptist Church (Youth Building) 1140 BH Parrish Rd. Benson NC 27504 United States;X-APPLE-RADIUS=500;X-TITLE=1140 BH Parrish Rd.:geo:-78.5626116,35.5384515
END:VEVENT
BEGIN:VEVENT
DTSTART;TZID=America/New_York:20251112T184000
DTEND;TZID=America/New_York:20251112T200000
DTSTAMP:20260423T184819
CREATED:20250816T204312Z
LAST-MODIFIED:20260305T180029Z
UID:10002323-1762972800-1762977600@lbcworship.org
SUMMARY:Kudzu Kidz
DESCRIPTION:Join us every Wednesday evening from 6:40pm-8pm as we cover our world with the Gospel at Kudzu Kidz! Doors open for drop off at 6:30pm. \nKids learn about the Gospel of Jesus Christ every week in a fun and exciting environment with skits\, Bible lessons\, games\, and music! \nNew to attending? Register your child at https://bit.ly/LBCKudzuKidzReg \nKudzu Kidz will follow the Johnston County School System for holidays and closures.\nKudzu Kidz operates from September – May\, following the Johnston County School Calendar.
URL:https://lbcworship.org/event/kudzu-kidz-5/2025-11-12/
LOCATION:Lighthouse Baptist Church (Youth Building)\, 1140 BH Parrish Rd.\, Benson\, NC\, 27504\, United States
CATEGORIES:LBC Kids (PreK & Elementary)
ATTACH;FMTTYPE=image/png:https://lbcworship.org/wp-content/uploads/2025/08/Kudzu-Kidz-2526-1.png
GEO:35.5384515;-78.5626116
X-APPLE-STRUCTURED-LOCATION;VALUE=URI;X-ADDRESS=Lighthouse Baptist Church (Youth Building) 1140 BH Parrish Rd. Benson NC 27504 United States;X-APPLE-RADIUS=500;X-TITLE=1140 BH Parrish Rd.:geo:-78.5626116,35.5384515
END:VEVENT
BEGIN:VEVENT
DTSTART;TZID=America/New_York:20251116T093000
DTEND;TZID=America/New_York:20251116T095000
DTSTAMP:20260423T184819
CREATED:20250109T172558Z
LAST-MODIFIED:20250109T172603Z
UID:10002272-1763285400-1763286600@lbcworship.org
SUMMARY:Sunday Morning Prayer Meeting
DESCRIPTION:Gather in the conference room at 9:30am each Sunday for a time of prayer together before service begins.
URL:https://lbcworship.org/event/sunday-morning-prayer-meeting-2/2025-11-16/
LOCATION:Lighthouse Baptist Church (Youth Building)\, 1140 BH Parrish Rd.\, Benson\, NC\, 27504\, United States
ATTACH;FMTTYPE=image/png:https://lbcworship.org/wp-content/uploads/2024/01/Sunday-Morning-Prayer-Meeting-1.png
GEO:35.5384515;-78.5626116
X-APPLE-STRUCTURED-LOCATION;VALUE=URI;X-ADDRESS=Lighthouse Baptist Church (Youth Building) 1140 BH Parrish Rd. Benson NC 27504 United States;X-APPLE-RADIUS=500;X-TITLE=1140 BH Parrish Rd.:geo:-78.5626116,35.5384515
END:VEVENT
BEGIN:VEVENT
DTSTART;TZID=America/New_York:20251116T100000
DTEND;TZID=America/New_York:20251116T113000
DTSTAMP:20260423T184819
CREATED:20250821T191414Z
LAST-MODIFIED:20260130T230623Z
UID:10002477-1763287200-1763292600@lbcworship.org
SUMMARY:LBC's Little Bitty Lights
DESCRIPTION:LBC’s Little Bitty Lights is our nursery for Children ages birth – 3 years. \nChildren are welcome to join us each Sunday in our nursery for a time of song and worship\, a brief Bible lesson\, and play time. \nIf you would like more information about our LBC Little Bitty Lights program\, or are interested in volunteering\, please contact Jenny Parrish.
URL:https://lbcworship.org/event/lbcs-little-bitty-lights/2025-11-16/
LOCATION:Lighthouse Baptist Church\, 1140 BH Parrish Rd\, Benson\, NC\, 27504\, United States
ATTACH;FMTTYPE=image/jpeg:https://lbcworship.org/wp-content/uploads/2021/07/LBC-LBL_Nursery-Header-scaled-e1714659643900.jpg
GEO:35.5384515;-78.5626116
X-APPLE-STRUCTURED-LOCATION;VALUE=URI;X-ADDRESS=Lighthouse Baptist Church 1140 BH Parrish Rd Benson NC 27504 United States;X-APPLE-RADIUS=500;X-TITLE=1140 BH Parrish Rd:geo:-78.5626116,35.5384515
END:VEVENT
BEGIN:VEVENT
DTSTART;TZID=America/New_York:20251116T101500
DTEND;TZID=America/New_York:20251116T113000
DTSTAMP:20260423T184819
CREATED:20251113T184913Z
LAST-MODIFIED:20251113T184913Z
UID:10002532-1763288100-1763292600@lbcworship.org
SUMMARY:LBC's Little Lights
DESCRIPTION:‼️Children’s Church (Little Lights) November Schedule Change‼️\n• Our 2nd lesson of the month with be THIS Sunday\, November 16 (instead of Sunday\, November 23)\n• Sunday\, November 23 we will have a Little Lights Trivia Tournament – Stay tuned for who they will be competing against and if they can win back the trophy!\n• Sunday\, November 30 there will be NO Little Lights. \nStarting in February 2024\, our Little Lights program will only take place on the 2nd & 4th Sundays. We ask that our families join together for worship on all other Sundays. \nLBC’s Little Lights is our Children’s Church program for children ages 4 years – 5th grade. \nChildren start off in the sanctuary for a time of music and worship with the congregation and are then dismissed to Children’s Church after the first 2 songs during fellowship time. Please sign-in your child in the café before service begins\, or at time of dismissal. Children are then escorted to the gym for a Bible lesson\, worship\, crafts and games. \nIf this is your first time with us\, please fill out the registration form at the link below. Hard copies are also available at check-in. \nOur Little Lights program is optional\, as much as we would love to have your child join us\, we do understand if you are more comfortable keeping them with you in service and you are welcome to do so. \n<<Children’s Church Registration>>
URL:https://lbcworship.org/event/lbcs-little-lights/
LOCATION:Lighthouse Baptist Church\, 1140 BH Parrish Rd\, Benson\, NC\, 27504\, United States
CATEGORIES:Children's Church
ATTACH;FMTTYPE=image/png:https://lbcworship.org/wp-content/uploads/2024/04/LBC-LL_CC-Slide-Show2024.png
GEO:35.5384515;-78.5626116
X-APPLE-STRUCTURED-LOCATION;VALUE=URI;X-ADDRESS=Lighthouse Baptist Church 1140 BH Parrish Rd Benson NC 27504 United States;X-APPLE-RADIUS=500;X-TITLE=1140 BH Parrish Rd:geo:-78.5626116,35.5384515
END:VEVENT
BEGIN:VEVENT
DTSTART;TZID=America/New_York:20251119T183000
DTEND;TZID=America/New_York:20251119T200000
DTSTAMP:20260423T184819
CREATED:20250816T205508Z
LAST-MODIFIED:20260312T200002Z
UID:10002360-1763577000-1763582400@lbcworship.org
SUMMARY:Youth Group
DESCRIPTION:Youth in 6th grade through 12th grade meet in the Youth Room\, located upstairs in the Youth Building\, Wednesdays from 6:30pm-8pm. Join us each week for a time of music\, fellowship\, Bible study and games. \nOur Youth Group is currently working on the study\, “Experiencing God\,” the teen version\, by Daniel Blackaby and Mike Blackaby. \nNew to Youth Group? Register at https://bit.ly/LBCYGReg
URL:https://lbcworship.org/event/youth-group-2/2025-11-19/
LOCATION:Lighthouse Baptist Church (Youth Building)\, 1140 BH Parrish Rd.\, Benson\, NC\, 27504\, United States
CATEGORIES:Youth Group (6th-12th Grade)
ATTACH;FMTTYPE=image/png:https://lbcworship.org/wp-content/uploads/2024/09/LBC-Youth-Group-2023.png
GEO:35.5384515;-78.5626116
X-APPLE-STRUCTURED-LOCATION;VALUE=URI;X-ADDRESS=Lighthouse Baptist Church (Youth Building) 1140 BH Parrish Rd. Benson NC 27504 United States;X-APPLE-RADIUS=500;X-TITLE=1140 BH Parrish Rd.:geo:-78.5626116,35.5384515
END:VEVENT
BEGIN:VEVENT
DTSTART;TZID=America/New_York:20251119T184000
DTEND;TZID=America/New_York:20251119T200000
DTSTAMP:20260423T184819
CREATED:20250816T204312Z
LAST-MODIFIED:20260305T180029Z
UID:10002324-1763577600-1763582400@lbcworship.org
SUMMARY:Kudzu Kidz
DESCRIPTION:Join us every Wednesday evening from 6:40pm-8pm as we cover our world with the Gospel at Kudzu Kidz! Doors open for drop off at 6:30pm. \nKids learn about the Gospel of Jesus Christ every week in a fun and exciting environment with skits\, Bible lessons\, games\, and music! \nNew to attending? Register your child at https://bit.ly/LBCKudzuKidzReg \nKudzu Kidz will follow the Johnston County School System for holidays and closures.\nKudzu Kidz operates from September – May\, following the Johnston County School Calendar.
URL:https://lbcworship.org/event/kudzu-kidz-5/2025-11-19/
LOCATION:Lighthouse Baptist Church (Youth Building)\, 1140 BH Parrish Rd.\, Benson\, NC\, 27504\, United States
CATEGORIES:LBC Kids (PreK & Elementary)
ATTACH;FMTTYPE=image/png:https://lbcworship.org/wp-content/uploads/2025/08/Kudzu-Kidz-2526-1.png
GEO:35.5384515;-78.5626116
X-APPLE-STRUCTURED-LOCATION;VALUE=URI;X-ADDRESS=Lighthouse Baptist Church (Youth Building) 1140 BH Parrish Rd. Benson NC 27504 United States;X-APPLE-RADIUS=500;X-TITLE=1140 BH Parrish Rd.:geo:-78.5626116,35.5384515
END:VEVENT
BEGIN:VEVENT
DTSTART;TZID=America/New_York:20251123T093000
DTEND;TZID=America/New_York:20251123T095000
DTSTAMP:20260423T184819
CREATED:20250109T172558Z
LAST-MODIFIED:20250109T172603Z
UID:10002273-1763890200-1763891400@lbcworship.org
SUMMARY:Sunday Morning Prayer Meeting
DESCRIPTION:Gather in the conference room at 9:30am each Sunday for a time of prayer together before service begins.
URL:https://lbcworship.org/event/sunday-morning-prayer-meeting-2/2025-11-23/
LOCATION:Lighthouse Baptist Church (Youth Building)\, 1140 BH Parrish Rd.\, Benson\, NC\, 27504\, United States
ATTACH;FMTTYPE=image/png:https://lbcworship.org/wp-content/uploads/2024/01/Sunday-Morning-Prayer-Meeting-1.png
GEO:35.5384515;-78.5626116
X-APPLE-STRUCTURED-LOCATION;VALUE=URI;X-ADDRESS=Lighthouse Baptist Church (Youth Building) 1140 BH Parrish Rd. Benson NC 27504 United States;X-APPLE-RADIUS=500;X-TITLE=1140 BH Parrish Rd.:geo:-78.5626116,35.5384515
END:VEVENT
BEGIN:VEVENT
DTSTART;TZID=America/New_York:20251123T100000
DTEND;TZID=America/New_York:20251123T113000
DTSTAMP:20260423T184819
CREATED:20250821T191414Z
LAST-MODIFIED:20260130T230623Z
UID:10002478-1763892000-1763897400@lbcworship.org
SUMMARY:LBC's Little Bitty Lights
DESCRIPTION:LBC’s Little Bitty Lights is our nursery for Children ages birth – 3 years. \nChildren are welcome to join us each Sunday in our nursery for a time of song and worship\, a brief Bible lesson\, and play time. \nIf you would like more information about our LBC Little Bitty Lights program\, or are interested in volunteering\, please contact Jenny Parrish.
URL:https://lbcworship.org/event/lbcs-little-bitty-lights/2025-11-23/
LOCATION:Lighthouse Baptist Church\, 1140 BH Parrish Rd\, Benson\, NC\, 27504\, United States
ATTACH;FMTTYPE=image/jpeg:https://lbcworship.org/wp-content/uploads/2021/07/LBC-LBL_Nursery-Header-scaled-e1714659643900.jpg
GEO:35.5384515;-78.5626116
X-APPLE-STRUCTURED-LOCATION;VALUE=URI;X-ADDRESS=Lighthouse Baptist Church 1140 BH Parrish Rd Benson NC 27504 United States;X-APPLE-RADIUS=500;X-TITLE=1140 BH Parrish Rd:geo:-78.5626116,35.5384515
END:VEVENT
BEGIN:VEVENT
DTSTART;TZID=America/New_York:20251123T101500
DTEND;TZID=America/New_York:20251123T113000
DTSTAMP:20260423T184819
CREATED:20251113T184734Z
LAST-MODIFIED:20260124T200135Z
UID:10002458-1763892900-1763897400@lbcworship.org
SUMMARY:LBC's Little Lights
DESCRIPTION:Starting in February 2024\, our Little Lights program will only take place on the 2nd & 4th Sundays. We ask that our families join together for worship on all other Sundays. \nLBC’s Little Lights is our Children’s Church program for children ages 4 years – 5th grade. \nChildren start off in the sanctuary for a time of music and worship with the congregation and are then dismissed to Children’s Church after the first 2 songs during fellowship time. Please sign-in your child in the café before service begins\, or at time of dismissal. Children are then escorted to the gym for a Bible lesson\, worship\, crafts and games. \nIf this is your first time with us\, please fill out the registration form at the link below. Hard copies are also available at check-in. \nOur Little Lights program is optional\, as much as we would love to have your child join us\, we do understand if you are more comfortable keeping them with you in service and you are welcome to do so. \n<<Children’s Church Registration>>
URL:https://lbcworship.org/event/lbc-little-lights-3-2/2025-11-23/
LOCATION:Lighthouse Baptist Church\, 1140 BH Parrish Rd\, Benson\, NC\, 27504\, United States
CATEGORIES:Children's Church
ATTACH;FMTTYPE=image/png:https://lbcworship.org/wp-content/uploads/2024/04/LBC-LL_CC-Slide-Show2024.png
GEO:35.5384515;-78.5626116
X-APPLE-STRUCTURED-LOCATION;VALUE=URI;X-ADDRESS=Lighthouse Baptist Church 1140 BH Parrish Rd Benson NC 27504 United States;X-APPLE-RADIUS=500;X-TITLE=1140 BH Parrish Rd:geo:-78.5626116,35.5384515
END:VEVENT
BEGIN:VEVENT
DTSTART;VALUE=DATE:20251126
DTEND;VALUE=DATE:20251127
DTSTAMP:20260423T184819
CREATED:20251113T154243Z
LAST-MODIFIED:20251113T154243Z
UID:10002527-1764115200-1764201599@lbcworship.org
SUMMARY:No Wednesday Programs: Happy Thanksgiving!
DESCRIPTION:There will be no Wednesday evening programs this week due to the Thanksgiving holiday. Enjoy some extra time with your family\, and join us for Sunday morning service at 10am! \nKuduz Kidz & Youth Group will resume as normal on Wednesday 12/3.
URL:https://lbcworship.org/event/no-wednesday-programs-happy-thanksgiving/
LOCATION:Lighthouse Baptist Church\, 1140 BH Parrish Rd\, Benson\, NC\, 27504\, United States
ATTACH;FMTTYPE=image/png:https://lbcworship.org/wp-content/uploads/2025/11/Thanksgiving-No-Wednesday-Programs-1.png
GEO:35.5384515;-78.5626116
X-APPLE-STRUCTURED-LOCATION;VALUE=URI;X-ADDRESS=Lighthouse Baptist Church 1140 BH Parrish Rd Benson NC 27504 United States;X-APPLE-RADIUS=500;X-TITLE=1140 BH Parrish Rd:geo:-78.5626116,35.5384515
END:VEVENT
BEGIN:VEVENT
DTSTART;TZID=America/New_York:20251130T093000
DTEND;TZID=America/New_York:20251130T095000
DTSTAMP:20260423T184819
CREATED:20250109T172558Z
LAST-MODIFIED:20250109T172603Z
UID:10002274-1764495000-1764496200@lbcworship.org
SUMMARY:Sunday Morning Prayer Meeting
DESCRIPTION:Gather in the conference room at 9:30am each Sunday for a time of prayer together before service begins.
URL:https://lbcworship.org/event/sunday-morning-prayer-meeting-2/2025-11-30/
LOCATION:Lighthouse Baptist Church (Youth Building)\, 1140 BH Parrish Rd.\, Benson\, NC\, 27504\, United States
ATTACH;FMTTYPE=image/png:https://lbcworship.org/wp-content/uploads/2024/01/Sunday-Morning-Prayer-Meeting-1.png
GEO:35.5384515;-78.5626116
X-APPLE-STRUCTURED-LOCATION;VALUE=URI;X-ADDRESS=Lighthouse Baptist Church (Youth Building) 1140 BH Parrish Rd. Benson NC 27504 United States;X-APPLE-RADIUS=500;X-TITLE=1140 BH Parrish Rd.:geo:-78.5626116,35.5384515
END:VEVENT
BEGIN:VEVENT
DTSTART;TZID=America/New_York:20251130T100000
DTEND;TZID=America/New_York:20251130T113000
DTSTAMP:20260423T184819
CREATED:20250821T191414Z
LAST-MODIFIED:20260130T230623Z
UID:10002479-1764496800-1764502200@lbcworship.org
SUMMARY:LBC's Little Bitty Lights
DESCRIPTION:LBC’s Little Bitty Lights is our nursery for Children ages birth – 3 years. \nChildren are welcome to join us each Sunday in our nursery for a time of song and worship\, a brief Bible lesson\, and play time. \nIf you would like more information about our LBC Little Bitty Lights program\, or are interested in volunteering\, please contact Jenny Parrish.
URL:https://lbcworship.org/event/lbcs-little-bitty-lights/2025-11-30/
LOCATION:Lighthouse Baptist Church\, 1140 BH Parrish Rd\, Benson\, NC\, 27504\, United States
ATTACH;FMTTYPE=image/jpeg:https://lbcworship.org/wp-content/uploads/2021/07/LBC-LBL_Nursery-Header-scaled-e1714659643900.jpg
GEO:35.5384515;-78.5626116
X-APPLE-STRUCTURED-LOCATION;VALUE=URI;X-ADDRESS=Lighthouse Baptist Church 1140 BH Parrish Rd Benson NC 27504 United States;X-APPLE-RADIUS=500;X-TITLE=1140 BH Parrish Rd:geo:-78.5626116,35.5384515
END:VEVENT
END:VCALENDAR