BEGIN:VCALENDAR
VERSION:2.0
PRODID:-//LBC Worship - ECPv6.15.20//NONSGML v1.0//EN
CALSCALE:GREGORIAN
METHOD:PUBLISH
X-WR-CALNAME:LBC Worship
X-ORIGINAL-URL:https://lbcworship.org
X-WR-CALDESC:Events for LBC Worship
REFRESH-INTERVAL;VALUE=DURATION:PT1H
X-Robots-Tag:noindex
X-PUBLISHED-TTL:PT1H
BEGIN:VTIMEZONE
TZID:America/New_York
BEGIN:DAYLIGHT
TZOFFSETFROM:-0500
TZOFFSETTO:-0400
TZNAME:EDT
DTSTART:20250309T070000
END:DAYLIGHT
BEGIN:STANDARD
TZOFFSETFROM:-0400
TZOFFSETTO:-0500
TZNAME:EST
DTSTART:20251102T060000
END:STANDARD
BEGIN:DAYLIGHT
TZOFFSETFROM:-0500
TZOFFSETTO:-0400
TZNAME:EDT
DTSTART:20260308T070000
END:DAYLIGHT
BEGIN:STANDARD
TZOFFSETFROM:-0400
TZOFFSETTO:-0500
TZNAME:EST
DTSTART:20261101T060000
END:STANDARD
BEGIN:DAYLIGHT
TZOFFSETFROM:-0500
TZOFFSETTO:-0400
TZNAME:EDT
DTSTART:20270314T070000
END:DAYLIGHT
BEGIN:STANDARD
TZOFFSETFROM:-0400
TZOFFSETTO:-0500
TZNAME:EST
DTSTART:20271107T060000
END:STANDARD
END:VTIMEZONE
BEGIN:VEVENT
DTSTART;TZID=America/New_York:20260426T100000
DTEND;TZID=America/New_York:20260426T113000
DTSTAMP:20260423T103521
CREATED:20250821T191414Z
LAST-MODIFIED:20260130T230623Z
UID:10002500-1777197600-1777203000@lbcworship.org
SUMMARY:LBC's Little Bitty Lights
DESCRIPTION:LBC’s Little Bitty Lights is our nursery for Children ages birth – 3 years. \nChildren are welcome to join us each Sunday in our nursery for a time of song and worship\, a brief Bible lesson\, and play time. \nIf you would like more information about our LBC Little Bitty Lights program\, or are interested in volunteering\, please contact Jenny Parrish.
URL:https://lbcworship.org/event/lbcs-little-bitty-lights/2026-04-26/
LOCATION:Lighthouse Baptist Church\, 1140 BH Parrish Rd\, Benson\, NC\, 27504\, United States
ATTACH;FMTTYPE=image/jpeg:https://lbcworship.org/wp-content/uploads/2021/07/LBC-LBL_Nursery-Header-scaled-e1714659643900.jpg
GEO:35.5384515;-78.5626116
X-APPLE-STRUCTURED-LOCATION;VALUE=URI;X-ADDRESS=Lighthouse Baptist Church 1140 BH Parrish Rd Benson NC 27504 United States;X-APPLE-RADIUS=500;X-TITLE=1140 BH Parrish Rd:geo:-78.5626116,35.5384515
END:VEVENT
BEGIN:VEVENT
DTSTART;TZID=America/New_York:20260503T100000
DTEND;TZID=America/New_York:20260503T113000
DTSTAMP:20260423T103521
CREATED:20250821T191414Z
LAST-MODIFIED:20260130T230623Z
UID:10002501-1777802400-1777807800@lbcworship.org
SUMMARY:LBC's Little Bitty Lights
DESCRIPTION:LBC’s Little Bitty Lights is our nursery for Children ages birth – 3 years. \nChildren are welcome to join us each Sunday in our nursery for a time of song and worship\, a brief Bible lesson\, and play time. \nIf you would like more information about our LBC Little Bitty Lights program\, or are interested in volunteering\, please contact Jenny Parrish.
URL:https://lbcworship.org/event/lbcs-little-bitty-lights/2026-05-03/
LOCATION:Lighthouse Baptist Church\, 1140 BH Parrish Rd\, Benson\, NC\, 27504\, United States
ATTACH;FMTTYPE=image/jpeg:https://lbcworship.org/wp-content/uploads/2021/07/LBC-LBL_Nursery-Header-scaled-e1714659643900.jpg
GEO:35.5384515;-78.5626116
X-APPLE-STRUCTURED-LOCATION;VALUE=URI;X-ADDRESS=Lighthouse Baptist Church 1140 BH Parrish Rd Benson NC 27504 United States;X-APPLE-RADIUS=500;X-TITLE=1140 BH Parrish Rd:geo:-78.5626116,35.5384515
END:VEVENT
BEGIN:VEVENT
DTSTART;TZID=America/New_York:20260510T100000
DTEND;TZID=America/New_York:20260510T113000
DTSTAMP:20260423T103521
CREATED:20250821T191414Z
LAST-MODIFIED:20260130T230623Z
UID:10002502-1778407200-1778412600@lbcworship.org
SUMMARY:LBC's Little Bitty Lights
DESCRIPTION:LBC’s Little Bitty Lights is our nursery for Children ages birth – 3 years. \nChildren are welcome to join us each Sunday in our nursery for a time of song and worship\, a brief Bible lesson\, and play time. \nIf you would like more information about our LBC Little Bitty Lights program\, or are interested in volunteering\, please contact Jenny Parrish.
URL:https://lbcworship.org/event/lbcs-little-bitty-lights/2026-05-10/
LOCATION:Lighthouse Baptist Church\, 1140 BH Parrish Rd\, Benson\, NC\, 27504\, United States
ATTACH;FMTTYPE=image/jpeg:https://lbcworship.org/wp-content/uploads/2021/07/LBC-LBL_Nursery-Header-scaled-e1714659643900.jpg
GEO:35.5384515;-78.5626116
X-APPLE-STRUCTURED-LOCATION;VALUE=URI;X-ADDRESS=Lighthouse Baptist Church 1140 BH Parrish Rd Benson NC 27504 United States;X-APPLE-RADIUS=500;X-TITLE=1140 BH Parrish Rd:geo:-78.5626116,35.5384515
END:VEVENT
BEGIN:VEVENT
DTSTART;TZID=America/New_York:20260517T100000
DTEND;TZID=America/New_York:20260517T113000
DTSTAMP:20260423T103521
CREATED:20250821T191414Z
LAST-MODIFIED:20260130T230623Z
UID:10002503-1779012000-1779017400@lbcworship.org
SUMMARY:LBC's Little Bitty Lights
DESCRIPTION:LBC’s Little Bitty Lights is our nursery for Children ages birth – 3 years. \nChildren are welcome to join us each Sunday in our nursery for a time of song and worship\, a brief Bible lesson\, and play time. \nIf you would like more information about our LBC Little Bitty Lights program\, or are interested in volunteering\, please contact Jenny Parrish.
URL:https://lbcworship.org/event/lbcs-little-bitty-lights/2026-05-17/
LOCATION:Lighthouse Baptist Church\, 1140 BH Parrish Rd\, Benson\, NC\, 27504\, United States
ATTACH;FMTTYPE=image/jpeg:https://lbcworship.org/wp-content/uploads/2021/07/LBC-LBL_Nursery-Header-scaled-e1714659643900.jpg
GEO:35.5384515;-78.5626116
X-APPLE-STRUCTURED-LOCATION;VALUE=URI;X-ADDRESS=Lighthouse Baptist Church 1140 BH Parrish Rd Benson NC 27504 United States;X-APPLE-RADIUS=500;X-TITLE=1140 BH Parrish Rd:geo:-78.5626116,35.5384515
END:VEVENT
BEGIN:VEVENT
DTSTART;TZID=America/New_York:20260524T100000
DTEND;TZID=America/New_York:20260524T113000
DTSTAMP:20260423T103521
CREATED:20250821T191414Z
LAST-MODIFIED:20260130T230623Z
UID:10002504-1779616800-1779622200@lbcworship.org
SUMMARY:LBC's Little Bitty Lights
DESCRIPTION:LBC’s Little Bitty Lights is our nursery for Children ages birth – 3 years. \nChildren are welcome to join us each Sunday in our nursery for a time of song and worship\, a brief Bible lesson\, and play time. \nIf you would like more information about our LBC Little Bitty Lights program\, or are interested in volunteering\, please contact Jenny Parrish.
URL:https://lbcworship.org/event/lbcs-little-bitty-lights/2026-05-24/
LOCATION:Lighthouse Baptist Church\, 1140 BH Parrish Rd\, Benson\, NC\, 27504\, United States
ATTACH;FMTTYPE=image/jpeg:https://lbcworship.org/wp-content/uploads/2021/07/LBC-LBL_Nursery-Header-scaled-e1714659643900.jpg
GEO:35.5384515;-78.5626116
X-APPLE-STRUCTURED-LOCATION;VALUE=URI;X-ADDRESS=Lighthouse Baptist Church 1140 BH Parrish Rd Benson NC 27504 United States;X-APPLE-RADIUS=500;X-TITLE=1140 BH Parrish Rd:geo:-78.5626116,35.5384515
END:VEVENT
BEGIN:VEVENT
DTSTART;TZID=America/New_York:20260531T100000
DTEND;TZID=America/New_York:20260531T113000
DTSTAMP:20260423T103521
CREATED:20250821T191414Z
LAST-MODIFIED:20260130T230623Z
UID:10002505-1780221600-1780227000@lbcworship.org
SUMMARY:LBC's Little Bitty Lights
DESCRIPTION:LBC’s Little Bitty Lights is our nursery for Children ages birth – 3 years. \nChildren are welcome to join us each Sunday in our nursery for a time of song and worship\, a brief Bible lesson\, and play time. \nIf you would like more information about our LBC Little Bitty Lights program\, or are interested in volunteering\, please contact Jenny Parrish.
URL:https://lbcworship.org/event/lbcs-little-bitty-lights/2026-05-31/
LOCATION:Lighthouse Baptist Church\, 1140 BH Parrish Rd\, Benson\, NC\, 27504\, United States
ATTACH;FMTTYPE=image/jpeg:https://lbcworship.org/wp-content/uploads/2021/07/LBC-LBL_Nursery-Header-scaled-e1714659643900.jpg
GEO:35.5384515;-78.5626116
X-APPLE-STRUCTURED-LOCATION;VALUE=URI;X-ADDRESS=Lighthouse Baptist Church 1140 BH Parrish Rd Benson NC 27504 United States;X-APPLE-RADIUS=500;X-TITLE=1140 BH Parrish Rd:geo:-78.5626116,35.5384515
END:VEVENT
BEGIN:VEVENT
DTSTART;TZID=America/New_York:20260607T100000
DTEND;TZID=America/New_York:20260607T113000
DTSTAMP:20260423T103521
CREATED:20250821T191414Z
LAST-MODIFIED:20260130T230623Z
UID:10002506-1780826400-1780831800@lbcworship.org
SUMMARY:LBC's Little Bitty Lights
DESCRIPTION:LBC’s Little Bitty Lights is our nursery for Children ages birth – 3 years. \nChildren are welcome to join us each Sunday in our nursery for a time of song and worship\, a brief Bible lesson\, and play time. \nIf you would like more information about our LBC Little Bitty Lights program\, or are interested in volunteering\, please contact Jenny Parrish.
URL:https://lbcworship.org/event/lbcs-little-bitty-lights/2026-06-07/
LOCATION:Lighthouse Baptist Church\, 1140 BH Parrish Rd\, Benson\, NC\, 27504\, United States
ATTACH;FMTTYPE=image/jpeg:https://lbcworship.org/wp-content/uploads/2021/07/LBC-LBL_Nursery-Header-scaled-e1714659643900.jpg
GEO:35.5384515;-78.5626116
X-APPLE-STRUCTURED-LOCATION;VALUE=URI;X-ADDRESS=Lighthouse Baptist Church 1140 BH Parrish Rd Benson NC 27504 United States;X-APPLE-RADIUS=500;X-TITLE=1140 BH Parrish Rd:geo:-78.5626116,35.5384515
END:VEVENT
BEGIN:VEVENT
DTSTART;TZID=America/New_York:20260614T100000
DTEND;TZID=America/New_York:20260614T113000
DTSTAMP:20260423T103521
CREATED:20250821T191414Z
LAST-MODIFIED:20260130T230623Z
UID:10002507-1781431200-1781436600@lbcworship.org
SUMMARY:LBC's Little Bitty Lights
DESCRIPTION:LBC’s Little Bitty Lights is our nursery for Children ages birth – 3 years. \nChildren are welcome to join us each Sunday in our nursery for a time of song and worship\, a brief Bible lesson\, and play time. \nIf you would like more information about our LBC Little Bitty Lights program\, or are interested in volunteering\, please contact Jenny Parrish.
URL:https://lbcworship.org/event/lbcs-little-bitty-lights/2026-06-14/
LOCATION:Lighthouse Baptist Church\, 1140 BH Parrish Rd\, Benson\, NC\, 27504\, United States
ATTACH;FMTTYPE=image/jpeg:https://lbcworship.org/wp-content/uploads/2021/07/LBC-LBL_Nursery-Header-scaled-e1714659643900.jpg
GEO:35.5384515;-78.5626116
X-APPLE-STRUCTURED-LOCATION;VALUE=URI;X-ADDRESS=Lighthouse Baptist Church 1140 BH Parrish Rd Benson NC 27504 United States;X-APPLE-RADIUS=500;X-TITLE=1140 BH Parrish Rd:geo:-78.5626116,35.5384515
END:VEVENT
BEGIN:VEVENT
DTSTART;TZID=America/New_York:20260621T100000
DTEND;TZID=America/New_York:20260621T113000
DTSTAMP:20260423T103521
CREATED:20250821T191414Z
LAST-MODIFIED:20260130T230623Z
UID:10002508-1782036000-1782041400@lbcworship.org
SUMMARY:LBC's Little Bitty Lights
DESCRIPTION:LBC’s Little Bitty Lights is our nursery for Children ages birth – 3 years. \nChildren are welcome to join us each Sunday in our nursery for a time of song and worship\, a brief Bible lesson\, and play time. \nIf you would like more information about our LBC Little Bitty Lights program\, or are interested in volunteering\, please contact Jenny Parrish.
URL:https://lbcworship.org/event/lbcs-little-bitty-lights/2026-06-21/
LOCATION:Lighthouse Baptist Church\, 1140 BH Parrish Rd\, Benson\, NC\, 27504\, United States
ATTACH;FMTTYPE=image/jpeg:https://lbcworship.org/wp-content/uploads/2021/07/LBC-LBL_Nursery-Header-scaled-e1714659643900.jpg
GEO:35.5384515;-78.5626116
X-APPLE-STRUCTURED-LOCATION;VALUE=URI;X-ADDRESS=Lighthouse Baptist Church 1140 BH Parrish Rd Benson NC 27504 United States;X-APPLE-RADIUS=500;X-TITLE=1140 BH Parrish Rd:geo:-78.5626116,35.5384515
END:VEVENT
BEGIN:VEVENT
DTSTART;TZID=America/New_York:20260628T100000
DTEND;TZID=America/New_York:20260628T113000
DTSTAMP:20260423T103521
CREATED:20250821T191414Z
LAST-MODIFIED:20260130T230623Z
UID:10002509-1782640800-1782646200@lbcworship.org
SUMMARY:LBC's Little Bitty Lights
DESCRIPTION:LBC’s Little Bitty Lights is our nursery for Children ages birth – 3 years. \nChildren are welcome to join us each Sunday in our nursery for a time of song and worship\, a brief Bible lesson\, and play time. \nIf you would like more information about our LBC Little Bitty Lights program\, or are interested in volunteering\, please contact Jenny Parrish.
URL:https://lbcworship.org/event/lbcs-little-bitty-lights/2026-06-28/
LOCATION:Lighthouse Baptist Church\, 1140 BH Parrish Rd\, Benson\, NC\, 27504\, United States
ATTACH;FMTTYPE=image/jpeg:https://lbcworship.org/wp-content/uploads/2021/07/LBC-LBL_Nursery-Header-scaled-e1714659643900.jpg
GEO:35.5384515;-78.5626116
X-APPLE-STRUCTURED-LOCATION;VALUE=URI;X-ADDRESS=Lighthouse Baptist Church 1140 BH Parrish Rd Benson NC 27504 United States;X-APPLE-RADIUS=500;X-TITLE=1140 BH Parrish Rd:geo:-78.5626116,35.5384515
END:VEVENT
BEGIN:VEVENT
DTSTART;TZID=America/New_York:20260705T100000
DTEND;TZID=America/New_York:20260705T113000
DTSTAMP:20260423T103521
CREATED:20250821T191414Z
LAST-MODIFIED:20260130T230623Z
UID:10002510-1783245600-1783251000@lbcworship.org
SUMMARY:LBC's Little Bitty Lights
DESCRIPTION:LBC’s Little Bitty Lights is our nursery for Children ages birth – 3 years. \nChildren are welcome to join us each Sunday in our nursery for a time of song and worship\, a brief Bible lesson\, and play time. \nIf you would like more information about our LBC Little Bitty Lights program\, or are interested in volunteering\, please contact Jenny Parrish.
URL:https://lbcworship.org/event/lbcs-little-bitty-lights/2026-07-05/
LOCATION:Lighthouse Baptist Church\, 1140 BH Parrish Rd\, Benson\, NC\, 27504\, United States
ATTACH;FMTTYPE=image/jpeg:https://lbcworship.org/wp-content/uploads/2021/07/LBC-LBL_Nursery-Header-scaled-e1714659643900.jpg
GEO:35.5384515;-78.5626116
X-APPLE-STRUCTURED-LOCATION;VALUE=URI;X-ADDRESS=Lighthouse Baptist Church 1140 BH Parrish Rd Benson NC 27504 United States;X-APPLE-RADIUS=500;X-TITLE=1140 BH Parrish Rd:geo:-78.5626116,35.5384515
END:VEVENT
BEGIN:VEVENT
DTSTART;TZID=America/New_York:20260712T100000
DTEND;TZID=America/New_York:20260712T113000
DTSTAMP:20260423T103521
CREATED:20250821T191414Z
LAST-MODIFIED:20260130T230623Z
UID:10002511-1783850400-1783855800@lbcworship.org
SUMMARY:LBC's Little Bitty Lights
DESCRIPTION:LBC’s Little Bitty Lights is our nursery for Children ages birth – 3 years. \nChildren are welcome to join us each Sunday in our nursery for a time of song and worship\, a brief Bible lesson\, and play time. \nIf you would like more information about our LBC Little Bitty Lights program\, or are interested in volunteering\, please contact Jenny Parrish.
URL:https://lbcworship.org/event/lbcs-little-bitty-lights/2026-07-12/
LOCATION:Lighthouse Baptist Church\, 1140 BH Parrish Rd\, Benson\, NC\, 27504\, United States
ATTACH;FMTTYPE=image/jpeg:https://lbcworship.org/wp-content/uploads/2021/07/LBC-LBL_Nursery-Header-scaled-e1714659643900.jpg
GEO:35.5384515;-78.5626116
X-APPLE-STRUCTURED-LOCATION;VALUE=URI;X-ADDRESS=Lighthouse Baptist Church 1140 BH Parrish Rd Benson NC 27504 United States;X-APPLE-RADIUS=500;X-TITLE=1140 BH Parrish Rd:geo:-78.5626116,35.5384515
END:VEVENT
BEGIN:VEVENT
DTSTART;TZID=America/New_York:20260719T100000
DTEND;TZID=America/New_York:20260719T113000
DTSTAMP:20260423T103521
CREATED:20250821T191414Z
LAST-MODIFIED:20260130T230623Z
UID:10002512-1784455200-1784460600@lbcworship.org
SUMMARY:LBC's Little Bitty Lights
DESCRIPTION:LBC’s Little Bitty Lights is our nursery for Children ages birth – 3 years. \nChildren are welcome to join us each Sunday in our nursery for a time of song and worship\, a brief Bible lesson\, and play time. \nIf you would like more information about our LBC Little Bitty Lights program\, or are interested in volunteering\, please contact Jenny Parrish.
URL:https://lbcworship.org/event/lbcs-little-bitty-lights/2026-07-19/
LOCATION:Lighthouse Baptist Church\, 1140 BH Parrish Rd\, Benson\, NC\, 27504\, United States
ATTACH;FMTTYPE=image/jpeg:https://lbcworship.org/wp-content/uploads/2021/07/LBC-LBL_Nursery-Header-scaled-e1714659643900.jpg
GEO:35.5384515;-78.5626116
X-APPLE-STRUCTURED-LOCATION;VALUE=URI;X-ADDRESS=Lighthouse Baptist Church 1140 BH Parrish Rd Benson NC 27504 United States;X-APPLE-RADIUS=500;X-TITLE=1140 BH Parrish Rd:geo:-78.5626116,35.5384515
END:VEVENT
BEGIN:VEVENT
DTSTART;TZID=America/New_York:20260726T100000
DTEND;TZID=America/New_York:20260726T113000
DTSTAMP:20260423T103521
CREATED:20250821T191414Z
LAST-MODIFIED:20260130T230623Z
UID:10002513-1785060000-1785065400@lbcworship.org
SUMMARY:LBC's Little Bitty Lights
DESCRIPTION:LBC’s Little Bitty Lights is our nursery for Children ages birth – 3 years. \nChildren are welcome to join us each Sunday in our nursery for a time of song and worship\, a brief Bible lesson\, and play time. \nIf you would like more information about our LBC Little Bitty Lights program\, or are interested in volunteering\, please contact Jenny Parrish.
URL:https://lbcworship.org/event/lbcs-little-bitty-lights/2026-07-26/
LOCATION:Lighthouse Baptist Church\, 1140 BH Parrish Rd\, Benson\, NC\, 27504\, United States
ATTACH;FMTTYPE=image/jpeg:https://lbcworship.org/wp-content/uploads/2021/07/LBC-LBL_Nursery-Header-scaled-e1714659643900.jpg
GEO:35.5384515;-78.5626116
X-APPLE-STRUCTURED-LOCATION;VALUE=URI;X-ADDRESS=Lighthouse Baptist Church 1140 BH Parrish Rd Benson NC 27504 United States;X-APPLE-RADIUS=500;X-TITLE=1140 BH Parrish Rd:geo:-78.5626116,35.5384515
END:VEVENT
BEGIN:VEVENT
DTSTART;TZID=America/New_York:20260802T100000
DTEND;TZID=America/New_York:20260802T113000
DTSTAMP:20260423T103521
CREATED:20250821T191414Z
LAST-MODIFIED:20260130T230623Z
UID:10002514-1785664800-1785670200@lbcworship.org
SUMMARY:LBC's Little Bitty Lights
DESCRIPTION:LBC’s Little Bitty Lights is our nursery for Children ages birth – 3 years. \nChildren are welcome to join us each Sunday in our nursery for a time of song and worship\, a brief Bible lesson\, and play time. \nIf you would like more information about our LBC Little Bitty Lights program\, or are interested in volunteering\, please contact Jenny Parrish.
URL:https://lbcworship.org/event/lbcs-little-bitty-lights/2026-08-02/
LOCATION:Lighthouse Baptist Church\, 1140 BH Parrish Rd\, Benson\, NC\, 27504\, United States
ATTACH;FMTTYPE=image/jpeg:https://lbcworship.org/wp-content/uploads/2021/07/LBC-LBL_Nursery-Header-scaled-e1714659643900.jpg
GEO:35.5384515;-78.5626116
X-APPLE-STRUCTURED-LOCATION;VALUE=URI;X-ADDRESS=Lighthouse Baptist Church 1140 BH Parrish Rd Benson NC 27504 United States;X-APPLE-RADIUS=500;X-TITLE=1140 BH Parrish Rd:geo:-78.5626116,35.5384515
END:VEVENT
BEGIN:VEVENT
DTSTART;TZID=America/New_York:20260809T100000
DTEND;TZID=America/New_York:20260809T113000
DTSTAMP:20260423T103521
CREATED:20250821T191414Z
LAST-MODIFIED:20260130T230623Z
UID:10002515-1786269600-1786275000@lbcworship.org
SUMMARY:LBC's Little Bitty Lights
DESCRIPTION:LBC’s Little Bitty Lights is our nursery for Children ages birth – 3 years. \nChildren are welcome to join us each Sunday in our nursery for a time of song and worship\, a brief Bible lesson\, and play time. \nIf you would like more information about our LBC Little Bitty Lights program\, or are interested in volunteering\, please contact Jenny Parrish.
URL:https://lbcworship.org/event/lbcs-little-bitty-lights/2026-08-09/
LOCATION:Lighthouse Baptist Church\, 1140 BH Parrish Rd\, Benson\, NC\, 27504\, United States
ATTACH;FMTTYPE=image/jpeg:https://lbcworship.org/wp-content/uploads/2021/07/LBC-LBL_Nursery-Header-scaled-e1714659643900.jpg
GEO:35.5384515;-78.5626116
X-APPLE-STRUCTURED-LOCATION;VALUE=URI;X-ADDRESS=Lighthouse Baptist Church 1140 BH Parrish Rd Benson NC 27504 United States;X-APPLE-RADIUS=500;X-TITLE=1140 BH Parrish Rd:geo:-78.5626116,35.5384515
END:VEVENT
BEGIN:VEVENT
DTSTART;TZID=America/New_York:20260816T100000
DTEND;TZID=America/New_York:20260816T113000
DTSTAMP:20260423T103521
CREATED:20250821T191414Z
LAST-MODIFIED:20260130T230623Z
UID:10002516-1786874400-1786879800@lbcworship.org
SUMMARY:LBC's Little Bitty Lights
DESCRIPTION:LBC’s Little Bitty Lights is our nursery for Children ages birth – 3 years. \nChildren are welcome to join us each Sunday in our nursery for a time of song and worship\, a brief Bible lesson\, and play time. \nIf you would like more information about our LBC Little Bitty Lights program\, or are interested in volunteering\, please contact Jenny Parrish.
URL:https://lbcworship.org/event/lbcs-little-bitty-lights/2026-08-16/
LOCATION:Lighthouse Baptist Church\, 1140 BH Parrish Rd\, Benson\, NC\, 27504\, United States
ATTACH;FMTTYPE=image/jpeg:https://lbcworship.org/wp-content/uploads/2021/07/LBC-LBL_Nursery-Header-scaled-e1714659643900.jpg
GEO:35.5384515;-78.5626116
X-APPLE-STRUCTURED-LOCATION;VALUE=URI;X-ADDRESS=Lighthouse Baptist Church 1140 BH Parrish Rd Benson NC 27504 United States;X-APPLE-RADIUS=500;X-TITLE=1140 BH Parrish Rd:geo:-78.5626116,35.5384515
END:VEVENT
BEGIN:VEVENT
DTSTART;TZID=America/New_York:20260823T100000
DTEND;TZID=America/New_York:20260823T113000
DTSTAMP:20260423T103521
CREATED:20250821T191414Z
LAST-MODIFIED:20260130T230623Z
UID:10002517-1787479200-1787484600@lbcworship.org
SUMMARY:LBC's Little Bitty Lights
DESCRIPTION:LBC’s Little Bitty Lights is our nursery for Children ages birth – 3 years. \nChildren are welcome to join us each Sunday in our nursery for a time of song and worship\, a brief Bible lesson\, and play time. \nIf you would like more information about our LBC Little Bitty Lights program\, or are interested in volunteering\, please contact Jenny Parrish.
URL:https://lbcworship.org/event/lbcs-little-bitty-lights/2026-08-23/
LOCATION:Lighthouse Baptist Church\, 1140 BH Parrish Rd\, Benson\, NC\, 27504\, United States
ATTACH;FMTTYPE=image/jpeg:https://lbcworship.org/wp-content/uploads/2021/07/LBC-LBL_Nursery-Header-scaled-e1714659643900.jpg
GEO:35.5384515;-78.5626116
X-APPLE-STRUCTURED-LOCATION;VALUE=URI;X-ADDRESS=Lighthouse Baptist Church 1140 BH Parrish Rd Benson NC 27504 United States;X-APPLE-RADIUS=500;X-TITLE=1140 BH Parrish Rd:geo:-78.5626116,35.5384515
END:VEVENT
END:VCALENDAR